BEGIN:VCALENDAR
VERSION:2.0
PRODID:-//New Jersey Al-Anon Family Groups - ECPv6.15.20//NONSGML v1.0//EN
CALSCALE:GREGORIAN
METHOD:PUBLISH
X-ORIGINAL-URL:https://nj-al-anon.org
X-WR-CALDESC:Events for New Jersey Al-Anon Family Groups
REFRESH-INTERVAL;VALUE=DURATION:PT1H
X-Robots-Tag:noindex
X-PUBLISHED-TTL:PT1H
BEGIN:VTIMEZONE
TZID:America/New_York
BEGIN:DAYLIGHT
TZOFFSETFROM:-0500
TZOFFSETTO:-0400
TZNAME:EDT
DTSTART:20190310T070000
END:DAYLIGHT
BEGIN:STANDARD
TZOFFSETFROM:-0400
TZOFFSETTO:-0500
TZNAME:EST
DTSTART:20191103T060000
END:STANDARD
BEGIN:DAYLIGHT
TZOFFSETFROM:-0500
TZOFFSETTO:-0400
TZNAME:EDT
DTSTART:20200308T070000
END:DAYLIGHT
BEGIN:STANDARD
TZOFFSETFROM:-0400
TZOFFSETTO:-0500
TZNAME:EST
DTSTART:20201101T060000
END:STANDARD
BEGIN:DAYLIGHT
TZOFFSETFROM:-0500
TZOFFSETTO:-0400
TZNAME:EDT
DTSTART:20210314T070000
END:DAYLIGHT
BEGIN:STANDARD
TZOFFSETFROM:-0400
TZOFFSETTO:-0500
TZNAME:EST
DTSTART:20211107T060000
END:STANDARD
END:VTIMEZONE
BEGIN:VEVENT
DTSTART;TZID=America/New_York:20201010T100000
DTEND;TZID=America/New_York:20201010T143000
DTSTAMP:20260425T105540
CREATED:20200923T054642Z
LAST-MODIFIED:20200923T055037Z
UID:2642-1602324000-1602340200@nj-al-anon.org
SUMMARY:Unity\, Resilience\, Recovery Alive & Well in Al-Anon: Annual District 20/21 Unity Day - VIRTUAL
DESCRIPTION:NJ Al-Anon Family Groups – District 20/21’s Annual Unity Day \nUnity\, Resilience\, Recovery \nAlive & Well in Al-Anon! \nFellowship & Speakers \nMore information\, including schedule and login credentials. \n 
URL:https://nj-al-anon.org/event/unity-resilience-recovery-alive-well-in-al-anon-district-20-21-annual-unity-day-virtual/
LOCATION:Zoom (see meeting link and password in Alagram above)
CATEGORIES:Anniversary Meeting,Fellowship,Speakers
END:VEVENT
END:VCALENDAR