BEGIN:VCALENDAR
VERSION:2.0
PRODID:-//New Jersey Al-Anon Family Groups - ECPv6.15.20//NONSGML v1.0//EN
CALSCALE:GREGORIAN
METHOD:PUBLISH
X-ORIGINAL-URL:https://nj-al-anon.org
X-WR-CALDESC:Events for New Jersey Al-Anon Family Groups
REFRESH-INTERVAL;VALUE=DURATION:PT1H
X-Robots-Tag:noindex
X-PUBLISHED-TTL:PT1H
BEGIN:VTIMEZONE
TZID:America/New_York
BEGIN:DAYLIGHT
TZOFFSETFROM:-0500
TZOFFSETTO:-0400
TZNAME:EDT
DTSTART:20230312T070000
END:DAYLIGHT
BEGIN:STANDARD
TZOFFSETFROM:-0400
TZOFFSETTO:-0500
TZNAME:EST
DTSTART:20231105T060000
END:STANDARD
BEGIN:DAYLIGHT
TZOFFSETFROM:-0500
TZOFFSETTO:-0400
TZNAME:EDT
DTSTART:20240310T070000
END:DAYLIGHT
BEGIN:STANDARD
TZOFFSETFROM:-0400
TZOFFSETTO:-0500
TZNAME:EST
DTSTART:20241103T060000
END:STANDARD
BEGIN:DAYLIGHT
TZOFFSETFROM:-0500
TZOFFSETTO:-0400
TZNAME:EDT
DTSTART:20250309T070000
END:DAYLIGHT
BEGIN:STANDARD
TZOFFSETFROM:-0400
TZOFFSETTO:-0500
TZNAME:EST
DTSTART:20251102T060000
END:STANDARD
END:VTIMEZONE
BEGIN:VEVENT
DTSTART;TZID=America/New_York:20240601T100000
DTEND;TZID=America/New_York:20240601T150000
DTSTAMP:20260421T071237
CREATED:20231128T162522Z
LAST-MODIFIED:20240131T235340Z
UID:5741-1717236000-1717254000@nj-al-anon.org
SUMMARY:NJ Area Assembly Meeting
DESCRIPTION:Assembly: The business meeting where Group Representatives (GRs) from around the state express their voice and vote on behalf of their Group! \nJoin Zoom Meeting\nhttps://us02web.zoom.us/j/84912422817?pwd=WWVoWWUrSGV5ZlVFVGlhekFiT1N4UT09 \nMeeting ID: 849 1242 2817\nPasscode: 662262
URL:https://nj-al-anon.org/event/nj-area-assembly-meeting-4/
LOCATION:NJ
CATEGORIES:Al-Anon,Area Assembly,Fellowship,Group Representative,Service
END:VEVENT
END:VCALENDAR