BEGIN:VCALENDAR
VERSION:2.0
PRODID:-//New Jersey Al-Anon Family Groups - ECPv6.15.20//NONSGML v1.0//EN
CALSCALE:GREGORIAN
METHOD:PUBLISH
X-ORIGINAL-URL:https://nj-al-anon.org
X-WR-CALDESC:Events for New Jersey Al-Anon Family Groups
REFRESH-INTERVAL;VALUE=DURATION:PT1H
X-Robots-Tag:noindex
X-PUBLISHED-TTL:PT1H
BEGIN:VTIMEZONE
TZID:America/New_York
BEGIN:DAYLIGHT
TZOFFSETFROM:-0500
TZOFFSETTO:-0400
TZNAME:EDT
DTSTART:20230312T070000
END:DAYLIGHT
BEGIN:STANDARD
TZOFFSETFROM:-0400
TZOFFSETTO:-0500
TZNAME:EST
DTSTART:20231105T060000
END:STANDARD
BEGIN:DAYLIGHT
TZOFFSETFROM:-0500
TZOFFSETTO:-0400
TZNAME:EDT
DTSTART:20240310T070000
END:DAYLIGHT
BEGIN:STANDARD
TZOFFSETFROM:-0400
TZOFFSETTO:-0500
TZNAME:EST
DTSTART:20241103T060000
END:STANDARD
BEGIN:DAYLIGHT
TZOFFSETFROM:-0500
TZOFFSETTO:-0400
TZNAME:EDT
DTSTART:20250309T070000
END:DAYLIGHT
BEGIN:STANDARD
TZOFFSETFROM:-0400
TZOFFSETTO:-0500
TZNAME:EST
DTSTART:20251102T060000
END:STANDARD
END:VTIMEZONE
BEGIN:VEVENT
DTSTART;TZID=America/New_York:20240504T110000
DTEND;TZID=America/New_York:20240504T150000
DTSTAMP:20260421T070955
CREATED:20231128T153842Z
LAST-MODIFIED:20240131T234941Z
UID:5721-1714820400-1714834800@nj-al-anon.org
SUMMARY:AWSC Meeting
DESCRIPTION:Area World Service Committee:  Attended by Assembly officers\, all District Representatives and Al-Anon Information Service Liaisons\, and the Area Coordinators of special services. \nAll Al-Anon and Alateen members are welcome.  Here\, the agenda will be set for the Assembly Meeting. \nJoin Zoom Meeting\nhttps://us02web.zoom.us/j/89951528857?pwd=ZkNVYmkxZWh1WDRzQldhL1NSNVV1UT09 \nMeeting ID: 899 5152 8857\nPasscode: 762118
URL:https://nj-al-anon.org/event/awsc-meeting-10/
LOCATION:NJ
CATEGORIES:Al-Anon,AWSC,District Representative,Fellowship,Service
END:VEVENT
BEGIN:VEVENT
DTSTART;TZID=America/New_York:20240506T184500
DTEND;TZID=America/New_York:20240506T184500
DTSTAMP:20260421T070955
CREATED:20240425T134850Z
LAST-MODIFIED:20240425T135516Z
UID:6105-1715021100-1715021100@nj-al-anon.org
SUMMARY:Medford Lakes AFG - Anniversary Meeting
DESCRIPTION:Medford Lakes AFG\nAnniversary Meeting!\n6:45 PM\, Doors Open – 7:00 PM\, Anniversary Meeting \n\nSpeakers\nFellowship\nRefreshments\n\nLocated in the Peabody Building \nSee Flyer for Details!
URL:https://nj-al-anon.org/event/medford-lakes-afg-anniversary-meeting/
LOCATION:Cathedral in the Woods – Peabody Building\, 100 Stokes Road\, Medford Lakes\, NJ\, 08055\, United States
CATEGORIES:Al-Anon,Anniversary Meeting,Fellowship,Speakers
ATTACH;FMTTYPE=image/jpeg:https://nj-al-anon.org/wp-content/uploads/2024/04/Medford-Lakes-anniv-05.06.24.jpg
END:VEVENT
BEGIN:VEVENT
DTSTART;TZID=America/New_York:20240515T183000
DTEND;TZID=America/New_York:20240515T183000
DTSTAMP:20260421T070955
CREATED:20231129T201412Z
LAST-MODIFIED:20231130T012229Z
UID:5805-1715797800-1715797800@nj-al-anon.org
SUMMARY:District 8 Monthly Meeting - Virtual
DESCRIPTION:District 8 Monthly Meeting\nWhere Group Representatives vote on District Business! \nMeeting ID: 840 9588 8220\, Passcode D8 \nClick here to login
URL:https://nj-al-anon.org/event/district-8-monthly-meeting-virtual-13/
LOCATION:Zoom – See Link in Description
CATEGORIES:Al-Anon,District Meeting,District Representative,Group Representative,Service,Virtual
END:VEVENT
BEGIN:VEVENT
DTSTART;TZID=America/New_York:20240518T094500
DTEND;TZID=America/New_York:20240518T094500
DTSTAMP:20260421T070955
CREATED:20240424T223006Z
LAST-MODIFIED:20240424T223033Z
UID:6101-1716025500-1716025500@nj-al-anon.org
SUMMARY:Saturday Morning AFG - 40th Anniversary Meeting
DESCRIPTION:Saturday Morning AFG \n40th Anniversary!\n\n9:45  Fellowship and Refreshments\n10:15 Speakers\n\nSee Flyer for Details! \n  \n 
URL:https://nj-al-anon.org/event/saturday-morning-afg-40th-anniversary-meeting/
LOCATION:Saint Gregory the Great Academy\, 4680 Nottingham Way\, Hamilton\, NJ\, 08690\, United States
CATEGORIES:A.A. Speaker,Al-Anon,Al-Anon Speaker,Anniversary Meeting,Fellowship,Speakers
ATTACH;FMTTYPE=application/pdf:https://nj-al-anon.org/wp-content/uploads/2024/04/SM-1.pdf
END:VEVENT
BEGIN:VEVENT
DTSTART;TZID=America/New_York:20240520T183000
DTEND;TZID=America/New_York:20240520T193000
DTSTAMP:20260421T070955
CREATED:20231129T141305Z
LAST-MODIFIED:20231129T142208Z
UID:5748-1716229800-1716233400@nj-al-anon.org
SUMMARY:District 5 Monthly Meeting - Virtual
DESCRIPTION:Where Group Representatives vote on District Business! \nMeetings typically include the following topics: \n\nGroup Status Updates\nSecretary’s Report\nTreasurer’s Report\nAlateen Report\nLiterature Report and CAL Book Review\nPublic Outreach Activities\nUnity Day Planning\nAssembly Report\nDistrict 5 Upcoming Events\n\nMeeting ID: 879 1745 3319\, Passcode: 552841 \nClick here to login
URL:https://nj-al-anon.org/event/district-5-monthly-meeting-virtual-7/
LOCATION:Zoom – See Link in Description
CATEGORIES:Al-Anon,District Meeting,District Representative,Fellowship,Group Representative,Service,Virtual
END:VEVENT
END:VCALENDAR