BEGIN:VCALENDAR
VERSION:2.0
PRODID:-//New Jersey Al-Anon Family Groups - ECPv6.15.20//NONSGML v1.0//EN
CALSCALE:GREGORIAN
METHOD:PUBLISH
X-ORIGINAL-URL:https://nj-al-anon.org
X-WR-CALDESC:Events for New Jersey Al-Anon Family Groups
REFRESH-INTERVAL;VALUE=DURATION:PT1H
X-Robots-Tag:noindex
X-PUBLISHED-TTL:PT1H
BEGIN:VTIMEZONE
TZID:America/New_York
BEGIN:DAYLIGHT
TZOFFSETFROM:-0500
TZOFFSETTO:-0400
TZNAME:EDT
DTSTART:20240310T070000
END:DAYLIGHT
BEGIN:STANDARD
TZOFFSETFROM:-0400
TZOFFSETTO:-0500
TZNAME:EST
DTSTART:20241103T060000
END:STANDARD
BEGIN:DAYLIGHT
TZOFFSETFROM:-0500
TZOFFSETTO:-0400
TZNAME:EDT
DTSTART:20250309T070000
END:DAYLIGHT
BEGIN:STANDARD
TZOFFSETFROM:-0400
TZOFFSETTO:-0500
TZNAME:EST
DTSTART:20251102T060000
END:STANDARD
BEGIN:DAYLIGHT
TZOFFSETFROM:-0500
TZOFFSETTO:-0400
TZNAME:EDT
DTSTART:20260308T070000
END:DAYLIGHT
BEGIN:STANDARD
TZOFFSETFROM:-0400
TZOFFSETTO:-0500
TZNAME:EST
DTSTART:20261101T060000
END:STANDARD
END:VTIMEZONE
BEGIN:VEVENT
DTSTART;TZID=America/New_York:20251004T110000
DTEND;TZID=America/New_York:20251004T150000
DTSTAMP:20260421T130214
CREATED:20250119T000826Z
LAST-MODIFIED:20250927T022513Z
UID:6360-1759575600-1759590000@nj-al-anon.org
SUMMARY:NJ AWSC Meeting - Hybrid
DESCRIPTION:Area World Service Committee (AWSC): Attended by District Representatives\, Liaisons\, Al-Anon Reps to AA Conventions\, Coordinators\, Officers\, and Past Delegates.  Here the agenda will be set for the Assembly Meeting. \n\nPhysical Location – Stone Hill Church\, 1025 Bunn Drive\, Princeton\, NJ 08540\nZoom Meeting\nMeeting ID: 873 6941 7760\nPasscode: 713033\nClick here to join
URL:https://nj-al-anon.org/event/nj-awsc-meeting-2/
LOCATION:Stone Hill Church of Princeton\, 1025 Bunn Drive\, Princeton\, NJ\, 08540
CATEGORIES:Al-Anon,AWSC,District Representative,Fellowship,Service
END:VEVENT
BEGIN:VEVENT
DTSTART;TZID=America/New_York:20251008T180000
DTEND;TZID=America/New_York:20251008T190000
DTSTAMP:20260421T130214
CREATED:20251005T134713Z
LAST-MODIFIED:20251005T143725Z
UID:6779-1759946400-1759950000@nj-al-anon.org
SUMMARY:District 8 (Burlington/Camden/Gloucester Counties) Monthly District Meeting - Virtual
DESCRIPTION:District 8 Meetings are held on the second Wednesday of each month @ 6:00 PM on Zoom.\nAll members in any group or district are invited to attend.\n\nMeeting ID: 840 9588 8220\nPasscode: D8\nClick here to join Zoom meeting
URL:https://nj-al-anon.org/event/district-8-burlington-camden-gloucester-counties-district-meeting/
LOCATION:Zoom – See Link in Description
CATEGORIES:Al-Anon,District Meeting
END:VEVENT
BEGIN:VEVENT
DTSTART;TZID=America/New_York:20251013T183000
DTEND;TZID=America/New_York:20251013T193000
DTSTAMP:20260421T130214
CREATED:20250208T030536Z
LAST-MODIFIED:20251005T142310Z
UID:6413-1760380200-1760383800@nj-al-anon.org
SUMMARY:District 5 (Mercer/Middlesex/Somerset Counties) Monthly Meeting – Virtual
DESCRIPTION:Where Group Representatives vote on District Business! \nMeetings typically include the following topics: \n\nGroup Status Updates\nSecretary’s Report\nTreasurer’s Report\nAlateen Report\nLiterature Report and CAL Book Review\nPublic Outreach Activities\nUnity Day Planning\nAssembly Report\nDistrict 5 Upcoming Events\n\nMeeting ID:  81211365411  Passcode:  855984 \nClick here to log in
URL:https://nj-al-anon.org/event/district-5-monthly-meeting-virtual-25/
LOCATION:Zoom – See Link in Description
CATEGORIES:Al-Anon,Alateen,District Meeting,District Representative,Fellowship,Group Representative,Service,Virtual
END:VEVENT
BEGIN:VEVENT
DTSTART;TZID=America/New_York:20251014T183000
DTEND;TZID=America/New_York:20251014T203000
DTSTAMP:20260421T130214
CREATED:20251013T162246Z
LAST-MODIFIED:20251013T162246Z
UID:6809-1760466600-1760473800@nj-al-anon.org
SUMMARY:Moorestown Men's AFG Anniversary Meeting
DESCRIPTION:All are welcome to come celebrate Moorestown Men’s AFG Anniversary! \n\n6:30 PM Fellowship and Food\n7:30 PM Speakers\n\nSee flyer for more information
URL:https://nj-al-anon.org/event/moorestown-mens-afg-anniversary-meeting/
LOCATION:First Baptist Church Moorestown\, 19 West Main Street\, Moorestown\, NJ\, 08057
ATTACH;FMTTYPE=application/pdf:https://nj-al-anon.org/wp-content/uploads/2025/10/FILE_7861.pdf
END:VEVENT
BEGIN:VEVENT
DTSTART;VALUE=DATE:20251017
DTEND;VALUE=DATE:20251020
DTSTAMP:20260421T130214
CREATED:20250617T020422Z
LAST-MODIFIED:20250617T020422Z
UID:6675-1760659200-1760918399@nj-al-anon.org
SUMMARY:Save the Date! 2025 Waves Round Up with Al-Anon Participation
DESCRIPTION:Cape Atlantic Intergroup Recovery Round Up Never Had It So Good is a weekend-long conference offering a variety of workshops and meetings\, as well as live entertainment\, raffles\, and opportunities for fellowship. \nSee flyer for more information
URL:https://nj-al-anon.org/event/save-the-date-2025-waves-round-up-with-al-anon-participation/
LOCATION:Resorts Casino Hotel\, 1133 Boardwalk\, Atlantic City\, NJ\, United States
CATEGORIES:AA,Al-Anon Participation,Conference,Fellowship,Workshops
ATTACH;FMTTYPE=image/png:https://nj-al-anon.org/wp-content/uploads/2025/06/Waves-Roundup-25-scaled.png
END:VEVENT
BEGIN:VEVENT
DTSTART;TZID=America/New_York:20251019T190000
DTEND;TZID=America/New_York:20251019T200000
DTSTAMP:20260421T130214
CREATED:20250402T004508Z
LAST-MODIFIED:20251005T142008Z
UID:6525-1760900400-1760904000@nj-al-anon.org
SUMMARY:District 3 (Bergen/Passaic Counties) Monthly District Meeting - Virtual
DESCRIPTION:District 3 Bergen/Passaic Counties\n\n\nDistrict Meetings are held monthly\, for approximately one hour in duration\, via Zoom.  All  are welcome.  \n \nMeetings provide a forum for open discussion about important matters related to Al-Anon business.  Some topics include\, public outreach\, fellowship\, strengthening Group/District communications and sharing of World Services Office information.  Group Representatives (“GRs”) vote on topics of discussion and share best practices and ideas.  Every Al-Anon member is invited to participate\, however only GR’s are able to vote.\n \nWe invite you to join us..there aren’t any strangers to our meetings\, only friends we have yet to meet.\n\n \n\nClick here to Join Zoom Meeting \nMeeting ID: 858 0500 8691\nPasscode: district3
URL:https://nj-al-anon.org/event/district-3-bergen-passaic-counties-monthly-district-meeting-6/
LOCATION:Zoom – See Link in Description
CATEGORIES:Al-Anon,District Meeting,Fellowship,Group Representative,Service
END:VEVENT
BEGIN:VEVENT
DTSTART;TZID=America/New_York:20251025T113000
DTEND;TZID=America/New_York:20251025T153000
DTSTAMP:20260421T130214
CREATED:20241030T235757Z
LAST-MODIFIED:20250827T212803Z
UID:6265-1761391800-1761406200@nj-al-anon.org
SUMMARY:District 5's Unity Day 2025
DESCRIPTION:Theme – Discovering Hope and Healing\nAll welcome to District 5’s Unity Day! \n\nSpeakers\nWorkshops\nFellowship\nand More!\n\nSee flyer for more information
URL:https://nj-al-anon.org/event/unity-day/
LOCATION:Stone Hill Church of Princeton\, 1025 Bunn Drive\, Princeton\, NJ\, 08540
CATEGORIES:Al-Anon,Fellowship,Speakers,Unity Day,Workshops
ATTACH;FMTTYPE=application/pdf:https://nj-al-anon.org/wp-content/uploads/2024/10/UD25Flyer.pdf
END:VEVENT
END:VCALENDAR