BEGIN:VCALENDAR
VERSION:2.0
PRODID:-//New Jersey Al-Anon Family Groups - ECPv6.15.20//NONSGML v1.0//EN
CALSCALE:GREGORIAN
METHOD:PUBLISH
X-WR-CALNAME:New Jersey Al-Anon Family Groups
X-ORIGINAL-URL:https://nj-al-anon.org
X-WR-CALDESC:Events for New Jersey Al-Anon Family Groups
REFRESH-INTERVAL;VALUE=DURATION:PT1H
X-Robots-Tag:noindex
X-PUBLISHED-TTL:PT1H
BEGIN:VTIMEZONE
TZID:America/New_York
BEGIN:DAYLIGHT
TZOFFSETFROM:-0500
TZOFFSETTO:-0400
TZNAME:EDT
DTSTART:20180311T070000
END:DAYLIGHT
BEGIN:STANDARD
TZOFFSETFROM:-0400
TZOFFSETTO:-0500
TZNAME:EST
DTSTART:20181104T060000
END:STANDARD
BEGIN:DAYLIGHT
TZOFFSETFROM:-0500
TZOFFSETTO:-0400
TZNAME:EDT
DTSTART:20190310T070000
END:DAYLIGHT
BEGIN:STANDARD
TZOFFSETFROM:-0400
TZOFFSETTO:-0500
TZNAME:EST
DTSTART:20191103T060000
END:STANDARD
BEGIN:DAYLIGHT
TZOFFSETFROM:-0500
TZOFFSETTO:-0400
TZNAME:EDT
DTSTART:20200308T070000
END:DAYLIGHT
BEGIN:STANDARD
TZOFFSETFROM:-0400
TZOFFSETTO:-0500
TZNAME:EST
DTSTART:20201101T060000
END:STANDARD
BEGIN:DAYLIGHT
TZOFFSETFROM:-0500
TZOFFSETTO:-0400
TZNAME:EDT
DTSTART:20210314T070000
END:DAYLIGHT
BEGIN:STANDARD
TZOFFSETFROM:-0400
TZOFFSETTO:-0500
TZNAME:EST
DTSTART:20211107T060000
END:STANDARD
BEGIN:DAYLIGHT
TZOFFSETFROM:-0500
TZOFFSETTO:-0400
TZNAME:EDT
DTSTART:20220313T070000
END:DAYLIGHT
BEGIN:STANDARD
TZOFFSETFROM:-0400
TZOFFSETTO:-0500
TZNAME:EST
DTSTART:20221106T060000
END:STANDARD
BEGIN:DAYLIGHT
TZOFFSETFROM:-0500
TZOFFSETTO:-0400
TZNAME:EDT
DTSTART:20230312T070000
END:DAYLIGHT
BEGIN:STANDARD
TZOFFSETFROM:-0400
TZOFFSETTO:-0500
TZNAME:EST
DTSTART:20231105T060000
END:STANDARD
END:VTIMEZONE
BEGIN:VEVENT
DTSTART;TZID=America/New_York:20220514T100000
DTEND;TZID=America/New_York:20220514T140000
DTSTAMP:20260422T162359
CREATED:20220215T190652Z
LAST-MODIFIED:20220217T215613Z
UID:4395-1652522400-1652536800@nj-al-anon.org
SUMMARY:AMIAS Training - Final Training Date - Virtual
DESCRIPTION:AMIAS Training (Al-Anon Member Involved in Alateen Service) \nMust be at least 25 years old and have at least 2 continuous years of Al-Anon program. \nLunch during meeting. \nMust be pre-registered. \nSee flyer for more information.
URL:https://nj-al-anon.org/event/amias-training-final-date-virtual/
LOCATION:Zoom – Please check your email for login information
CATEGORIES:Alateen,Service,Virtual
ORGANIZER;CN="Alateen Coordinator":MAILTO:https://nj-al-anon.org/contact/
END:VEVENT
BEGIN:VEVENT
DTSTART;TZID=America/New_York:20220423T100000
DTEND;TZID=America/New_York:20220423T140000
DTSTAMP:20260422T162359
CREATED:20220217T213052Z
LAST-MODIFIED:20220217T214911Z
UID:4428-1650708000-1650722400@nj-al-anon.org
SUMMARY:AMIAS Training
DESCRIPTION:AMIAS Training (Al-Anon Member Involved in Alateen Service) \nMust be at least 25 years old and have at least 2 continuous years of Al-Anon program. \nIn person only. \nLocated in the Library\, lunch during meeting. \nMust be pre-registered. \nSee flyer for more information.
URL:https://nj-al-anon.org/event/amias-training-6/
LOCATION:Rock Church\, 240 Creek Road\, Mount Laurel\, NJ\, 08054\, United States
CATEGORIES:Alateen,Service
END:VEVENT
BEGIN:VEVENT
DTSTART;TZID=America/New_York:20220409T100000
DTEND;TZID=America/New_York:20220409T140000
DTSTAMP:20260422T162359
CREATED:20220217T220015Z
LAST-MODIFIED:20220217T220015Z
UID:4446-1649498400-1649512800@nj-al-anon.org
SUMMARY:AMIAS Training - Virtual
DESCRIPTION:AMIAS Training (Al-Anon Member Involved in Alateen Service) \nMust be at least 25 years old and have at least 2 continuous years of Al-Anon program. \nLunch during meeting. \nMust be pre-registered. \nSee flyer for more information.
URL:https://nj-al-anon.org/event/amias-training-virtual-2/
LOCATION:Zoom – Please check your email for login information
CATEGORIES:Alateen,Service,Virtual
ORGANIZER;CN="Alateen Coordinator":MAILTO:https://nj-al-anon.org/contact/
END:VEVENT
BEGIN:VEVENT
DTSTART;TZID=America/New_York:20220326T100000
DTEND;TZID=America/New_York:20220326T140000
DTSTAMP:20260422T162359
CREATED:20220215T190212Z
LAST-MODIFIED:20220217T214700Z
UID:4389-1648288800-1648303200@nj-al-anon.org
SUMMARY:AMIAS Training
DESCRIPTION:AMIAS Training (Al-Anon Member Involved in Alateen Service) \nMust be at least 25 years old and have at least 2 continuous years of Al-Anon program. \nIn person only. \nLocated in the Library\, lunch during meeting. \nMust be pre-registered. \nSee flyer for more information. \n 
URL:https://nj-al-anon.org/event/amias-training-5/
LOCATION:Butler United Methodist Church\, 5 Bartholdi Ave\, Butler\, NJ\, 07405\, United States
CATEGORIES:Alateen,Service
ORGANIZER;CN="Alateen Coordinator":MAILTO:https://nj-al-anon.org/contact/
END:VEVENT
BEGIN:VEVENT
DTSTART;TZID=America/New_York:20220312T100000
DTEND;TZID=America/New_York:20220312T140000
DTSTAMP:20260422T162359
CREATED:20220215T185338Z
LAST-MODIFIED:20220217T215155Z
UID:4386-1647079200-1647093600@nj-al-anon.org
SUMMARY:AMIAS Training - Virtual
DESCRIPTION:AMIAS Training (Al-Anon Member Involved in Alateen Service) \nMust be at least 25 years old and have at least 2 continuous years of Al-Anon program. \nLunch during meeting. \nMust be pre-registered. \nSee flyer for more information. \n 
URL:https://nj-al-anon.org/event/amias-training-virtual/
LOCATION:Zoom – Please check your email for login information
CATEGORIES:Alateen,Service,Virtual
ORGANIZER;CN="Alateen Coordinator":MAILTO:https://nj-al-anon.org/contact/
END:VEVENT
BEGIN:VEVENT
DTSTART;TZID=America/New_York:20210417T100000
DTEND;TZID=America/New_York:20210417T130000
DTSTAMP:20260422T162359
CREATED:20210212T063151Z
LAST-MODIFIED:20210216T232421Z
UID:3053-1618653600-1618664400@nj-al-anon.org
SUMMARY:AMIAS Training Session - VIRTUAL
DESCRIPTION:This training is for any Al-Anon member with a minimum age of 25 and two years in the program who wants to become an AMIAS\, Al-Anon Member Involved in Alateen Service. Each AMIAS must re-certify every calendar year. \nYou MUST PRE-REGISTER TO ATTEND \nClick here for flyer and more information on AMIAS Training Session \n 
URL:https://nj-al-anon.org/event/amias-training-session-virtual-2/
LOCATION:Zoom – see flyer above for more information
CATEGORIES:Service
ORGANIZER;CN="Alateen Coordinator":MAILTO:https://nj-al-anon.org/contact/
END:VEVENT
BEGIN:VEVENT
DTSTART;TZID=America/New_York:20210327T100000
DTEND;TZID=America/New_York:20210327T130000
DTSTAMP:20260422T162359
CREATED:20210212T062949Z
LAST-MODIFIED:20210216T232312Z
UID:3047-1616839200-1616850000@nj-al-anon.org
SUMMARY:AMIAS Training Session - VIRTUAL
DESCRIPTION:This training is for any Al-Anon member with a minimum age of 25 and two years in the program who wants to become an AMIAS\, Al-Anon Member Involved in Alateen Service. \nEach AMIAS must re-certify every calendar year. \nClick here for flyer and more information on AMIAS Training Session \n 
URL:https://nj-al-anon.org/event/amias-training-session-virtual/
LOCATION:Zoom – see flyer above for more information
ORGANIZER;CN="Alateen Coordinator":MAILTO:https://nj-al-anon.org/contact/
END:VEVENT
BEGIN:VEVENT
DTSTART;TZID=America/New_York:20200509T100000
DTEND;TZID=America/New_York:20200509T140000
DTSTAMP:20260422T162359
CREATED:20190323T021659Z
LAST-MODIFIED:20200420T030522Z
UID:964-1589018400-1589032800@nj-al-anon.org
SUMMARY:CANCELLED: AMIAS Training
DESCRIPTION:**THIS EVENT HAS BEEN CANCELLED** \nAl-Anon Member In Al-Anon Service \nAMIAS Training! \nAn opportunity for “Carrying the Message” \nSunday school rooms \nBring a bag lunch \nReminder that all AMIAS must be certified annually!!! \nPlease contact Tim S\, Alateen Coordinator at nj-al-anon.org to confirm your attendance \nClick Here for more information and printable flyer \n 
URL:https://nj-al-anon.org/event/amias-training-2/
LOCATION:Maximilian Kolbe Church of the Resurrection\, Maximilian Kolbe Church of the Resurrection 200 Tuckahoe Rd Marmora\, NJ 08223\, Marmora\, NJ\, 08223\, United States
ORGANIZER;CN="Alateen Coordinator":MAILTO:https://nj-al-anon.org/contact/
END:VEVENT
BEGIN:VEVENT
DTSTART;TZID=America/New_York:20200328T100000
DTEND;TZID=America/New_York:20200328T140000
DTSTAMP:20260422T162359
CREATED:20200127T060715Z
LAST-MODIFIED:20200317T194506Z
UID:1801-1585389600-1585404000@nj-al-anon.org
SUMMARY:CANCELLED: AMIAS Training
DESCRIPTION:**To ensure the safety of all from COVID-19\, this event has been cancelled until further notice. Please check back for updates.** \nAl-Anon Member In Al-Anon Service \nPlease use upper parking lot. Enter through double doors\, furthest from road. Fellowship Hall is straight ahead. \nBring a bag lunch \nReminder that all AMIAS must be certified annually!!! \nPlease contact Tim S at nj-al-anon.org to confirm your attendance \nClick here for printable flyer
URL:https://nj-al-anon.org/event/amias-training-4/
LOCATION:United Methodist Church\, 104 Richwood Rd\, Richwood\, NJ\, 08074\, United States
END:VEVENT
BEGIN:VEVENT
DTSTART;TZID=America/New_York:20200222T110000
DTEND;TZID=America/New_York:20200222T150000
DTSTAMP:20260422T162359
CREATED:20190218T210807Z
LAST-MODIFIED:20200210T124329Z
UID:708-1582369200-1582383600@nj-al-anon.org
SUMMARY:AMIAS Training
DESCRIPTION:Al-Anon Member In Al-Anon Service \nWant to be part of an outstanding service opportunity? Become an AMIAS and help to change the life of Alateen members. \nThis training is for any Al-Anon member with a minimum age of 25 and two years in the program who wants to become an AMIAS\, Al-Anon Member Involved in Alateen Service. Each AMIAS must re-certify every calendar year so the training session is also for any AMIAS who did not re-certify yet. It is a great opportunity for current AMIAS to share their experience\, strength\, and hope with the new trainees. \nBeverages and snacks will be served. Please bring a brown bag lunch. If you plan to attend\, please contact the trainer at your earliest convenience. Your response will ensure that there will be enough seats\, refreshments\, training materials\, and supplies on hand for all. \nTraining is open to all Al-Anon members in New Jersey\, Area #36. Any AMIAS who did not certify in 2019 must attend a training session by June 1\, 2020. See additional training dates on the Assembly website.\nhttps://nj-al-anon.org/calendar/ \nClick here for information and printable flyer
URL:https://nj-al-anon.org/event/amias-training/
LOCATION:First Baptist Church 30 North Broadway\, NJ 08071
ORGANIZER;CN="Alateen Coordinator":MAILTO:https://nj-al-anon.org/contact/
END:VEVENT
BEGIN:VEVENT
DTSTART;TZID=America/New_York:20191123T120000
DTEND;TZID=America/New_York:20191123T150000
DTSTAMP:20260422T162359
CREATED:20191102T172958Z
LAST-MODIFIED:20191102T172958Z
UID:1660-1574510400-1574521200@nj-al-anon.org
SUMMARY:AMIAS Training - NJ Area #36
DESCRIPTION:Clinton Presbyterian Church  \n2nd floor  \n91 Center Street  \nClinton\, NJ 08809 \nThis training is for any Al-Anon member with a minimum age of 25 and two years in the program who wants to become an AMIAS\, Al-Anon Member Involved in Alateen Service. Each AMIAS must re-certify every calendar year so the training session is also for any AMIAS who did not re-certify yet.  It is a great opportunity for current AMIAS to share their experience\, strength\, and hope with the new trainees. \nBeverages and snacks will be served.  Please bring a brown bag lunch. If you plan to attend\, please contact the trainer at your earliest convenience. Your response will ensure that there will be enough seats\, refreshments\, training materials\, and supplies on hand for all.   \nTraining is open to all Al-Anon members in New Jersey\, Area #36. Any AMIAS who have not yet certified in 2019 must attend atraining session to maintain their qualification as an AMIAS.    \nPlease click here for more information and printable flyer \n 
URL:https://nj-al-anon.org/event/amias-training-nj-area-36/
LOCATION:Clinton Presbyterian Church 91 Center Street Clinton\, NJ 08809
ORGANIZER;CN="Alateen Coordinator":MAILTO:https://nj-al-anon.org/contact/
END:VEVENT
BEGIN:VEVENT
DTSTART;TZID=America/New_York:20191027T100000
DTEND;TZID=America/New_York:20191027T150000
DTSTAMP:20260422T162359
CREATED:20191014T161810Z
LAST-MODIFIED:20191014T161810Z
UID:1625-1572170400-1572188400@nj-al-anon.org
SUMMARY:AMIAS Training (Al-Anon Member Involved in Alateen Service)
DESCRIPTION:If you sponsor/facilitate an Alateen meeting or are interested in becoming a certified \nAl-Anon Member Involved in Alateen Service*\, \nRemember you have to be recertified every year. \nPlease attend this training. \nClick here for more information and printable flyer \nLight Refreshments will be provided\, please bring a brown bag lunch. \n  \n* Members 25 years old who have 2 years in Al-Anon and who attend at least one weekly Al-Anon meeting are eligible to train to become Al-Anon Members Involved in Alateen Service. \n 
URL:https://nj-al-anon.org/event/amias-training-al-anon-member-involved-in-alateen-service/
LOCATION:St. Luke’s Church 1674 Old Freehold Rd Toms River\, NJ 08755\, St. Luke’s Church 1674 Old Freehold Rd Toms River\, NJ 08755
ORGANIZER;CN="Alateen Coordinator":MAILTO:https://nj-al-anon.org/contact/
END:VEVENT
BEGIN:VEVENT
DTSTART;TZID=America/New_York:20190407T110000
DTEND;TZID=America/New_York:20190407T150000
DTSTAMP:20260422T162359
CREATED:20190324T004817Z
LAST-MODIFIED:20190324T004817Z
UID:997-1554634800-1554649200@nj-al-anon.org
SUMMARY:AMIAS Training
DESCRIPTION:AREA #36 AMIAS TRAINING SESSION \nSUNDAY\, April 7\, 2019 \nVirtua Memorial Hospital\n1 st floor\, Conference Room Back\n175 Madison Ave\nMt. Holly\, NJ 08060 \n11:00 AM – 3:00 PM \nWant to be part of an outstanding service opportunity? Become an AMIAS and help to change the life of Alateen members. \nThis training is for any Al-Anon member with a minimum age of 25 and two years in the program who wants to become an AMIAS\, Al-Anon Member Involved in Alateen Service. Each AMIAS must re-certify every calendar year so the training session is also for any AMIAS who did not re-certify yet.  It is a great opportunity for current AMIAS to share their experience\, strength\, and hope with the new trainees. \nBeverages and snacks will be served.  Please bring a brown bag lunch. If you plan to attend\, please contact the trainer at your earliest convenience. Your response will ensure that there will be enough seats\, refreshments\, training materials\, and supplies on hand for all. \nTraining is open to all Al-Anon members in New Jersey\, Area #36. Any AMIAS who did not certify in 2018 or earlier must attend a training session preferably by June 1\, 2019. See additional training dates on the Assembly website. \nClick here for flyer.
URL:https://nj-al-anon.org/event/amias-training-3/
LOCATION:Virtua Memorial Hospital: 1st floor\, Conference Room Back\, 175 Madison Ave\, Mount Holly\, NJ\, 08060\, United States
ORGANIZER;CN="Alateen Coordinator":MAILTO:https://nj-al-anon.org/contact/
END:VEVENT
END:VCALENDAR