BEGIN:VCALENDAR
VERSION:2.0
PRODID:-//New Jersey Al-Anon Family Groups - ECPv6.15.20//NONSGML v1.0//EN
CALSCALE:GREGORIAN
METHOD:PUBLISH
X-ORIGINAL-URL:https://nj-al-anon.org
X-WR-CALDESC:Events for New Jersey Al-Anon Family Groups
REFRESH-INTERVAL;VALUE=DURATION:PT1H
X-Robots-Tag:noindex
X-PUBLISHED-TTL:PT1H
BEGIN:VTIMEZONE
TZID:America/New_York
BEGIN:DAYLIGHT
TZOFFSETFROM:-0500
TZOFFSETTO:-0400
TZNAME:EDT
DTSTART:20200308T070000
END:DAYLIGHT
BEGIN:STANDARD
TZOFFSETFROM:-0400
TZOFFSETTO:-0500
TZNAME:EST
DTSTART:20201101T060000
END:STANDARD
BEGIN:DAYLIGHT
TZOFFSETFROM:-0500
TZOFFSETTO:-0400
TZNAME:EDT
DTSTART:20210314T070000
END:DAYLIGHT
BEGIN:STANDARD
TZOFFSETFROM:-0400
TZOFFSETTO:-0500
TZNAME:EST
DTSTART:20211107T060000
END:STANDARD
BEGIN:DAYLIGHT
TZOFFSETFROM:-0500
TZOFFSETTO:-0400
TZNAME:EDT
DTSTART:20220313T070000
END:DAYLIGHT
BEGIN:STANDARD
TZOFFSETFROM:-0400
TZOFFSETTO:-0500
TZNAME:EST
DTSTART:20221106T060000
END:STANDARD
BEGIN:DAYLIGHT
TZOFFSETFROM:-0500
TZOFFSETTO:-0400
TZNAME:EDT
DTSTART:20230312T070000
END:DAYLIGHT
BEGIN:STANDARD
TZOFFSETFROM:-0400
TZOFFSETTO:-0500
TZNAME:EST
DTSTART:20231105T060000
END:STANDARD
BEGIN:DAYLIGHT
TZOFFSETFROM:-0500
TZOFFSETTO:-0400
TZNAME:EDT
DTSTART:20240310T070000
END:DAYLIGHT
BEGIN:STANDARD
TZOFFSETFROM:-0400
TZOFFSETTO:-0500
TZNAME:EST
DTSTART:20241103T060000
END:STANDARD
BEGIN:DAYLIGHT
TZOFFSETFROM:-0500
TZOFFSETTO:-0400
TZNAME:EDT
DTSTART:20250309T070000
END:DAYLIGHT
BEGIN:STANDARD
TZOFFSETFROM:-0400
TZOFFSETTO:-0500
TZNAME:EST
DTSTART:20251102T060000
END:STANDARD
END:VTIMEZONE
BEGIN:VEVENT
DTSTART;TZID=America/New_York:20211030T120000
DTEND;TZID=America/New_York:20211030T153000
DTSTAMP:20260425T181036
CREATED:20211030T200000Z
LAST-MODIFIED:20210925T045545Z
UID:3788-1635595200-1635607800@nj-al-anon.org
SUMMARY:District 20/21 Unity Fellowship Day: Faces of Change Through Al-Anon
DESCRIPTION:Two Sessions with choice of meetings to attend \nAl-Anon and AA Speakers \nBYO Lunch \nLiterature for sale \nClick here for flyer with more information
URL:https://nj-al-anon.org/event/district-20-21-unity-fellowship-day-faces-of-change-through-al-anon/
LOCATION:Stone Hill Church of Princeton\, 1025 Bunn Drive\, Princeton\, NJ\, 08540
CATEGORIES:Anniversary Meeting,Fellowship,Speakers
END:VEVENT
BEGIN:VEVENT
DTSTART;TZID=America/New_York:20211117T200000
DTEND;TZID=America/New_York:20211117T200000
DTSTAMP:20260425T181036
CREATED:20211118T060000Z
LAST-MODIFIED:20210925T042548Z
UID:3767-1637179200-1637179200@nj-al-anon.org
SUMMARY:Replay: Al-Anon Family Groups 70th Anniversary Celebration - VIRTUAL
DESCRIPTION:The Al-Anon Family Groups World Service Office will replay the talks from the 70th Anniversary Celebration on the Al-Anon Family Groups Mobile App on  November 17th at 8 pm Eastern Time. The replay will appear as a meeting option. \nFor more information about the Al-Anon Family Groups Mobile App click here.
URL:https://nj-al-anon.org/event/replay-al-anon-family-groups-70th-anniversary-celebration-2/
LOCATION:Al-Anon Family Groups Mobile App
CATEGORIES:Al-Anon,Anniversary Meeting,Speakers,Virtual
END:VEVENT
BEGIN:VEVENT
DTSTART;TZID=America/New_York:20220228T191500
DTEND;TZID=America/New_York:20220228T191500
DTSTAMP:20260425T181036
CREATED:20220119T160918Z
LAST-MODIFIED:20220122T172052Z
UID:4229-1646075700-1646075700@nj-al-anon.org
SUMMARY:North Brunswick Monday Night 24th Anniversary Meeting
DESCRIPTION:Courage to Change \nA.A. and Al-Anon Speakers. \nSocial begins 7:15 p.m; Meeting begins 7:30 p.m. \nFlyer with login credentials \n 
URL:https://nj-al-anon.org/event/north-brunswick-monday-night-24th-anniversary-meeting/
LOCATION:Virtual – See flyer above for login credentials
CATEGORIES:A.A. Speaker,Al-Anon,Anniversary Meeting,Fellowship,Speakers,Virtual
END:VEVENT
BEGIN:VEVENT
DTSTART;TZID=America/New_York:20220228T194500
DTEND;TZID=America/New_York:20220228T211500
DTSTAMP:20260425T181036
CREATED:20220201T111324Z
LAST-MODIFIED:20220201T112432Z
UID:4324-1646077500-1646082900@nj-al-anon.org
SUMMARY:Cranbury Stepping Stones-54th Anniversary Celebration
DESCRIPTION:Cranbury Stepping Stones – 54th Anniversary!\n\nAl-Anon Speaker\nAA Speaker\n\n7:45 p.m.: Fellowship; 8:00 p.m.: Speaker Meeting \nCurrently meeting in the white building to the right of the Presbyterian Church. \nSee flyer with details.
URL:https://nj-al-anon.org/event/cranbury-stepping-stones-54th-anniversary-celebration/
LOCATION:First Presbyterian Church\, 22 South Main Street\, Cranbury\, NJ\, 08512\, United States
CATEGORIES:A.A. Speaker,Al-Anon,Anniversary Meeting,Fellowship,Speaker meeting,Speakers
END:VEVENT
BEGIN:VEVENT
DTSTART;VALUE=DATE:20220318
DTEND;VALUE=DATE:20220321
DTSTAMP:20260425T181036
CREATED:20211001T061555Z
LAST-MODIFIED:20211001T061555Z
UID:3880-1647561600-1647820799@nj-al-anon.org
SUMMARY:AA's 56th Area 45 General Service Convention
DESCRIPTION:“Sometimes Quickly\, Sometimes Slowly” \nIn Person event with key events available virtually \nAA Speakers\nAl-Anon Speakers\nRoaring 20’s Banquet &\nDance\nSobriety Count Down\nMarathon Meetings\nAl-Anon Skit (TBD)\nEntertainment\nSelfie Stations\nAA’s Got Talent (Open Mic)\nKaraoke\nFlyer with more information
URL:https://nj-al-anon.org/event/aas-56th-area-45-general-service-convention/
LOCATION:The Claridge Hotel 123 S. Indiana Ave\, Atlantic City\, NJ (See flyer above for virtual option)
CATEGORIES:AA,Convention,Fellowship,Speakers,Virtual option
END:VEVENT
BEGIN:VEVENT
DTSTART;VALUE=DATE:20220318
DTEND;VALUE=DATE:20220321
DTSTAMP:20260425T181036
CREATED:20220225T002716Z
LAST-MODIFIED:20220225T122419Z
UID:4479-1647561600-1647820799@nj-al-anon.org
SUMMARY:AA's 56th Area 45 General Service Convention
DESCRIPTION:56th Area 45 General Service Convention\, Southern New Jersey – With Al-Anon Participation \nSee website for: \n\ninformation\nsign-ups\nevents\nactivities\n\nYou must request an ASL Interpreter in your registration. \nRefer to attached flyer for more information.
URL:https://nj-al-anon.org/event/56th-area-45-general-service-convention/
LOCATION:The Claridge Hotel\, 123 South Indiana Avenue\, Atlantic City\, 08401\, United States
CATEGORIES:AA,Al-Anon,Convention,Fellowship,Speakers
END:VEVENT
BEGIN:VEVENT
DTSTART;TZID=America/New_York:20220421T200000
DTEND;TZID=America/New_York:20220421T210000
DTSTAMP:20260425T181036
CREATED:20220328T102320Z
LAST-MODIFIED:20220329T005505Z
UID:4555-1650571200-1650574800@nj-al-anon.org
SUMMARY:Hamilton Whitehorse Thursday Nights 40th Anniversary
DESCRIPTION:Hamilton Whitehorse Thursday Nights 40th Anniversary \n\nHybrid Meeting\nAl-Anon Speaker\nAA Speaker\nRefreshments\n\nSee flyer for details. \n 
URL:https://nj-al-anon.org/event/hamilton-whitehorse-thursday-nights-40th-anniversary/
LOCATION:St. Mark Lutheran Church\, 350 White Horse Avenue\, Hamilton\, NJ\, 08610\, United States
CATEGORIES:A.A. Speaker,Al-Anon,Anniversary Meeting,Fellowship,Speaker meeting,Speakers,Virtual option
END:VEVENT
BEGIN:VEVENT
DTSTART;TZID=America/New_York:20220521T094500
DTEND;TZID=America/New_York:20220521T094500
DTSTAMP:20260425T181036
CREATED:20220426T163119Z
LAST-MODIFIED:20220506T165704Z
UID:4623-1653126300-1653126300@nj-al-anon.org
SUMMARY:38th Anniversary - Hamilton Saturday Morning Al-Anon Family Group - Hybrid
DESCRIPTION:Hamilton Saturday Morning Al-Anon Family Group \n38th Anniversary Meeting \nRefreshments and Fellowship begin 9:45am \nMeeting: 10:15-11:30am \nNote: Face to Face meeting location has changed to:  St. Gregory the Great School\, O’Connor Hall \nSee flyer for details
URL:https://nj-al-anon.org/event/38th-anniversary-hamilton-saturday-morning-al-anon-family-group-hybrid/
LOCATION:St. Gregory the Great School\, 4680 Nottingham Way\, Hamilton\, NJ\, 08690\, United States
CATEGORIES:A.A. Speaker,Al-Anon,Al-Anon Speaker,Anniversary Meeting,Fellowship,Speakers,Virtual option
END:VEVENT
BEGIN:VEVENT
DTSTART;TZID=America/New_York:20221029T120000
DTEND;TZID=America/New_York:20221029T153000
DTSTAMP:20260425T181036
CREATED:20220927T233548Z
LAST-MODIFIED:20220927T233548Z
UID:4861-1667044800-1667057400@nj-al-anon.org
SUMMARY:Unity Day - Journey Towards Hope
DESCRIPTION:Unity Day – Journey Towards Hope \n\nTwo Sessions\, 3 Workshops Each\nAl-Anon\, Alateen\,  and AA Speaker Panel\nRefreshments\nGift Raffle\n\nBring Your Own Lunch \nSuggested Donation: $8 \nSee flyer for details!
URL:https://nj-al-anon.org/event/unity-day-journey-towards-hope/
LOCATION:Stone Hill Church of Princeton\, 1025 Bunn Drive\, Princeton\, NJ\, 08540
CATEGORIES:AA,Al-Anon,Alateen,Fellowship,Speakers,Unity Day,Workshop
END:VEVENT
BEGIN:VEVENT
DTSTART;TZID=America/New_York:20230122T084500
DTEND;TZID=America/New_York:20230122T123000
DTSTAMP:20260425T181036
CREATED:20221025T112131Z
LAST-MODIFIED:20230108T231924Z
UID:5010-1674377100-1674390600@nj-al-anon.org
SUMMARY:Connecticut AFG - Serenity Breakfast
DESCRIPTION:Serenity Breakfast Buffet! \nAl-Anon\, Alateen\, AA Speakers \nSpanish Interpretation Available \nRaffle \nSnow Date: February 5\, 2023.  Please check ctalanon.org or local listings \nSee flyer for details \n  \n  \n 
URL:https://nj-al-anon.org/event/save-the-dates/
LOCATION:Sheraton Hartford South Hotel\, 100 Capital Boulevard\, Rocky Hill\, CT\, 06067\, United States
CATEGORIES:Al-Anon,Fellowship,Speakers
END:VEVENT
BEGIN:VEVENT
DTSTART;TZID=America/New_York:20230211T100000
DTEND;TZID=America/New_York:20230211T100000
DTSTAMP:20260425T181036
CREATED:20230123T122430Z
LAST-MODIFIED:20230123T122430Z
UID:5206-1676109600-1676109600@nj-al-anon.org
SUMMARY:Saturday Morning Circle of Hope AFG - 31st Anniversary
DESCRIPTION:Saturday Morning Circle of Hope AFG \n31st Anniversary Celebration! \n\nAl-Anon Speaker\nAA Speaker\nRefreshments\n\nIn person\, all welcome! \nSee attached flyer for details!
URL:https://nj-al-anon.org/event/saturday-morning-circle-of-hope-afg-31st-anniversary/
LOCATION:Harlingen Reformed Church\, 2142 Route 206\, Belle Mead\, NJ\, 08502\, United States
CATEGORIES:A.A. Speaker,Al-Anon Speaker,Anniversary Meeting,Fellowship,Speakers
END:VEVENT
BEGIN:VEVENT
DTSTART;TZID=America/New_York:20230227T191500
DTEND;TZID=America/New_York:20230227T203000
DTSTAMP:20260425T181036
CREATED:20230126T112621Z
LAST-MODIFIED:20230126T112807Z
UID:5212-1677525300-1677529800@nj-al-anon.org
SUMMARY:North Brunswick AFG - 25th Anniversary!
DESCRIPTION:North Brunswick Monday Night \nCourage to Change \n25th Anniversary \n\nAl-Anon Speaker\nAA Speaker\n\n7:15 Social \n7:30 Meeting \nSee flyer for details \n 
URL:https://nj-al-anon.org/event/north-brunswick-afg-25th-anniversary/
LOCATION:Our Lady of Peace 1740 US Highway Rt. 130 North Brunswick\, NJ 08902\, Our Lady of Peace 1740 US Highway Rt. 130 North Brunswick\, NJ 08902
CATEGORIES:A.A. Speaker,Al-Anon,Al-Anon Speaker,Anniversary Meeting,Fellowship,Speakers
END:VEVENT
BEGIN:VEVENT
DTSTART;TZID=America/New_York:20230227T194500
DTEND;TZID=America/New_York:20230227T211500
DTSTAMP:20260425T181036
CREATED:20230205T005400Z
LAST-MODIFIED:20230205T005654Z
UID:5233-1677527100-1677532500@nj-al-anon.org
SUMMARY:Cranbury Stepping Stones - 55th Anniversary
DESCRIPTION:Cranbury Stepping Stones AFG \n55th Anniversary! \n\nAl-Anon Speaker\nAA Speaker\n\nFellowship begins 7:45pm \nSee flyer for details
URL:https://nj-al-anon.org/event/cranbury-stepping-stones-55th-anniversary/
LOCATION:Cranbury First Presbyterian Church\, 22 South Main Street\, Cranbury\, NJ\, 08512\, United States
CATEGORIES:A.A. Speaker,Al-Anon,Al-Anon Speaker,Anniversary Meeting,Fellowship,Speaker meeting,Speakers
END:VEVENT
BEGIN:VEVENT
DTSTART;VALUE=DATE:20230317
DTEND;VALUE=DATE:20230320
DTSTAMP:20260425T181036
CREATED:20230115T193900Z
LAST-MODIFIED:20230115T193900Z
UID:5186-1679011200-1679270399@nj-al-anon.org
SUMMARY:NJ Area 45 AA - 57th Convention
DESCRIPTION:New Jersey Area 45 AA\, 57th Convention \n\nFood\nFestivities\nSpeakers\nMeetings\nWorkshops\n\nVisit Area 45 Website for more information. \n 
URL:https://nj-al-anon.org/event/nj-area-45-aa-57th-convention/
LOCATION:NJ
CATEGORIES:A.A. Speaker,AA,Convention,Fellowship,Service,Speaker meeting,Speakers,Workshop
END:VEVENT
BEGIN:VEVENT
DTSTART;TZID=America/New_York:20230320T193000
DTEND;TZID=America/New_York:20230320T210000
DTSTAMP:20260425T181036
CREATED:20230221T162907Z
LAST-MODIFIED:20230222T165157Z
UID:5259-1679340600-1679346000@nj-al-anon.org
SUMMARY:Morristown AFG 11th Anniversary Meeting
DESCRIPTION:Morristown AFG 11th Anniversary Meeting! \n\nAl-Anon Speaker\nAA Speaker\n\nPlease enter through back door by parking lot. \nSee flyer for details. \n  \n  \n  \n 
URL:https://nj-al-anon.org/event/morristown-afg-11th-anniversary-meeting/
LOCATION:Assumption Church\, 91 Maple Avenue\, Morristown\, NJ\, 07960\, United States
CATEGORIES:A.A. Speaker,Al-Anon Speaker,Anniversary Meeting,Fellowship,Speaker meeting,Speakers
END:VEVENT
BEGIN:VEVENT
DTSTART;VALUE=DATE:20230325
DTEND;VALUE=DATE:20230327
DTSTAMP:20260425T181036
CREATED:20221025T113005Z
LAST-MODIFIED:20230109T214716Z
UID:5016-1679702400-1679875199@nj-al-anon.org
SUMMARY:Connecticut AFG 2023 Convention
DESCRIPTION:45th Connecticut AFG Convention – Let it Begin With Me in 2023 \n  \nAll welcome! (teens must complete and notarize appropriate permission slips). \nSaturday Banquet with plated meal options. \nSee flyer for pre-registration and more details
URL:https://nj-al-anon.org/event/connecticut-afg-2023-convention/
LOCATION:Sheraton Hartford South Hotel\, 100 Capital Boulevard\, Rocky Hill\, CT\, 06067\, United States
CATEGORIES:Convention,Fellowship,Speakers
END:VEVENT
BEGIN:VEVENT
DTSTART;TZID=America/New_York:20230328T193000
DTEND;TZID=America/New_York:20230328T210000
DTSTAMP:20260425T181036
CREATED:20230223T172012Z
LAST-MODIFIED:20230223T172244Z
UID:5268-1680031800-1680037200@nj-al-anon.org
SUMMARY:Hamilton Township Tuesday Night AFG 25th Anniversary Meeting
DESCRIPTION:Hamilton Township Tuesday Night AFG \n25th Anniversary Meeting! \nRefreshments 7:30pm \n\nAl-Anon Speaker\nAA Speaker\nAlateen Speaker\n\nFriends and family Welcome! \n\n\n\nThis is a hybrid meeting. https://us02web.zoom.us/j/73567792051; password 290330 \nSee flyer for details
URL:https://nj-al-anon.org/event/hamilton-township-tuesday-night-afg-25th-anniversary-meeting/
LOCATION:St Mark Lutheran Church Hamilton\, 350 White Horse Ave\, Hamilton\, NJ\, 08610\, United States
CATEGORIES:A.A. Speaker,Al-Anon,Al-Anon Speaker,Alateen Speaker,Anniversary Meeting,Fellowship,Speakers,Virtual option
END:VEVENT
BEGIN:VEVENT
DTSTART;TZID=America/New_York:20230520T094500
DTEND;TZID=America/New_York:20230520T113000
DTSTAMP:20260425T181036
CREATED:20230425T223630Z
LAST-MODIFIED:20230425T223958Z
UID:5416-1684575900-1684582200@nj-al-anon.org
SUMMARY:Saturday Morning AFG Anniversary Meeting - Hybrid
DESCRIPTION:Saturday Morning AFG\n39th Anniversary Meeting\n  \n\nAl-Anon Speaker\nAlateen Speaker\nAA Speaker\nRefreshments\n\nHybrid Meeting \nSee flyer for details \n 
URL:https://nj-al-anon.org/event/saturday-morning-afg-anniversary-meeting-hybrid/
LOCATION:St. Gregory the Great School\, 4680 Nottingham Way\, Hamilton\, NJ\, 08690\, United States
CATEGORIES:A.A. Speaker,Al-Anon Speaker,Alateen Speaker,Anniversary Meeting,Fellowship,Speakers,Virtual option
END:VEVENT
BEGIN:VEVENT
DTSTART;TZID=America/New_York:20230611T193000
DTEND;TZID=America/New_York:20230611T203000
DTSTAMP:20260425T181036
CREATED:20230517T234607Z
LAST-MODIFIED:20230519T150452Z
UID:5478-1686511800-1686515400@nj-al-anon.org
SUMMARY:Family Unity Event!
DESCRIPTION:Al-Anon Sunday Night Paths to Recovery\, AA’s Mixed Nuts\, and Alateen-Love\, Laugh and Grow Together \nFamily Unity Event!\n  \nSpeakers from each fellowship \n\nPotluck Dinner at 6:30pm\nSpeakers at 7:30pm\n\nFood donations welcome! \nSee flyer for details
URL:https://nj-al-anon.org/event/family-unity-event/
LOCATION:St. Gregory the Great School\, 4680 Nottingham Way\, Hamilton\, NJ\, 08690\, United States
CATEGORIES:A.A. Speaker,AA,Al-Anon,Al-Anon Speaker,Alateen,Alateen Speaker,Family Unity,Fellowship,Speakers
END:VEVENT
BEGIN:VEVENT
DTSTART;TZID=America/New_York:20230817T190000
DTEND;TZID=America/New_York:20230817T203000
DTSTAMP:20260425T181036
CREATED:20230709T142335Z
LAST-MODIFIED:20230709T142335Z
UID:5562-1692298800-1692304200@nj-al-anon.org
SUMMARY:Long Beach Island AFG - Anniversary Meeting
DESCRIPTION:Long Beach Island AFG – Anniversary Meeting\n\nAl-Anon Speaker\nAA Speaker\n\n7-8:30 pm
URL:https://nj-al-anon.org/event/long-beach-island-afg-anniversary-meeting/
LOCATION:St. Francis Community Center\, 4700 Long Beach Blvd\, Brant Beach\, NJ\, 08008\, United States
CATEGORIES:A.A. Speaker,Al-Anon,Al-Anon Speaker,Anniversary Meeting,Fellowship,Speakers
END:VEVENT
BEGIN:VEVENT
DTSTART;TZID=America/New_York:20231014T083000
DTEND;TZID=America/New_York:20231014T153000
DTSTAMP:20260425T181036
CREATED:20230918T233354Z
LAST-MODIFIED:20230918T233354Z
UID:5636-1697272200-1697297400@nj-al-anon.org
SUMMARY:The Keys to Recovery
DESCRIPTION:Al-Anon Workshop – The Keys to Recovery \nA Day of Meetings \nSpeakers: Al-Anon\, AA \nBagels and Coffee \nBring a Friend! \nMore! \nClick Here for Flyer and More Details! \n 
URL:https://nj-al-anon.org/event/the-keys-to-recovery/
LOCATION:Bayside Chapel\, 965 West Bay Avenue\, Barnegat\, NJ\, 08005\, United States
CATEGORIES:A Day of Meetings,A.A. Speaker,Al-Anon,Al-Anon Speaker,Fellowship,Speakers,Workshop
END:VEVENT
BEGIN:VEVENT
DTSTART;TZID=America/New_York:20231026T190000
DTEND;TZID=America/New_York:20231026T190000
DTSTAMP:20260425T181036
CREATED:20230809T170153Z
LAST-MODIFIED:20230809T170323Z
UID:5601-1698346800-1698346800@nj-al-anon.org
SUMMARY:Serenity Seekers AFG - 20th Anniversary Meeting
DESCRIPTION:Serenity Seekers AFG \n20th Anniversary Meeting!\n\nTwo Al-Anon Speakers\nFood\nFellowship\n\nSee flyer below
URL:https://nj-al-anon.org/event/serenity-seekers-afg-20th-anniversary-meeting/
LOCATION:Grace Lutheran Church\, 11 East Dawes Avenue\, Somers Point\, 08244\, United States
CATEGORIES:Al-Anon,Al-Anon Speaker,Anniversary Meeting,Fellowship,Speakers
END:VEVENT
BEGIN:VEVENT
DTSTART;TZID=America/New_York:20240226T194500
DTEND;TZID=America/New_York:20240226T211500
DTSTAMP:20260425T181036
CREATED:20240127T172236Z
LAST-MODIFIED:20240127T172505Z
UID:5936-1708976700-1708982100@nj-al-anon.org
SUMMARY:Cranbury Stepping Stones AFG - 56th Anniversary Celebration
DESCRIPTION:Cranberry Stepping Stones AFG \n56th Anniversary Celebration!\n\nAl-Anon Speaker\nAA Speaker\nRefreshments\n\n7:45 PM Fellowship; 8:00 PM Speakers \nPlease Note: Meeting is in the white fellowship hall building to the right of the Presbyterian Church. \nSee flyer for details!
URL:https://nj-al-anon.org/event/cranbury-stepping-stones-afg-56th-anniversary-celebration/
LOCATION:Cranbury First Presbyterian Church\, 22 South Main Street\, Cranbury\, NJ\, 08512\, United States
CATEGORIES:A.A. Speaker,Al-Anon,Al-Anon Speaker,Anniversary Meeting,Fellowship,Speakers
END:VEVENT
BEGIN:VEVENT
DTSTART;VALUE=DATE:20240315
DTEND;VALUE=DATE:20240318
DTSTAMP:20260425T181036
CREATED:20231129T195013Z
LAST-MODIFIED:20231218T004242Z
UID:5786-1710460800-1710719999@nj-al-anon.org
SUMMARY:AA NJ Area 45 - 58th Convention
DESCRIPTION:New Jersey Area 45 AA\, 58th Convention-On the Plane of Inspiration \n\nFood\nFestivities\nSpeakers\nMeetings\nWorkshops\n\nSee flyer for details!
URL:https://nj-al-anon.org/event/nj-area-45-58th-convention/
LOCATION:The Claridge Hotel\, 123 South Indiana Avenue\, Atlantic City\, 08401\, United States
CATEGORIES:AA,Al-Anon,Convention,Fellowship,Speakers
END:VEVENT
BEGIN:VEVENT
DTSTART;TZID=America/New_York:20240326T193000
DTEND;TZID=America/New_York:20240326T193000
DTSTAMP:20260425T181036
CREATED:20240227T153844Z
LAST-MODIFIED:20240227T153944Z
UID:5986-1711481400-1711481400@nj-al-anon.org
SUMMARY:Hamilton Township Tuesday Night AFG - 26th Anniversary Meeting
DESCRIPTION:Hamilton Township Tuesday Night AFG \n26th Anniversary Meeting! \n\n7:30 PM: Refreshments\, Fellowship\n8:00 PM: Meeting Begins\n\nAl-Anon Speaker\, A.A. Speaker \nFriends and Family Welcome! \nThis is a hybrid meeting.  See flyer for login credentials!
URL:https://nj-al-anon.org/event/hamilton-township-tuesday-night-afg-26th-anniversary-meeting/
LOCATION:St Mark Lutheran Church Hamilton\, 350 White Horse Ave\, Hamilton\, NJ\, 08610\, United States
CATEGORIES:A.A. Speaker,Al-Anon,Al-Anon Speaker,Anniversary Meeting,Fellowship,Speakers,Virtual option
END:VEVENT
BEGIN:VEVENT
DTSTART;TZID=America/New_York:20240425T194500
DTEND;TZID=America/New_York:20240425T210000
DTSTAMP:20260425T181036
CREATED:20240401T112257Z
LAST-MODIFIED:20240401T112801Z
UID:6052-1714074300-1714078800@nj-al-anon.org
SUMMARY:Whitehorse Thursday Nite AFG - 42nd Anniversary Meeting
DESCRIPTION:Whitehorse Thursday Nite AFG \n42nd Anniversary Meeting!\n\n7:45 PM  Fellowship and Refreshments\n8:00 PM  Speakers\n\nHope to see you there! \nSee flyer for details!
URL:https://nj-al-anon.org/event/whitehorse-thursday-nite-afg-42nd-anniversary-meeting/
LOCATION:St Mark Lutheran Church Hamilton\, 350 White Horse Ave\, Hamilton\, NJ\, 08610\, United States
CATEGORIES:A.A. Speaker,Al-Anon,Al-Anon Speaker,Anniversary Meeting,Fellowship,Speaker meeting,Speakers
ATTACH;FMTTYPE=application/pdf:https://nj-al-anon.org/wp-content/uploads/2024/04/WHTN42_2024-1.pdf
END:VEVENT
BEGIN:VEVENT
DTSTART;TZID=America/New_York:20240426T190000
DTEND;TZID=America/New_York:20240426T190000
DTSTAMP:20260425T181036
CREATED:20240401T191046Z
LAST-MODIFIED:20240401T191051Z
UID:6062-1714158000-1714158000@nj-al-anon.org
SUMMARY:Save the Date!  Mount Laurel Rancocas Friday Night AFG Anniversary!
DESCRIPTION:Save the Date!\nMount Laurel Rancocas Friday Night AFG – Anniversary Meeting! \n\n7:00 PM  Refreshments and Fellowship\n7:30 PM  Al-Anon and AA Speakers\n\nSee flyer for details!
URL:https://nj-al-anon.org/event/save-the-date-mount-laurel-rancocas-friday-night-afg-anniversary/
LOCATION:New Covenant Presbyterian Church\, 240 Creek Road\, Mount Laurel\, NJ\, 08054\, United States
CATEGORIES:A.A. Speaker,Al-Anon,Al-Anon Speaker,Anniversary Meeting,Fellowship,Speakers
ATTACH;FMTTYPE=application/pdf:https://nj-al-anon.org/wp-content/uploads/2024/04/Save-the-date-April-26-1.pdf
END:VEVENT
BEGIN:VEVENT
DTSTART;TZID=America/New_York:20240430T183000
DTEND;TZID=America/New_York:20240430T183000
DTSTAMP:20260425T181036
CREATED:20240407T195348Z
LAST-MODIFIED:20240407T195352Z
UID:6091-1714501800-1714501800@nj-al-anon.org
SUMMARY:Courage to Change - 31st Anniversary Meeting
DESCRIPTION:Courage to Change – 31st Anniversary Meeting!\n\nRefreshments\nFellowship\nSpeakers\n\nSee flyer for Details!
URL:https://nj-al-anon.org/event/courage-to-change-31st-anniversary-meeting/
LOCATION:Trinity United Methodist Church\, 1985 Pennington Rd\, Ewing\, NJ\, 08618\, United States
CATEGORIES:A.A. Speaker,Al-Anon,Al-Anon Speaker,Alateen Speaker,Anniversary Meeting,Fellowship,Speakers,Virtual option
ATTACH;FMTTYPE=application/pdf:https://nj-al-anon.org/wp-content/uploads/2024/04/Celebrating-31-Years-1.pdf
END:VEVENT
BEGIN:VEVENT
DTSTART;TZID=America/New_York:20240506T184500
DTEND;TZID=America/New_York:20240506T184500
DTSTAMP:20260425T181036
CREATED:20240425T134850Z
LAST-MODIFIED:20240425T135516Z
UID:6105-1715021100-1715021100@nj-al-anon.org
SUMMARY:Medford Lakes AFG - Anniversary Meeting
DESCRIPTION:Medford Lakes AFG\nAnniversary Meeting!\n6:45 PM\, Doors Open – 7:00 PM\, Anniversary Meeting \n\nSpeakers\nFellowship\nRefreshments\n\nLocated in the Peabody Building \nSee Flyer for Details!
URL:https://nj-al-anon.org/event/medford-lakes-afg-anniversary-meeting/
LOCATION:Cathedral in the Woods – Peabody Building\, 100 Stokes Road\, Medford Lakes\, NJ\, 08055\, United States
CATEGORIES:Al-Anon,Anniversary Meeting,Fellowship,Speakers
ATTACH;FMTTYPE=image/jpeg:https://nj-al-anon.org/wp-content/uploads/2024/04/Medford-Lakes-anniv-05.06.24.jpg
END:VEVENT
BEGIN:VEVENT
DTSTART;TZID=America/New_York:20240518T094500
DTEND;TZID=America/New_York:20240518T094500
DTSTAMP:20260425T181036
CREATED:20240424T223006Z
LAST-MODIFIED:20240424T223033Z
UID:6101-1716025500-1716025500@nj-al-anon.org
SUMMARY:Saturday Morning AFG - 40th Anniversary Meeting
DESCRIPTION:Saturday Morning AFG \n40th Anniversary!\n\n9:45  Fellowship and Refreshments\n10:15 Speakers\n\nSee Flyer for Details! \n  \n 
URL:https://nj-al-anon.org/event/saturday-morning-afg-40th-anniversary-meeting/
LOCATION:Saint Gregory the Great Academy\, 4680 Nottingham Way\, Hamilton\, NJ\, 08690\, United States
CATEGORIES:A.A. Speaker,Al-Anon,Al-Anon Speaker,Anniversary Meeting,Fellowship,Speakers
ATTACH;FMTTYPE=application/pdf:https://nj-al-anon.org/wp-content/uploads/2024/04/SM-1.pdf
END:VEVENT
END:VCALENDAR