BEGIN:VCALENDAR
VERSION:2.0
PRODID:-//New Jersey Al-Anon Family Groups - ECPv6.15.20//NONSGML v1.0//EN
CALSCALE:GREGORIAN
METHOD:PUBLISH
X-WR-CALNAME:New Jersey Al-Anon Family Groups
X-ORIGINAL-URL:https://nj-al-anon.org
X-WR-CALDESC:Events for New Jersey Al-Anon Family Groups
REFRESH-INTERVAL;VALUE=DURATION:PT1H
X-Robots-Tag:noindex
X-PUBLISHED-TTL:PT1H
BEGIN:VTIMEZONE
TZID:America/New_York
BEGIN:DAYLIGHT
TZOFFSETFROM:-0500
TZOFFSETTO:-0400
TZNAME:EDT
DTSTART:20240310T070000
END:DAYLIGHT
BEGIN:STANDARD
TZOFFSETFROM:-0400
TZOFFSETTO:-0500
TZNAME:EST
DTSTART:20241103T060000
END:STANDARD
BEGIN:DAYLIGHT
TZOFFSETFROM:-0500
TZOFFSETTO:-0400
TZNAME:EDT
DTSTART:20250309T070000
END:DAYLIGHT
BEGIN:STANDARD
TZOFFSETFROM:-0400
TZOFFSETTO:-0500
TZNAME:EST
DTSTART:20251102T060000
END:STANDARD
BEGIN:DAYLIGHT
TZOFFSETFROM:-0500
TZOFFSETTO:-0400
TZNAME:EDT
DTSTART:20260308T070000
END:DAYLIGHT
BEGIN:STANDARD
TZOFFSETFROM:-0400
TZOFFSETTO:-0500
TZNAME:EST
DTSTART:20261101T060000
END:STANDARD
END:VTIMEZONE
BEGIN:VEVENT
DTSTART;TZID=America/New_York:20250606T193000
DTEND;TZID=America/New_York:20250606T210000
DTSTAMP:20260419T230104
CREATED:20250512T124249Z
LAST-MODIFIED:20250512T124249Z
UID:6635-1749238200-1749243600@nj-al-anon.org
SUMMARY:Somerville Friday Night AFG 50th Anniversary
DESCRIPTION:Somerville Friday Night AFG 50th Anniversary Meeting \n\n7:30 pm – Food & Fellowship\n8:00 pm – Speakers\n\nEveryone is welcome! \nSee flyer for more information
URL:https://nj-al-anon.org/event/somerville-friday-night-afg-50th-anniversary/
LOCATION:Good Shepherd Lutheran Church\, 300 Union Avenue\, Somerville\, NJ\, 08876\, United States
CATEGORIES:Al-Anon,Anniversary Meeting,Fellowship,Speakers
ATTACH;FMTTYPE=image/png:https://nj-al-anon.org/wp-content/uploads/2025/05/Somerville-50th-Anniversary-Flyer.png
END:VEVENT
BEGIN:VEVENT
DTSTART;VALUE=DATE:20250919
DTEND;VALUE=DATE:20250922
DTSTAMP:20260419T230104
CREATED:20250625T023949Z
LAST-MODIFIED:20250625T023949Z
UID:6684-1758240000-1758499199@nj-al-anon.org
SUMMARY:AA Area 44 69th Annual Convention – With Al-Anon Participation
DESCRIPTION:AA Area 44 \n69th Annual Convention \nwith Al-Anon Participation \n\nSpeakers\nWorkshops\nEntertainment\nBanquet\n\nSee flyer for more information \nClick here for registration form
URL:https://nj-al-anon.org/event/aa-area-44-69th-annual-convention-with-al-anon-participation/
LOCATION:The Double Tree Hotel\, 200 Atrium Drive\, Somerset\, NJ\, 08873\, United States
CATEGORIES:AA,AA Speaker,Al-Anon,Al-Anon Participation,Al-Anon Speaker,Convention,Fellowship,Service,Speakers,Workshops
ATTACH;FMTTYPE=image/png:https://nj-al-anon.org/wp-content/uploads/2025/06/Area-44-Convention-2025-Flyer-scaled.png
END:VEVENT
BEGIN:VEVENT
DTSTART;TZID=America/New_York:20251025T113000
DTEND;TZID=America/New_York:20251025T153000
DTSTAMP:20260419T230104
CREATED:20241030T235757Z
LAST-MODIFIED:20250827T212803Z
UID:6265-1761391800-1761406200@nj-al-anon.org
SUMMARY:District 5's Unity Day 2025
DESCRIPTION:Theme – Discovering Hope and Healing\nAll welcome to District 5’s Unity Day! \n\nSpeakers\nWorkshops\nFellowship\nand More!\n\nSee flyer for more information
URL:https://nj-al-anon.org/event/unity-day/
LOCATION:Stone Hill Church of Princeton\, 1025 Bunn Drive\, Princeton\, NJ\, 08540
CATEGORIES:Al-Anon,Fellowship,Speakers,Unity Day,Workshops
ATTACH;FMTTYPE=application/pdf:https://nj-al-anon.org/wp-content/uploads/2024/10/UD25Flyer.pdf
END:VEVENT
END:VCALENDAR