BEGIN:VCALENDAR
VERSION:2.0
PRODID:-//New Jersey Al-Anon Family Groups - ECPv6.15.20//NONSGML v1.0//EN
CALSCALE:GREGORIAN
METHOD:PUBLISH
X-ORIGINAL-URL:https://nj-al-anon.org
X-WR-CALDESC:Events for New Jersey Al-Anon Family Groups
REFRESH-INTERVAL;VALUE=DURATION:PT1H
X-Robots-Tag:noindex
X-PUBLISHED-TTL:PT1H
BEGIN:VTIMEZONE
TZID:America/New_York
BEGIN:DAYLIGHT
TZOFFSETFROM:-0500
TZOFFSETTO:-0400
TZNAME:EDT
DTSTART:20200308T070000
END:DAYLIGHT
BEGIN:STANDARD
TZOFFSETFROM:-0400
TZOFFSETTO:-0500
TZNAME:EST
DTSTART:20201101T060000
END:STANDARD
BEGIN:DAYLIGHT
TZOFFSETFROM:-0500
TZOFFSETTO:-0400
TZNAME:EDT
DTSTART:20210314T070000
END:DAYLIGHT
BEGIN:STANDARD
TZOFFSETFROM:-0400
TZOFFSETTO:-0500
TZNAME:EST
DTSTART:20211107T060000
END:STANDARD
BEGIN:DAYLIGHT
TZOFFSETFROM:-0500
TZOFFSETTO:-0400
TZNAME:EDT
DTSTART:20220313T070000
END:DAYLIGHT
BEGIN:STANDARD
TZOFFSETFROM:-0400
TZOFFSETTO:-0500
TZNAME:EST
DTSTART:20221106T060000
END:STANDARD
END:VTIMEZONE
BEGIN:VEVENT
DTSTART;TZID=America/New_York:20211002T080000
DTEND;TZID=America/New_York:20211002T143000
DTSTAMP:20260422T194957
CREATED:20211002T160000Z
LAST-MODIFIED:20211001T202132Z
UID:3869-1633161600-1633185000@nj-al-anon.org
SUMMARY:AA DISTRICT 10 - DAY OF SHARING: ROCKETED INTO A FOURTH DIMENSION - In Person & Virtual
DESCRIPTION:8:00am to 2:30pm (workshops start at 9:00)\nDoors open at 8:00 for registration/fellowship. \nThis event will be in-person AND virtual! \nAA and Al-Anon Speakers \nFlyer with more information
URL:https://nj-al-anon.org/event/aa-district-10-day-of-sharing-rocketed-into-a-fourth-dimension-in-person-virtual/
LOCATION:St. Joseph Church\, 216 Comly Road\, Lincoln Park & Zoom (see flyer above)\, St. Joseph Church\, 216 Comly Road\, Lincoln Park
CATEGORIES:Fellowship,Speakers,Virtual option,Workshop
END:VEVENT
BEGIN:VEVENT
DTSTART;TZID=America/New_York:20211009T140000
DTEND;TZID=America/New_York:20211009T140000
DTSTAMP:20260422T194957
CREATED:20211009T220000Z
LAST-MODIFIED:20210925T042858Z
UID:3758-1633788000-1633788000@nj-al-anon.org
SUMMARY:Replay: Al-Anon Family Groups 70th Anniversary Celebration - VIRTUAL
DESCRIPTION:The Al-Anon Family Groups World Service Office will replay the talks from the 70th Anniversary Celebration on the Al-Anon Family Groups Mobile App on October 9th at 2 pm Eastern Time. The replay will appear as a meeting option. \nFor more information about the Al-Anon Family Groups Mobile App\, click here.
URL:https://nj-al-anon.org/event/replay-al-anon-family-groups-70th-anniversary-celebration/
LOCATION:Al-Anon Family Groups Mobile App
CATEGORIES:Al-Anon,Anniversary Meeting,Speakers,Virtual
END:VEVENT
BEGIN:VEVENT
DTSTART;TZID=America/New_York:20211016T083000
DTEND;TZID=America/New_York:20211016T170000
DTSTAMP:20260422T194957
CREATED:20211016T163000Z
LAST-MODIFIED:20211002T201937Z
UID:3498-1634373000-1634403600@nj-al-anon.org
SUMMARY:NJ AlaCon: NJ Al-Anon Convention With Alateen and AA Participation - VIRTUAL
DESCRIPTION:Courage in a Changing World\n8:30 am   Welcome and Fellowship\n9:00 am   Opening Al-Anon Speaker Aaron J (NC)\n10:00 am When I Got Busy\, I Got Better / I Divorced the Alcoholic; Now What?\n11:00 am  Relapse Theirs and Ours / Anonymity in the Internet Age\n12:00 pm AA Speaker Tom C (NJ) and Alateen Speaker Shana (CA)\n1:00 pm   Dual Members: AA & Al / Anon I Stopped Buying Tickets to the Circus\n2:00 pm  Guided Meditation / Picking Up Tools and Mending My Life\n3:00 pm  Trustee Business Meeting / Replacing Isolation with Community\n4:00 pm  Closing Al-Anon Speaker Magdalena E (WA) \nFlyer with more information including how to register
URL:https://nj-al-anon.org/event/jal-con-2021-nj-al-anon-convention-with-alateen-and-aa-participation-virtual/
LOCATION:Zoom – see flyer for more information
CATEGORIES:Convention,Fellowship,Speakers,Virtual
ORGANIZER;CN="Liaison - Jal-Con":MAILTO:https://nj-al-anon.org/contact/
END:VEVENT
BEGIN:VEVENT
DTSTART;TZID=America/New_York:20211030T120000
DTEND;TZID=America/New_York:20211030T153000
DTSTAMP:20260422T194957
CREATED:20211030T200000Z
LAST-MODIFIED:20210925T045545Z
UID:3788-1635595200-1635607800@nj-al-anon.org
SUMMARY:District 20/21 Unity Fellowship Day: Faces of Change Through Al-Anon
DESCRIPTION:Two Sessions with choice of meetings to attend \nAl-Anon and AA Speakers \nBYO Lunch \nLiterature for sale \nClick here for flyer with more information
URL:https://nj-al-anon.org/event/district-20-21-unity-fellowship-day-faces-of-change-through-al-anon/
LOCATION:Stone Hill Church of Princeton\, 1025 Bunn Drive\, Princeton\, NJ\, 08540
CATEGORIES:Anniversary Meeting,Fellowship,Speakers
END:VEVENT
END:VCALENDAR