BEGIN:VCALENDAR
VERSION:2.0
PRODID:-//New Jersey Al-Anon Family Groups - ECPv6.15.20//NONSGML v1.0//EN
CALSCALE:GREGORIAN
METHOD:PUBLISH
X-WR-CALNAME:New Jersey Al-Anon Family Groups
X-ORIGINAL-URL:https://nj-al-anon.org
X-WR-CALDESC:Events for New Jersey Al-Anon Family Groups
REFRESH-INTERVAL;VALUE=DURATION:PT1H
X-Robots-Tag:noindex
X-PUBLISHED-TTL:PT1H
BEGIN:VTIMEZONE
TZID:America/New_York
BEGIN:DAYLIGHT
TZOFFSETFROM:-0500
TZOFFSETTO:-0400
TZNAME:EDT
DTSTART:20210314T070000
END:DAYLIGHT
BEGIN:STANDARD
TZOFFSETFROM:-0400
TZOFFSETTO:-0500
TZNAME:EST
DTSTART:20211107T060000
END:STANDARD
BEGIN:DAYLIGHT
TZOFFSETFROM:-0500
TZOFFSETTO:-0400
TZNAME:EDT
DTSTART:20220313T070000
END:DAYLIGHT
BEGIN:STANDARD
TZOFFSETFROM:-0400
TZOFFSETTO:-0500
TZNAME:EST
DTSTART:20221106T060000
END:STANDARD
BEGIN:DAYLIGHT
TZOFFSETFROM:-0500
TZOFFSETTO:-0400
TZNAME:EDT
DTSTART:20230312T070000
END:DAYLIGHT
BEGIN:STANDARD
TZOFFSETFROM:-0400
TZOFFSETTO:-0500
TZNAME:EST
DTSTART:20231105T060000
END:STANDARD
BEGIN:DAYLIGHT
TZOFFSETFROM:-0500
TZOFFSETTO:-0400
TZNAME:EDT
DTSTART:20240310T070000
END:DAYLIGHT
BEGIN:STANDARD
TZOFFSETFROM:-0400
TZOFFSETTO:-0500
TZNAME:EST
DTSTART:20241103T060000
END:STANDARD
END:VTIMEZONE
BEGIN:VEVENT
DTSTART;TZID=America/New_York:20230828T183000
DTEND;TZID=America/New_York:20230828T183000
DTSTAMP:20260421T203443
CREATED:20230430T004457Z
LAST-MODIFIED:20230430T005327Z
UID:5436-1693247400-1693247400@nj-al-anon.org
SUMMARY:District 5 Monthly Meeting - Virtual
DESCRIPTION:District 5 Monthly Meeting\n  \nWhere Group Representatives vote on District Business! \nMeetings typically include the following topics: \n\nGroup Status Updates\nSecretary’s Report\nTreasurer’s Report\nAlateen Report\nLiterature Report and CAL Book Review\nPublic Outreach Activities\nUnity Day Planning\nAssembly Report\nDistrict 5 Upcoming Events\n\nClick here to login
URL:https://nj-al-anon.org/event/district-5-monthly-meeting-virtual-3/
LOCATION:Zoom – see link above
CATEGORIES:Al-Anon,Alateen,District Meeting,District Representative,Fellowship,Group Representative,Service,Virtual
END:VEVENT
BEGIN:VEVENT
DTSTART;TZID=America/New_York:20230816T183000
DTEND;TZID=America/New_York:20230816T183000
DTSTAMP:20260421T203443
CREATED:20230523T102714Z
LAST-MODIFIED:20230523T102840Z
UID:5497-1692210600-1692210600@nj-al-anon.org
SUMMARY:District 8 Monthly Meeting - Virtual
DESCRIPTION:District 8 Monthly Meeting\nWhere Group Representatives vote on District Business! \nClick here to login
URL:https://nj-al-anon.org/event/district-8-monthly-meeting-virtual-4/
LOCATION:Zoom – see link above
CATEGORIES:Al-Anon,Alateen,District Meeting,District Representative,Fellowship,Group Representative,Service,Virtual
END:VEVENT
BEGIN:VEVENT
DTSTART;TZID=America/New_York:20230724T183000
DTEND;TZID=America/New_York:20230724T183000
DTSTAMP:20260421T203443
CREATED:20230430T004138Z
LAST-MODIFIED:20230430T005254Z
UID:5433-1690223400-1690223400@nj-al-anon.org
SUMMARY:District 5 Monthly Meeting - Virtual
DESCRIPTION:District 5 Monthly Meeting\n  \nWhere Group Representatives vote on District Business! \nMeetings typically include the following topics: \n\nGroup Status Updates\nSecretary’s Report\nTreasurer’s Report\nAlateen Report\nLiterature Report and CAL Book Review\nPublic Outreach Activities\nUnity Day Planning\nAssembly Report\nDistrict 5 Upcoming Events\n\nClick here to login
URL:https://nj-al-anon.org/event/district-5-monthly-meeting-virtual-2/
LOCATION:Zoom – see link above
CATEGORIES:Al-Anon,Alateen,District Meeting,District Representative,Fellowship,Group Representative,Service,Virtual
END:VEVENT
BEGIN:VEVENT
DTSTART;TZID=America/New_York:20230719T183000
DTEND;TZID=America/New_York:20230719T183000
DTSTAMP:20260421T203443
CREATED:20230523T101427Z
LAST-MODIFIED:20230523T101427Z
UID:5491-1689791400-1689791400@nj-al-anon.org
SUMMARY:District 8 Monthly Meeting - Virtual
DESCRIPTION:District 8 Monthly Meeting\nWhere Group Representatives vote on District Business! \nClick here to login
URL:https://nj-al-anon.org/event/district-8-monthly-meeting-virtual-2/
LOCATION:Zoom – see link above
CATEGORIES:Al-Anon,Alateen,District Meeting,District Representative,Group Representative,Service,Virtual
END:VEVENT
BEGIN:VEVENT
DTSTART;VALUE=DATE:20230629
DTEND;VALUE=DATE:20230703
DTSTAMP:20260421T203443
CREATED:20230204T005935Z
LAST-MODIFIED:20230204T104041Z
UID:5216-1687996800-1688342399@nj-al-anon.org
SUMMARY:2023 Al-Anon International Convention
DESCRIPTION:Registration is open!  Click here for registration and details. \n\nThe Party in the Plaza (Thursday night)\nInternational Big Meeting\, including the Language of Love Parade (Friday morning)\nFamily Big Meeting (Saturday night)\nSpiritual Big Meeting (Sunday morning)\nYour choice of many sessions throughout the event\n\n 
URL:https://nj-al-anon.org/event/2023-al-anon-international-convention/
LOCATION:Albuquerque Convention Center\, 401 2nd St NW\, Albuquerque\, NM\, 87102\, United States
CATEGORIES:Al-Anon,Convention,Fellowship,Service,Workshop
END:VEVENT
BEGIN:VEVENT
DTSTART;TZID=America/New_York:20230626T183000
DTEND;TZID=America/New_York:20230626T183000
DTSTAMP:20260421T203443
CREATED:20230430T003558Z
LAST-MODIFIED:20230430T005207Z
UID:5428-1687804200-1687804200@nj-al-anon.org
SUMMARY:District 5 Monthly Meeting - Virtual
DESCRIPTION:District 5 Monthly Meeting\n  \nWhere Group Representatives vote on District Business! \nMeetings typically include the following topics: \n\nGroup Status Updates\nSecretary’s Report\nTreasurer’s Report\nAlateen Report\nLiterature Report and CAL Book Review\nPublic Outreach Activities\nUnity Day Planning\nAssembly Report\nDistrict 5 Upcoming Events\n\nClick here to login
URL:https://nj-al-anon.org/event/district-5-monthly-meeting-virtual/
LOCATION:Zoom – see link above
CATEGORIES:Al-Anon,Alateen,District Meeting,District Representative,Fellowship,Group Representative,Service,Virtual
END:VEVENT
BEGIN:VEVENT
DTSTART;TZID=America/New_York:20230621T183000
DTEND;TZID=America/New_York:20230621T183000
DTSTAMP:20260421T203443
CREATED:20230523T101933Z
LAST-MODIFIED:20230523T102128Z
UID:5494-1687372200-1687372200@nj-al-anon.org
SUMMARY:District 8 Monthly Meeting - Virtual
DESCRIPTION:District 8 Monthly Meeting\nWhere Group Representatives vote on District Business! \nClick here to login
URL:https://nj-al-anon.org/event/district-8-monthly-meeting-virtual-3/
LOCATION:Zoom – see link above
CATEGORIES:Al-Anon,Alateen,District Meeting,District Representative,Fellowship,Group Representative,Service,Virtual
END:VEVENT
BEGIN:VEVENT
DTSTART;TZID=America/New_York:20230603T100000
DTEND;TZID=America/New_York:20230603T150000
DTSTAMP:20260421T203443
CREATED:20230109T171125Z
LAST-MODIFIED:20230326T230935Z
UID:5164-1685786400-1685804400@nj-al-anon.org
SUMMARY:New Jersey Area Assembly - Virtual
DESCRIPTION:Assembly: The business meeting where Group Representatives (GRs) from around the state express their voice and vote on behalf of their Group. \nPlease contact your District Representative (DR) for a copy of the Assembly packet. If you do not have a DR\, please contact the Website Coordinator via the Contact US page for a copy. \nLogin details: \n\nZoom Link:  https://us02web.zoom.us/j/83382527678?pwd=SEtUWmZpWDNjenZidUs1VkJqdjYvdz09\nMeeting ID: 833 8252 7678\nPasscode: 393268\n\nOne tap mobile\n+16469313860\,\,83382527678#\,\,\,\,*393268# US\n+19292056099\,\,83382527678#\,\,\,\,*393268# US (New York)\n  \nDon’t forget your Service Manual!
URL:https://nj-al-anon.org/event/new-jersey-area-assembly-virtual/
LOCATION:Zoom
CATEGORIES:AA,Area Assembly,Fellowship,Service,Virtual
END:VEVENT
BEGIN:VEVENT
DTSTART;TZID=America/New_York:20230522T183000
DTEND;TZID=America/New_York:20230522T183000
DTSTAMP:20260421T203443
CREATED:20230429T132215Z
LAST-MODIFIED:20230430T005129Z
UID:5422-1684780200-1684780200@nj-al-anon.org
SUMMARY:District 5 Monthly Meeting - Zoom
DESCRIPTION:District 5 Monthly Meeting\n  \nWhere Group Representatives vote on District Business! \nMeetings typically include the following topics: \n\nGroup Status Updates\nSecretary’s Report\nTreasurer’s Report\nAlateen Report\nLiterature Report and CAL Book Review\nPublic Outreach Activities\nUnity Day Planning\nAssembly Report\nDistrict 5 Upcoming Events\n\nClick here to login
URL:https://nj-al-anon.org/event/district-5-meeting-zoom/
LOCATION:Zoom – see link above
CATEGORIES:Al-Anon,Alateen,District Meeting,District Representative,Fellowship,Group Representative,Service,Virtual
END:VEVENT
BEGIN:VEVENT
DTSTART;TZID=America/New_York:20230519T140000
DTEND;TZID=America/New_York:20230519T180000
DTSTAMP:20260421T203443
CREATED:20230313T103832Z
LAST-MODIFIED:20230313T103832Z
UID:5349-1684504800-1684519200@nj-al-anon.org
SUMMARY:2023 Annual AMIAS Certification/Recertification
DESCRIPTION:2023 Annual AMIAS Certification/Recertification \n\nAll sessions via Zoom\nZoom information will be sent with the registration confirmation\nLunch during the meeting\n\nSee flyer for details
URL:https://nj-al-anon.org/event/2023-annual-amias-certification-recertification-4/
LOCATION:Zoom – Please check your email for login information
CATEGORIES:Alateen,Fellowship,Service,Virtual,Workshop
ORGANIZER;CN="Alateen Coordinator":MAILTO:https://nj-al-anon.org/contact/
END:VEVENT
BEGIN:VEVENT
DTSTART;TZID=America/New_York:20230506T110000
DTEND;TZID=America/New_York:20230506T150000
DTSTAMP:20260421T203443
CREATED:20230109T165125Z
LAST-MODIFIED:20230326T230535Z
UID:5155-1683370800-1683385200@nj-al-anon.org
SUMMARY:New Jersey AWSC Meeting - Virtual
DESCRIPTION:Area World Service Committee:  Attended by Assembly officers\, all District Representatives and Al-Anon Information Service Liaisons\, and the Area Coordinators of special services. \nAll Al-Anon and Alateen members are welcome.  Here\, the agenda will be set for the Assembly Meeting. \nLogin details: \n\nZoom Link:  https://us02web.zoom.us/j/81096871523?pwd=emt4aERrc1BMdElESnVHamZubGtvZz09\nMeeting ID: 810 9687 1523\nPasscode: 912566\n\nOne tap mobile\n+13052241968\,\,81096871523#\,\,\,\,*912566# US\n+13092053325\,\,81096871523#\,\,\,\,*912566# US \n\nDon’t forget your Service Manual!
URL:https://nj-al-anon.org/event/awsc-meeting-virtual-4/
LOCATION:Zoom – Check back soon for more about login credentials
CATEGORIES:Al-Anon,AWSC,Fellowship,Service,Virtual
END:VEVENT
BEGIN:VEVENT
DTSTART;TZID=America/New_York:20230429T100000
DTEND;TZID=America/New_York:20230429T140000
DTSTAMP:20260421T203443
CREATED:20230313T102913Z
LAST-MODIFIED:20230313T103437Z
UID:5341-1682762400-1682776800@nj-al-anon.org
SUMMARY:2023 Annual AMIAS Certification/Recertification
DESCRIPTION:2023 Annual AMIAS Certification/Recertification \n\nAll sessions via Zoom\nZoom information will be sent with the registration confirmation\nLunch during the meeting\n\nSee flyer for details
URL:https://nj-al-anon.org/event/2023-annual-amias-certficiation-recertification/
LOCATION:Zoom – Please check your email for login information
CATEGORIES:Alateen,Fellowship,Service,Virtual,Workshop
ORGANIZER;CN="Alateen Coordinator":MAILTO:https://nj-al-anon.org/contact/
END:VEVENT
BEGIN:VEVENT
DTSTART;TZID=America/New_York:20230415T100000
DTEND;TZID=America/New_York:20230415T140000
DTSTAMP:20260421T203443
CREATED:20230313T102651Z
LAST-MODIFIED:20230313T103524Z
UID:5338-1681552800-1681567200@nj-al-anon.org
SUMMARY:2023 Annual AMIAS Certification/Recertification
DESCRIPTION:2023 Annual AMIAS Certification/Recertification \n\nAll sessions via Zoom\nZoom information will be sent with the registration confirmation\nLunch during the meeting\n\nSee flyer for details
URL:https://nj-al-anon.org/event/2023-annual-amias-certification-recertification-3/
LOCATION:Zoom – Please check your email for login information
CATEGORIES:Alateen,Fellowship,Service,Virtual,Workshop
ORGANIZER;CN="Alateen Coordinator":MAILTO:https://nj-al-anon.org/contact/
END:VEVENT
BEGIN:VEVENT
DTSTART;TZID=America/New_York:20230401T100000
DTEND;TZID=America/New_York:20230401T140000
DTSTAMP:20260421T203443
CREATED:20230313T102353Z
LAST-MODIFIED:20230313T102353Z
UID:5335-1680343200-1680357600@nj-al-anon.org
SUMMARY:2023 Annual AMIAS Certification/Recertification
DESCRIPTION:2023 Annual AMIAS Certification/Recertification \n\nAll sessions via Zoom\nZoom information will be sent with the registration confirmation\nLunch during the meeting\n\nSee flyer for details
URL:https://nj-al-anon.org/event/2023-annual-amias-certification-recertification-2/
LOCATION:Zoom – Please check your email for login information
CATEGORIES:Alateen,Fellowship,Service,Virtual,Workshop
ORGANIZER;CN="Alateen Coordinator":MAILTO:https://nj-al-anon.org/contact/
END:VEVENT
BEGIN:VEVENT
DTSTART;TZID=America/New_York:20230318T100000
DTEND;TZID=America/New_York:20230318T140000
DTSTAMP:20260421T203443
CREATED:20230313T100718Z
LAST-MODIFIED:20230313T101649Z
UID:5329-1679133600-1679148000@nj-al-anon.org
SUMMARY:2023 Annual AMIAS Certification/Recertification
DESCRIPTION:2023 Annual AMIAS Certification/Recertification \n\nAll sessions via Zoom\nZoom information will be sent with the registration confirmation\nLunch during the meeting\n\nSee flyer for details
URL:https://nj-al-anon.org/event/2023-annual-amias-certification-recertification/
LOCATION:Zoom – Please check your email for login information
CATEGORIES:Alateen,Fellowship,Service,Workshop
ORGANIZER;CN="Alateen Coordinator":MAILTO:https://nj-al-anon.org/contact/
END:VEVENT
BEGIN:VEVENT
DTSTART;VALUE=DATE:20230317
DTEND;VALUE=DATE:20230320
DTSTAMP:20260421T203443
CREATED:20230115T193900Z
LAST-MODIFIED:20230115T193900Z
UID:5186-1679011200-1679270399@nj-al-anon.org
SUMMARY:NJ Area 45 AA - 57th Convention
DESCRIPTION:New Jersey Area 45 AA\, 57th Convention \n\nFood\nFestivities\nSpeakers\nMeetings\nWorkshops\n\nVisit Area 45 Website for more information. \n 
URL:https://nj-al-anon.org/event/nj-area-45-aa-57th-convention/
CATEGORIES:A.A. Speaker,AA,Convention,Fellowship,Service,Speaker meeting,Speakers,Workshop
END:VEVENT
BEGIN:VEVENT
DTSTART;TZID=America/New_York:20230304T100000
DTEND;TZID=America/New_York:20230304T150000
DTSTAMP:20260421T203443
CREATED:20230109T170735Z
LAST-MODIFIED:20230214T170828Z
UID:5161-1677924000-1677942000@nj-al-anon.org
SUMMARY:New Jersey Area Assembly Meeting - Virtual
DESCRIPTION:Assembly: The business meeting where Group Representatives (GRs) from around the state express their voice and vote on behalf of their Group. \nPlease contact your District Representative (DR) for a copy of the Assembly packet. If you do not have a DR\, please contact the Website Coordinator via the Contact US page for a copy. \nJoin Zoom Meeting \nhttps://us02web.zoom.us/j/86066135873?pwd=aGpDU1ZpRVROUG5Wa1JSajU2alFPUT09 \nMeeting ID: 860 6613 5873\nPasscode: 323567\nOne tap mobile\n+13052241968\,\,86066135873#\,\,\,\,*323567# US\n+13126266799\,\,86066135873#\,\,\,\,*323567# US (Chicago) \nDial by your location\n+1 305 224 1968 US\n+1 312 626 6799 US (Chicago)\n+1 646 931 3860 US\n+1 929 205 6099 US (New York)\n+1 301 715 8592 US (Washington DC)\n+1 309 205 3325 US\n+1 669 900 6833 US (San Jose)\n+1 689 278 1000 US\n+1 719 359 4580 US\n+1 253 205 0468 US\n+1 253 215 8782 US (Tacoma)\n+1 346 248 7799 US (Houston)\n+1 360 209 5623 US\n+1 386 347 5053 US\n+1 507 473 4847 US\n+1 564 217 2000 US\n+1 669 444 9171 US\nMeeting ID: 860 6613 5873\nPasscode: 323567\nFind your local number: https://us02web.zoom.us/u/komL0x1Xn \nDon’t forget your Service Manual! \nDon’t forget your Service Manual!
URL:https://nj-al-anon.org/event/new-jersey-area-assembly-meeting-virtual/
LOCATION:Zoom
CATEGORIES:Al-Anon,Area Assembly,Fellowship,Service,Virtual
END:VEVENT
BEGIN:VEVENT
DTSTART;TZID=America/New_York:20230204T110000
DTEND;TZID=America/New_York:20230204T150000
DTSTAMP:20260421T203443
CREATED:20230108T004954Z
LAST-MODIFIED:20230109T171559Z
UID:5143-1675508400-1675522800@nj-al-anon.org
SUMMARY:New Jersey AWSC Meeting - Virtual
DESCRIPTION:Area World Service Committee:  Attended by Assembly officers\, all District Representatives and Al-Anon Information Service Liaisons\, and the Area Coordinators of special services. \nAll Al-Anon and Alateen members are welcome.  Here\, the agenda will be set for the Assembly Meeting. \nJoin Zoom Meeting\nhttps://us02web.zoom.us/j/84307853779?pwd=ekhGUXZlMy84Yk9LZU9STm81d0hHdz09 \nMeeting ID: 843 0785 3779\nPasscode: 548501 \nDon’t forget your Service Manual!
URL:https://nj-al-anon.org/event/awsc-meeting-virtual-2/
LOCATION:Zoom
CATEGORIES:Al-Anon,AWSC,Fellowship,Service,Virtual
END:VEVENT
BEGIN:VEVENT
DTSTART;TZID=America/New_York:20221105T100000
DTEND;TZID=America/New_York:20221105T150000
DTSTAMP:20260421T203443
CREATED:20220127T122937Z
LAST-MODIFIED:20221027T143751Z
UID:4304-1667642400-1667660400@nj-al-anon.org
SUMMARY:NJ Area Assembly Meeting
DESCRIPTION:Assembly: The business meeting where Group Representatives (GRs) from around the state express their voice and vote on behalf of their Group. \nDon’t forget your Service Manual! \nPlease contact your District Representative (DR) for a copy of the Assembly packet. \nIf you plan to attend the Assembly\, either virtually or in person\, please complete the Registration Survey by clicking here. \nIn Person Location: Mercer County Community College Conference Center.  See map below.\n\n\nVirtual Component: Meeting ID: 826 2033 7948\, Passcode: 632624\n\nhttps://us02web.zoom.us/j/82620337948?pwd=cno3L20wWkJqVmUzYmlYYVBVdC9wUT09
URL:https://nj-al-anon.org/event/nj-area-assembly-meeting-2/
LOCATION:Mercer County Community College Conference Center\, 1200 Old Trenton Road\, West Windsor\, NJ\, 08550\, United States
CATEGORIES:Al-Anon,Alateen,Fellowship,Service,Virtual option
END:VEVENT
BEGIN:VEVENT
DTSTART;TZID=America/New_York:20221015T100000
DTEND;TZID=America/New_York:20221015T120000
DTSTAMP:20260421T203443
CREATED:20220922T115945Z
LAST-MODIFIED:20220922T115945Z
UID:4844-1665828000-1665835200@nj-al-anon.org
SUMMARY:Al-Anon District 9 Virtual Workshop
DESCRIPTION:Al-Anon District 9 Virtual Workshop \nWhen I Got Busy\, I Got Better \nFeatures: \n\nTwo workshops\nOne Al-Anon Speaker\n\nZoom on the District Link \nSee flyer for details \n  \n 
URL:https://nj-al-anon.org/event/al-anon-district-9-virtual-workshop/
CATEGORIES:Al-Anon,Al-Anon Speaker,Service,Virtual,Workshop
END:VEVENT
BEGIN:VEVENT
DTSTART;TZID=America/New_York:20221001T110000
DTEND;TZID=America/New_York:20221001T150000
DTSTAMP:20260421T203443
CREATED:20220127T123936Z
LAST-MODIFIED:20220904T130446Z
UID:4311-1664622000-1664636400@nj-al-anon.org
SUMMARY:AWSC Meeting
DESCRIPTION:Area World Service Committee: Attended by Assembly officers\, all District Representatives and Al-Anon Information Service Liaisons\, and the Area Coordinators of special services.\nAll Al-Anon and Alateen members are welcome!\nDon’t forget your Service Manual! \nIn Person Location:  Mercer County Community College Conference Center; see map below. \nVirtual Component:  Meeting ID: 860 0227 3086\, Passcode: 919584\nhttps://us02web.zoom.us/j/86002273086?pwd=cmZ1MXA5eDlZZ29TUDcwZFk5VVZUdz09 \n 
URL:https://nj-al-anon.org/event/awsc-meeting-7/
LOCATION:Mercer County Community College Conference Center\, 1200 Old Trenton Road\, West Windsor\, NJ\, 08550\, United States
CATEGORIES:Al-Anon,Fellowship,Service,Virtual option
END:VEVENT
BEGIN:VEVENT
DTSTART;TZID=America/New_York:20220604T100000
DTEND;TZID=America/New_York:20220604T150000
DTSTAMP:20260421T203443
CREATED:20220127T122257Z
LAST-MODIFIED:20220127T154809Z
UID:4300-1654336800-1654354800@nj-al-anon.org
SUMMARY:NJ Area Assembly Meeting - Virtual
DESCRIPTION:Assembly: The business meeting where Group Representatives (GRs) from around the state express their voice and vote on behalf of their Group. \nDon’t forget your Service Manual! \nPlease contact your District Representative (DR) for a copy of the Assembly packet. If you do not have a DR\, please contact the Website Coordinator via the Contact US page for a copy.
URL:https://nj-al-anon.org/event/nj-area-assembly-meeting/
LOCATION:Zoom – Please check your email for login information
CATEGORIES:Service
END:VEVENT
BEGIN:VEVENT
DTSTART;TZID=America/New_York:20220514T100000
DTEND;TZID=America/New_York:20220514T140000
DTSTAMP:20260421T203443
CREATED:20220215T190652Z
LAST-MODIFIED:20220217T215613Z
UID:4395-1652522400-1652536800@nj-al-anon.org
SUMMARY:AMIAS Training - Final Training Date - Virtual
DESCRIPTION:AMIAS Training (Al-Anon Member Involved in Alateen Service) \nMust be at least 25 years old and have at least 2 continuous years of Al-Anon program. \nLunch during meeting. \nMust be pre-registered. \nSee flyer for more information.
URL:https://nj-al-anon.org/event/amias-training-final-date-virtual/
LOCATION:Zoom – Please check your email for login information
CATEGORIES:Alateen,Service,Virtual
ORGANIZER;CN="Alateen Coordinator":MAILTO:https://nj-al-anon.org/contact/
END:VEVENT
BEGIN:VEVENT
DTSTART;TZID=America/New_York:20220507T110000
DTEND;TZID=America/New_York:20220507T150000
DTSTAMP:20260421T203443
CREATED:20220127T123527Z
LAST-MODIFIED:20220127T155050Z
UID:4308-1651921200-1651935600@nj-al-anon.org
SUMMARY:AWSC Meeting - Virtual
DESCRIPTION:Area World Service Committee: Attended by Assembly officers\, all District Representatives and Al-Anon Information Service Liaisons\, and the Area Coordinators of special services. \nAll Al-Anon and Alateen members are welcome! Here the agenda will be set for the Assembly Meeting. \nDon’t forget your Service Manual! \n  \nIf you did not receive the login-in information please contact the chairperson here.
URL:https://nj-al-anon.org/event/awsc-meeting-6/
LOCATION:Zoom – Please check your email for login information
CATEGORIES:Service
END:VEVENT
BEGIN:VEVENT
DTSTART;TZID=America/New_York:20220423T100000
DTEND;TZID=America/New_York:20220423T140000
DTSTAMP:20260421T203443
CREATED:20220217T213052Z
LAST-MODIFIED:20220217T214911Z
UID:4428-1650708000-1650722400@nj-al-anon.org
SUMMARY:AMIAS Training
DESCRIPTION:AMIAS Training (Al-Anon Member Involved in Alateen Service) \nMust be at least 25 years old and have at least 2 continuous years of Al-Anon program. \nIn person only. \nLocated in the Library\, lunch during meeting. \nMust be pre-registered. \nSee flyer for more information.
URL:https://nj-al-anon.org/event/amias-training-6/
LOCATION:Rock Church\, 240 Creek Road\, Mount Laurel\, NJ\, 08054\, United States
CATEGORIES:Alateen,Service
END:VEVENT
BEGIN:VEVENT
DTSTART;TZID=America/New_York:20220409T100000
DTEND;TZID=America/New_York:20220409T140000
DTSTAMP:20260421T203443
CREATED:20220217T220015Z
LAST-MODIFIED:20220217T220015Z
UID:4446-1649498400-1649512800@nj-al-anon.org
SUMMARY:AMIAS Training - Virtual
DESCRIPTION:AMIAS Training (Al-Anon Member Involved in Alateen Service) \nMust be at least 25 years old and have at least 2 continuous years of Al-Anon program. \nLunch during meeting. \nMust be pre-registered. \nSee flyer for more information.
URL:https://nj-al-anon.org/event/amias-training-virtual-2/
LOCATION:Zoom – Please check your email for login information
CATEGORIES:Alateen,Service,Virtual
ORGANIZER;CN="Alateen Coordinator":MAILTO:https://nj-al-anon.org/contact/
END:VEVENT
BEGIN:VEVENT
DTSTART;TZID=America/New_York:20220326T100000
DTEND;TZID=America/New_York:20220326T140000
DTSTAMP:20260421T203443
CREATED:20220215T190212Z
LAST-MODIFIED:20220217T214700Z
UID:4389-1648288800-1648303200@nj-al-anon.org
SUMMARY:AMIAS Training
DESCRIPTION:AMIAS Training (Al-Anon Member Involved in Alateen Service) \nMust be at least 25 years old and have at least 2 continuous years of Al-Anon program. \nIn person only. \nLocated in the Library\, lunch during meeting. \nMust be pre-registered. \nSee flyer for more information. \n 
URL:https://nj-al-anon.org/event/amias-training-5/
LOCATION:Butler United Methodist Church\, 5 Bartholdi Ave\, Butler\, NJ\, 07405\, United States
CATEGORIES:Alateen,Service
ORGANIZER;CN="Alateen Coordinator":MAILTO:https://nj-al-anon.org/contact/
END:VEVENT
BEGIN:VEVENT
DTSTART;TZID=America/New_York:20220312T100000
DTEND;TZID=America/New_York:20220312T140000
DTSTAMP:20260421T203443
CREATED:20220215T185338Z
LAST-MODIFIED:20220217T215155Z
UID:4386-1647079200-1647093600@nj-al-anon.org
SUMMARY:AMIAS Training - Virtual
DESCRIPTION:AMIAS Training (Al-Anon Member Involved in Alateen Service) \nMust be at least 25 years old and have at least 2 continuous years of Al-Anon program. \nLunch during meeting. \nMust be pre-registered. \nSee flyer for more information. \n 
URL:https://nj-al-anon.org/event/amias-training-virtual/
LOCATION:Zoom – Please check your email for login information
CATEGORIES:Alateen,Service,Virtual
ORGANIZER;CN="Alateen Coordinator":MAILTO:https://nj-al-anon.org/contact/
END:VEVENT
BEGIN:VEVENT
DTSTART;TZID=America/New_York:20220305T100000
DTEND;TZID=America/New_York:20220305T150000
DTSTAMP:20260421T203443
CREATED:20220127T121751Z
LAST-MODIFIED:20220127T122454Z
UID:4297-1646474400-1646492400@nj-al-anon.org
SUMMARY:NJ Area Assembly Meeting - Virtual
DESCRIPTION:Assembly: The business meeting where Group Representatives (GRs) from around the state express their voice and vote on behalf of their Group. \nDon’t forget your Service Manual! \nPlease contact your District Representative (DR) for a copy of the Assembly packet. If you do not have a DR\, please contact the Website Coordinator via the Contact US page for a copy.
URL:https://nj-al-anon.org/event/nj-area-assembly-meeting-virtual/
LOCATION:Zoom – Please check your email for login information
CATEGORIES:Service,Virtual
END:VEVENT
BEGIN:VEVENT
DTSTART;TZID=America/New_York:20220205T110000
DTEND;TZID=America/New_York:20220205T150000
DTSTAMP:20260421T203443
CREATED:20220127T121242Z
LAST-MODIFIED:20220127T121242Z
UID:4294-1644058800-1644073200@nj-al-anon.org
SUMMARY:AWSC Meeting - Virtual
DESCRIPTION:Area World Service Committee:  Attended by Assembly officers\, all District Representatives and Al-Anon Information Service Liaisons\, and the Area Coordinators of special services. \nAll Al-Anon and Alateen members are welcome!  Here the agenda will be set for the Assembly Meeting. \nDon’t forget your Service Manual! \n  \nIf you did not receive the login-in information please contact the chairperson here.
URL:https://nj-al-anon.org/event/awsc-meeting-virtual-3/
LOCATION:Zoom – Please check your email for login information
CATEGORIES:Service,Virtual
END:VEVENT
END:VCALENDAR