BEGIN:VCALENDAR
VERSION:2.0
PRODID:-//New Jersey Al-Anon Family Groups - ECPv6.15.20//NONSGML v1.0//EN
CALSCALE:GREGORIAN
METHOD:PUBLISH
X-WR-CALNAME:New Jersey Al-Anon Family Groups
X-ORIGINAL-URL:https://nj-al-anon.org
X-WR-CALDESC:Events for New Jersey Al-Anon Family Groups
REFRESH-INTERVAL;VALUE=DURATION:PT1H
X-Robots-Tag:noindex
X-PUBLISHED-TTL:PT1H
BEGIN:VTIMEZONE
TZID:America/New_York
BEGIN:DAYLIGHT
TZOFFSETFROM:-0500
TZOFFSETTO:-0400
TZNAME:EDT
DTSTART:20230312T070000
END:DAYLIGHT
BEGIN:STANDARD
TZOFFSETFROM:-0400
TZOFFSETTO:-0500
TZNAME:EST
DTSTART:20231105T060000
END:STANDARD
BEGIN:DAYLIGHT
TZOFFSETFROM:-0500
TZOFFSETTO:-0400
TZNAME:EDT
DTSTART:20240310T070000
END:DAYLIGHT
BEGIN:STANDARD
TZOFFSETFROM:-0400
TZOFFSETTO:-0500
TZNAME:EST
DTSTART:20241103T060000
END:STANDARD
BEGIN:DAYLIGHT
TZOFFSETFROM:-0500
TZOFFSETTO:-0400
TZNAME:EDT
DTSTART:20250309T070000
END:DAYLIGHT
BEGIN:STANDARD
TZOFFSETFROM:-0400
TZOFFSETTO:-0500
TZNAME:EST
DTSTART:20251102T060000
END:STANDARD
BEGIN:DAYLIGHT
TZOFFSETFROM:-0500
TZOFFSETTO:-0400
TZNAME:EDT
DTSTART:20260308T070000
END:DAYLIGHT
BEGIN:STANDARD
TZOFFSETFROM:-0400
TZOFFSETTO:-0500
TZNAME:EST
DTSTART:20261101T060000
END:STANDARD
END:VTIMEZONE
BEGIN:VEVENT
DTSTART;TZID=America/New_York:20250210T063000
DTEND;TZID=America/New_York:20250210T193000
DTSTAMP:20260421T043100
CREATED:20250205T134540Z
LAST-MODIFIED:20250205T134540Z
UID:6390-1739169000-1739215800@nj-al-anon.org
SUMMARY:District 5 Monthly Meeting – Virtual
DESCRIPTION:Where Group Representatives vote on District Business! \nMeetings typically include the following topics: \n\nGroup Status Updates\nSecretary’s Report\nTreasurer’s Report\nAlateen Report\nLiterature Report and CAL Book Review\nPublic Outreach Activities\nUnity Day Planning\nAssembly Report\nDistrict 5 Upcoming Events\n\nMeeting ID:  81211365411  Passcode:  855984 \nClick here to log in
URL:https://nj-al-anon.org/event/district-5-monthly-meeting-virtual-18/
LOCATION:Zoom – See Link in Description
CATEGORIES:Al-Anon,Alateen,District Meeting,District Representative,Fellowship,Group Representative,Service,Virtual
END:VEVENT
BEGIN:VEVENT
DTSTART;TZID=America/New_York:20250127T183000
DTEND;TZID=America/New_York:20250127T193000
DTSTAMP:20260421T043100
CREATED:20241126T010430Z
LAST-MODIFIED:20250119T225304Z
UID:6293-1738002600-1738006200@nj-al-anon.org
SUMMARY:District 5 Monthly Meeting - Virtual
DESCRIPTION:Where Group Representatives vote on District Business! \nMeetings typically include the following topics: \n\nGroup Status Updates\nSecretary’s Report\nTreasurer’s Report\nAlateen Report\nLiterature Report and CAL Book Review\nPublic Outreach Activities\nUnity Day Planning\nAssembly Report\nDistrict 5 Upcoming Events\n\nMeeting ID: 246 0491 888   Passcode: 045500 \nClick here to login
URL:https://nj-al-anon.org/event/district-5-monthly-meeting-virtual-17/
LOCATION:Zoom – See Link in Description
CATEGORIES:Al-Anon,Alateen,District Meeting,District Representative,Fellowship,Group Representative,Service,Virtual
END:VEVENT
BEGIN:VEVENT
DTSTART;TZID=America/New_York:20241203T193000
DTEND;TZID=America/New_York:20241203T193000
DTSTAMP:20260421T043100
CREATED:20241024T205919Z
LAST-MODIFIED:20241024T205926Z
UID:6253-1733254200-1733254200@nj-al-anon.org
SUMMARY:District 10 Meeting - Virtual
DESCRIPTION:District 10 Meeting\nAll are welcome to attend!  Please let your Groups know that all are invited and encouraged to attend.  If anyone has an item or question that they would like addressed at the meeting\, please email your District Representative and it will be included in the agenda.  The log in for the meeting is as follows \nNJ Al-Anon District 10 Zoom Account is inviting you to a scheduled Zoom meeting. \nJoin Zoom Meeting \nhttps://us06web.zoom.us/j/87477302156?pwd=hQ1RPozs8bhz4AER3Ifh7DaZQmjklM.1 \nMeeting ID: 874 7730 2156 \nPasscode: 095382 \nOne tap mobile: +1(646) 558-8656 \nFind your local number: https://us06web.zoom.us/u/kcUoOMj0IJ
URL:https://nj-al-anon.org/event/district-10-meeting-virtual-5/
LOCATION:Zoom – See Link in Description
CATEGORIES:Al-Anon,District Meeting,District Representative,Fellowship,Group Representative,Service,Virtual
END:VEVENT
BEGIN:VEVENT
DTSTART;TZID=America/New_York:20241125T183000
DTEND;TZID=America/New_York:20241125T193000
DTSTAMP:20260421T043100
CREATED:20231129T150209Z
LAST-MODIFIED:20231129T150216Z
UID:5783-1732559400-1732563000@nj-al-anon.org
SUMMARY:District 5 Monthly Meeting - Virtual
DESCRIPTION:Where Group Representatives vote on District Business! \nMeetings typically include the following topics: \n\nGroup Status Updates\nSecretary’s Report\nTreasurer’s Report\nAlateen Report\nLiterature Report and CAL Book Review\nPublic Outreach Activities\nUnity Day Planning\nAssembly Report\nDistrict 5 Upcoming Events\n\nMeeting ID: 879 1745 3319\, Passcode: 552841 \nClick here to login
URL:https://nj-al-anon.org/event/district-5-monthly-meeting-virtual-16/
LOCATION:Zoom – See Link in Description
CATEGORIES:Al-Anon,District Meeting,District Representative,Fellowship,Group Representative,Service,Virtual
END:VEVENT
BEGIN:VEVENT
DTSTART;TZID=America/New_York:20241120T183000
DTEND;TZID=America/New_York:20241120T183000
DTSTAMP:20260421T043100
CREATED:20231130T010752Z
LAST-MODIFIED:20231130T011712Z
UID:5825-1732127400-1732127400@nj-al-anon.org
SUMMARY:District 8 Monthly Meeting - Virtual
DESCRIPTION:District 8 Monthly Meeting\nWhere Group Representatives vote on District Business! \nMeeting ID: 840 9588 8220\, Passcode D8 \nClick here to login
URL:https://nj-al-anon.org/event/district-8-monthly-meeting-virtual-18/
LOCATION:Zoom – See Link in Description
CATEGORIES:Al-Anon,District Meeting,District Representative,Fellowship,Group Representative,Service,Virtual
END:VEVENT
BEGIN:VEVENT
DTSTART;TZID=America/New_York:20241028T183000
DTEND;TZID=America/New_York:20241028T193000
DTSTAMP:20260421T043100
CREATED:20231129T145902Z
LAST-MODIFIED:20231129T145906Z
UID:5780-1730140200-1730143800@nj-al-anon.org
SUMMARY:District 5 Monthly Meeting - Virtual
DESCRIPTION:Where Group Representatives vote on District Business! \nMeetings typically include the following topics: \n\nGroup Status Updates\nSecretary’s Report\nTreasurer’s Report\nAlateen Report\nLiterature Report and CAL Book Review\nPublic Outreach Activities\nUnity Day Planning\nAssembly Report\nDistrict 5 Upcoming Events\n\nMeeting ID: 879 1745 3319\, Passcode: 552841 \nClick here to login
URL:https://nj-al-anon.org/event/district-5-monthly-meeting-virtual-15/
LOCATION:Zoom – See Link in Description
CATEGORIES:Al-Anon,District Meeting,District Representative,Fellowship,Group Representative,Service,Virtual
END:VEVENT
BEGIN:VEVENT
DTSTART;TZID=America/New_York:20241022T193000
DTEND;TZID=America/New_York:20241022T193000
DTSTAMP:20260421T043100
CREATED:20240918T193658Z
LAST-MODIFIED:20240918T193703Z
UID:6208-1729625400-1729625400@nj-al-anon.org
SUMMARY:District 10 Meeting - Virtual
DESCRIPTION:District 10 Virtual Meeting\, October 22\, 2024\, @ 7:30 PM \nJoin Zoom Meeting\nhttps://us06web.zoom.us/j/83592594138?pwd=YDtIVbTvRBRd5yKGs7kbl4R0T3dVIa.1 \nMeeting ID: 835 9259 4138\nPasscode: 172686\n—\nOne tap mobile\n+13017158592\,\,83592594138#\,\,\,\,*172686# US (Washington DC)\n+13052241968\,\,83592594138#\,\,\,\,*172686# US
URL:https://nj-al-anon.org/event/district-10-meeting-virtual-4/
LOCATION:Zoom – See Link in Description
CATEGORIES:Al-Anon,District Meeting,District Representative,Fellowship,Group Representative,Service,Virtual
END:VEVENT
BEGIN:VEVENT
DTSTART;TZID=America/New_York:20241016T183000
DTEND;TZID=America/New_York:20241016T183000
DTSTAMP:20260421T043100
CREATED:20231130T010447Z
LAST-MODIFIED:20231130T011809Z
UID:5822-1729103400-1729103400@nj-al-anon.org
SUMMARY:District 8 Monthly Meeting - Virtual
DESCRIPTION:District 8 Monthly Meeting\nWhere Group Representatives vote on District Business! \nMeeting ID: 840 9588 8220\, Passcode D8 \nClick here to login
URL:https://nj-al-anon.org/event/district-8-monthly-meeting-virtual-17/
LOCATION:Zoom – See Link in Description
CATEGORIES:Al-Anon,District Meeting,District Representative,Fellowship,Group Representative,Service,Virtual
END:VEVENT
BEGIN:VEVENT
DTSTART;TZID=America/New_York:20241005T110000
DTEND;TZID=America/New_York:20241005T150000
DTSTAMP:20260421T043100
CREATED:20231128T154052Z
LAST-MODIFIED:20240904T135403Z
UID:5724-1728126000-1728140400@nj-al-anon.org
SUMMARY:AWSC Meeting - Hybrid
DESCRIPTION:Area World Service Committee:  Attended by Assembly officers\, all District Representatives and Al-Anon Information Service Liaisons\, and the Area Coordinators of special services.  All Al-Anon and Alateen members are welcome.  Here\, the agenda will be set for the Assembly Meeting. \n\nLive Meeting:  StoneHill Church\, 1025 Bunn Drive\, Princeton\, NJ  08540\nJoin Zoom Meeting:  https://us02web.zoom.us/j/89951528857?pwd=ZkNVYmkxZWh1WDRzQldhL1NSNVV1UT09\n\nMeeting ID: 899 5152 8857 \nPasscode: 762118
URL:https://nj-al-anon.org/event/awsc-meeting-11/
LOCATION:Stone Hill Church of Princeton\, 1025 Bunn Drive\, Princeton\, NJ\, 08540
CATEGORIES:Al-Anon,AWSC,District Representative,Fellowship,Service
END:VEVENT
BEGIN:VEVENT
DTSTART;TZID=America/New_York:20240923T183000
DTEND;TZID=America/New_York:20240923T193000
DTSTAMP:20260421T043100
CREATED:20231129T145551Z
LAST-MODIFIED:20231129T145556Z
UID:5777-1727116200-1727119800@nj-al-anon.org
SUMMARY:District 5 Monthly Meeting - Virtual
DESCRIPTION:Where Group Representatives vote on District Business! \nMeetings typically include the following topics: \n\nGroup Status Updates\nSecretary’s Report\nTreasurer’s Report\nAlateen Report\nLiterature Report and CAL Book Review\nPublic Outreach Activities\nUnity Day Planning\nAssembly Report\nDistrict 5 Upcoming Events\n\nMeeting ID: 879 1745 3319\, Passcode: 552841 \nClick here to login
URL:https://nj-al-anon.org/event/district-5-monthly-meeting-virtual-14/
LOCATION:Zoom – See Link in Description
CATEGORIES:Al-Anon,District Meeting,District Representative,Fellowship,Group Representative,Service,Virtual
END:VEVENT
BEGIN:VEVENT
DTSTART;TZID=America/New_York:20240918T183000
DTEND;TZID=America/New_York:20240918T183000
DTSTAMP:20260421T043100
CREATED:20231130T010105Z
LAST-MODIFIED:20231130T011852Z
UID:5819-1726684200-1726684200@nj-al-anon.org
SUMMARY:District 8 Monthly Meeting - Virtual
DESCRIPTION:District 8 Monthly Meeting\nWhere Group Representatives vote on District Business! \nMeeting ID: 840 9588 8220\, Passcode D8 \nClick here to login
URL:https://nj-al-anon.org/event/district-8-monthly-meeting-virtual-16/
LOCATION:Zoom – See Link in Description
CATEGORIES:Al-Anon,District Meeting,District Representative,Fellowship,Group Representative,Service,Virtual
END:VEVENT
BEGIN:VEVENT
DTSTART;TZID=America/New_York:20240826T183000
DTEND;TZID=America/New_York:20240826T193000
DTSTAMP:20260421T043100
CREATED:20231129T145228Z
LAST-MODIFIED:20231129T145232Z
UID:5774-1724697000-1724700600@nj-al-anon.org
SUMMARY:District 5 Monthly Meeting - Virtual
DESCRIPTION:Where Group Representatives vote on District Business! \nMeetings typically include the following topics: \n\nGroup Status Updates\nSecretary’s Report\nTreasurer’s Report\nAlateen Report\nLiterature Report and CAL Book Review\nPublic Outreach Activities\nUnity Day Planning\nAssembly Report\nDistrict 5 Upcoming Events\n\nMeeting ID: 879 1745 3319\, Passcode: 552841 \nClick here to login
URL:https://nj-al-anon.org/event/district-5-monthly-meeting-virtual-13/
LOCATION:Zoom – See Link in Description
CATEGORIES:Al-Anon,District Meeting,District Representative,Fellowship,Group Representative,Service,Virtual
END:VEVENT
BEGIN:VEVENT
DTSTART;TZID=America/New_York:20240821T183000
DTEND;TZID=America/New_York:20240821T183000
DTSTAMP:20260421T043100
CREATED:20231130T005723Z
LAST-MODIFIED:20231130T012027Z
UID:5815-1724265000-1724265000@nj-al-anon.org
SUMMARY:District 8 Monthly Meeting - Virtual
DESCRIPTION:District 8 Monthly Meeting\nWhere Group Representatives vote on District Business! \nMeeting ID: 840 9588 8220\, Passcode D8 \nClick here to login
URL:https://nj-al-anon.org/event/district-8-monthly-meeting/
LOCATION:Zoom – See Link in Description
CATEGORIES:Al-Anon,District Meeting,District Representative,Fellowship,Group Representative,Service,Virtual
END:VEVENT
BEGIN:VEVENT
DTSTART;TZID=America/New_York:20240812T193000
DTEND;TZID=America/New_York:20240812T193000
DTSTAMP:20260421T043100
CREATED:20240808T174419Z
LAST-MODIFIED:20240808T174425Z
UID:6176-1723491000-1723491000@nj-al-anon.org
SUMMARY:District 10 Meeting - Virtual
DESCRIPTION:The next District 10 Virtual Meeting is scheduled for Monday\, August 12\, 2024\, at 7:30 PM: \nJoin Zoom Meeting:  District 10 August 2024 Virtual Meeting  \nor \nhttps://us06web.zoom.us/j/82582839095?pwd=xGExD5v5vaUZTpOczJrSYaIlbDg2vZ.1 \n\nMeeting ID: 825 8283 9095\nPasscode: 338936
URL:https://nj-al-anon.org/event/district-10-meeting-virtual-2/
LOCATION:Zoom – See Link in Description
CATEGORIES:Al-Anon,District Meeting,District Representative,Fellowship,Group Representative,Service,Virtual
END:VEVENT
BEGIN:VEVENT
DTSTART;TZID=America/New_York:20240722T183000
DTEND;TZID=America/New_York:20240722T193000
DTSTAMP:20260421T043100
CREATED:20231129T144950Z
LAST-MODIFIED:20231129T144954Z
UID:5771-1721673000-1721676600@nj-al-anon.org
SUMMARY:District 5 Monthly Meeting - Virtual
DESCRIPTION:Where Group Representatives vote on District Business! \nMeetings typically include the following topics: \n\nGroup Status Updates\nSecretary’s Report\nTreasurer’s Report\nAlateen Report\nLiterature Report and CAL Book Review\nPublic Outreach Activities\nUnity Day Planning\nAssembly Report\nDistrict 5 Upcoming Events\n\nMeeting ID: 879 1745 3319\, Passcode: 552841 \nClick here to login
URL:https://nj-al-anon.org/event/district-5-monthly-meeting-virtual-12/
LOCATION:Zoom – See Link in Description
CATEGORIES:Al-Anon,District Meeting,District Representative,Fellowship,Group Representative,Service,Virtual
END:VEVENT
BEGIN:VEVENT
DTSTART;TZID=America/New_York:20240624T183000
DTEND;TZID=America/New_York:20240624T193000
DTSTAMP:20260421T043100
CREATED:20231129T144345Z
LAST-MODIFIED:20231129T144350Z
UID:5768-1719253800-1719257400@nj-al-anon.org
SUMMARY:District 5 Monthly Meeting - Virtual
DESCRIPTION:Where Group Representatives vote on District Business! \nMeetings typically include the following topics: \n\nGroup Status Updates\nSecretary’s Report\nTreasurer’s Report\nAlateen Report\nLiterature Report and CAL Book Review\nPublic Outreach Activities\nUnity Day Planning\nAssembly Report\nDistrict 5 Upcoming Events\n\nMeeting ID: 879 1745 3319\, Passcode: 552841 \nClick here to login
URL:https://nj-al-anon.org/event/district-5-monthly-meeting-virtual-11/
LOCATION:Zoom – See Link in Description
CATEGORIES:Al-Anon,District Meeting,District Representative,Fellowship,Group Representative,Service,Virtual
END:VEVENT
BEGIN:VEVENT
DTSTART;TZID=America/New_York:20240619T183000
DTEND;TZID=America/New_York:20240619T183000
DTSTAMP:20260421T043100
CREATED:20231129T201714Z
LAST-MODIFIED:20231130T012155Z
UID:5808-1718821800-1718821800@nj-al-anon.org
SUMMARY:District 8 Monthly Meeting - Virtual
DESCRIPTION:District 8 Monthly Meeting\nWhere Group Representatives vote on District Business! \nMeeting ID: 840 9588 8220\, Passcode D8 \nClick here to login
URL:https://nj-al-anon.org/event/district-8-monthly-meeting-virtual-14/
LOCATION:Zoom – See Link in Description
CATEGORIES:Al-Anon,District Meeting,District Representative,Fellowship,Group Representative,Service,Virtual
END:VEVENT
BEGIN:VEVENT
DTSTART;TZID=America/New_York:20240520T183000
DTEND;TZID=America/New_York:20240520T193000
DTSTAMP:20260421T043100
CREATED:20231129T141305Z
LAST-MODIFIED:20231129T142208Z
UID:5748-1716229800-1716233400@nj-al-anon.org
SUMMARY:District 5 Monthly Meeting - Virtual
DESCRIPTION:Where Group Representatives vote on District Business! \nMeetings typically include the following topics: \n\nGroup Status Updates\nSecretary’s Report\nTreasurer’s Report\nAlateen Report\nLiterature Report and CAL Book Review\nPublic Outreach Activities\nUnity Day Planning\nAssembly Report\nDistrict 5 Upcoming Events\n\nMeeting ID: 879 1745 3319\, Passcode: 552841 \nClick here to login
URL:https://nj-al-anon.org/event/district-5-monthly-meeting-virtual-7/
LOCATION:Zoom – See Link in Description
CATEGORIES:Al-Anon,District Meeting,District Representative,Fellowship,Group Representative,Service,Virtual
END:VEVENT
BEGIN:VEVENT
DTSTART;TZID=America/New_York:20240515T183000
DTEND;TZID=America/New_York:20240515T183000
DTSTAMP:20260421T043100
CREATED:20231129T201412Z
LAST-MODIFIED:20231130T012229Z
UID:5805-1715797800-1715797800@nj-al-anon.org
SUMMARY:District 8 Monthly Meeting - Virtual
DESCRIPTION:District 8 Monthly Meeting\nWhere Group Representatives vote on District Business! \nMeeting ID: 840 9588 8220\, Passcode D8 \nClick here to login
URL:https://nj-al-anon.org/event/district-8-monthly-meeting-virtual-13/
LOCATION:Zoom – See Link in Description
CATEGORIES:Al-Anon,District Meeting,District Representative,Group Representative,Service,Virtual
END:VEVENT
BEGIN:VEVENT
DTSTART;TZID=America/New_York:20240504T110000
DTEND;TZID=America/New_York:20240504T150000
DTSTAMP:20260421T043100
CREATED:20231128T153842Z
LAST-MODIFIED:20240131T234941Z
UID:5721-1714820400-1714834800@nj-al-anon.org
SUMMARY:AWSC Meeting
DESCRIPTION:Area World Service Committee:  Attended by Assembly officers\, all District Representatives and Al-Anon Information Service Liaisons\, and the Area Coordinators of special services. \nAll Al-Anon and Alateen members are welcome.  Here\, the agenda will be set for the Assembly Meeting. \nJoin Zoom Meeting\nhttps://us02web.zoom.us/j/89951528857?pwd=ZkNVYmkxZWh1WDRzQldhL1NSNVV1UT09 \nMeeting ID: 899 5152 8857\nPasscode: 762118
URL:https://nj-al-anon.org/event/awsc-meeting-10/
CATEGORIES:Al-Anon,AWSC,District Representative,Fellowship,Service
END:VEVENT
BEGIN:VEVENT
DTSTART;TZID=America/New_York:20240429T193000
DTEND;TZID=America/New_York:20240429T193000
DTSTAMP:20260421T043100
CREATED:20240405T015916Z
LAST-MODIFIED:20240405T015921Z
UID:6082-1714419000-1714419000@nj-al-anon.org
SUMMARY:District 10 Meeting - Virtual
DESCRIPTION:District 10 Virtual Meeting\n\n\n\n\n\n\nMembers from non-District 10 AFGs are also welcome\, including those from EGs in other NJ Area Districts and/or members from AFGs temporarily electronically meeting. \nClick Here to Join Zoom Meeting Now \n\nMeeting ID: 850 2195 9368\nPasscode: 641654\n\nOne tap mobile \n\n+16465588656\,\,85021959368#\,\,\,\,*641654# US (New York)\n+16469313860\,\,85021959368#\,\,\,\,*641654# US\n\nFind your local number: https://us06web.zoom.us/u/kzV4GAQ7b
URL:https://nj-al-anon.org/event/district-10-meeting-virtual-3/
LOCATION:Zoom – See Link in Description
CATEGORIES:Al-Anon,District Meeting,District Representative,Fellowship,Group Representative,Service,Virtual
END:VEVENT
BEGIN:VEVENT
DTSTART;TZID=America/New_York:20240422T183000
DTEND;TZID=America/New_York:20240422T193000
DTSTAMP:20260421T043100
CREATED:20231129T143639Z
LAST-MODIFIED:20231129T144102Z
UID:5762-1713810600-1713814200@nj-al-anon.org
SUMMARY:District 5 Monthly Meeting
DESCRIPTION:Where Group Representatives vote on District Business! \nMeetings typically include the following topics: \n\nGroup Status Updates\nSecretary’s Report\nTreasurer’s Report\nAlateen Report\nLiterature Report and CAL Book Review\nPublic Outreach Activities\nUnity Day Planning\nAssembly Report\nDistrict 5 Upcoming Events\n\nMeeting ID: 879 1745 3319\, Passcode: 552841 \nClick here to login
URL:https://nj-al-anon.org/event/district-5-monthly-meeting/
LOCATION:Zoom – See Link in Description
CATEGORIES:Al-Anon,District Meeting,District Representative,Fellowship,Group Representative,Service,Virtual
END:VEVENT
BEGIN:VEVENT
DTSTART;TZID=America/New_York:20240417T183000
DTEND;TZID=America/New_York:20240417T183000
DTSTAMP:20260421T043100
CREATED:20231129T201030Z
LAST-MODIFIED:20231130T012315Z
UID:5802-1713378600-1713378600@nj-al-anon.org
SUMMARY:District 8 Monthly Meeting - Virtual
DESCRIPTION:District 8 Monthly Meeting\nWhere Group Representatives vote on District Business! \nMeeting ID: 840 9588 8220\, Passcode D8 \nClick here to login
URL:https://nj-al-anon.org/event/district-8-monthly-meeting-virtual-12/
LOCATION:Zoom – See Link in Description
CATEGORIES:Al-Anon,District Meeting,District Representative,Fellowship,Service,Virtual
END:VEVENT
BEGIN:VEVENT
DTSTART;TZID=America/New_York:20240325T183000
DTEND;TZID=America/New_York:20240325T193000
DTSTAMP:20260421T043100
CREATED:20231129T143347Z
LAST-MODIFIED:20231129T144014Z
UID:5759-1711391400-1711395000@nj-al-anon.org
SUMMARY:District 5 Monthly Meeting - Virtual
DESCRIPTION:Where Group Representatives vote on District Business! \nMeetings typically include the following topics: \n\nGroup Status Updates\nSecretary’s Report\nTreasurer’s Report\nAlateen Report\nLiterature Report and CAL Book Review\nPublic Outreach Activities\nUnity Day Planning\nAssembly Report\nDistrict 5 Upcoming Events\n\nMeeting ID: 879 1745 3319\, Passcode: 552841 \nClick here to login
URL:https://nj-al-anon.org/event/district-5-monthly-meeting-virtual-10/
LOCATION:Zoom – See Link in Description
CATEGORIES:Al-Anon,District Meeting,District Representative,Fellowship,Group Representative,Service,Virtual
END:VEVENT
BEGIN:VEVENT
DTSTART;TZID=America/New_York:20240320T183000
DTEND;TZID=America/New_York:20240320T183000
DTSTAMP:20260421T043100
CREATED:20231129T200806Z
LAST-MODIFIED:20231130T012518Z
UID:5799-1710959400-1710959400@nj-al-anon.org
SUMMARY:District 8 Monthly Meeting - Virtual
DESCRIPTION:District 8 Monthly Meeting\nWhere Group Representatives vote on District Business! \nMeeting ID: 840 9588 8220\, Passcode D8 \nClick here to login
URL:https://nj-al-anon.org/event/district-8-monthly-meeting-virtual-11/
LOCATION:Zoom – See Link in Description
CATEGORIES:Al-Anon,District Meeting,District Representative,Fellowship,Group Representative,Service,Virtual
END:VEVENT
BEGIN:VEVENT
DTSTART;TZID=America/New_York:20240226T193000
DTEND;TZID=America/New_York:20240226T193000
DTSTAMP:20260421T043100
CREATED:20240212T120541Z
LAST-MODIFIED:20240212T122536Z
UID:5960-1708975800-1708975800@nj-al-anon.org
SUMMARY:District 10 Virtual Meeting
DESCRIPTION:District 10 Virtual Meeting\nMembers from non-District 10 AFG’s are also welcome\, including those from EGs in other NJ Area Districts and/or members from AFGs temporarily electronically meeting. \nZoom info: \n\nMeeting ID: 828 7002 8376\nPasscode: 741365\n\nOne tap mobile: \n\n+13017158592\,\,82870028376#\,\,\,\,*741365# US (Washington DC)\n+13052241968\,\,82870028376#\,\,\,\,*741365# US\n\nJoin Zoom Meeting Now or Find Your Local Number
URL:https://nj-al-anon.org/event/district-10-virtual-meeting-2/
LOCATION:Virtual
CATEGORIES:Al-Anon,Alateen,District Meeting,District Representative,Fellowship,Group Representative,Virtual
END:VEVENT
BEGIN:VEVENT
DTSTART;TZID=America/New_York:20240226T183000
DTEND;TZID=America/New_York:20240226T193000
DTSTAMP:20260421T043100
CREATED:20231129T143118Z
LAST-MODIFIED:20231129T143122Z
UID:5756-1708972200-1708975800@nj-al-anon.org
SUMMARY:District 5 Monthly Meeting - Virtual
DESCRIPTION:Where Group Representatives vote on District Business! \nMeetings typically include the following topics: \n\nGroup Status Updates\nSecretary’s Report\nTreasurer’s Report\nAlateen Report\nLiterature Report and CAL Book Review\nPublic Outreach Activities\nUnity Day Planning\nAssembly Report\nDistrict 5 Upcoming Events\n\nMeeting ID: 879 1745 3319\, Passcode: 552841 \nClick here to login
URL:https://nj-al-anon.org/event/district-5-monthly-meeting-virtual-9/
LOCATION:Zoom – See Link in Description
CATEGORIES:Al-Anon,District Meeting,District Representative,Fellowship,Group Representative,Service,Virtual
END:VEVENT
BEGIN:VEVENT
DTSTART;TZID=America/New_York:20240221T183000
DTEND;TZID=America/New_York:20240221T183000
DTSTAMP:20260421T043100
CREATED:20231129T200206Z
LAST-MODIFIED:20231130T012550Z
UID:5796-1708540200-1708540200@nj-al-anon.org
SUMMARY:District 8 Monthly Meeting - Virtual
DESCRIPTION:District 8 Monthly Meeting\nWhere Group Representatives vote on District Business! \nMeeting ID: 840 9588 8220\, Passcode D8 \nClick here to login
URL:https://nj-al-anon.org/event/district-8-monthly-meeting-virtual-10/
LOCATION:Zoom – See Link in Description
CATEGORIES:Al-Anon,District Meeting,District Representative,Fellowship,Group Representative,Service,Virtual
END:VEVENT
BEGIN:VEVENT
DTSTART;TZID=America/New_York:20240212T193000
DTEND;TZID=America/New_York:20240212T193000
DTSTAMP:20260421T043100
CREATED:20231216T224719Z
LAST-MODIFIED:20240212T121410Z
UID:5881-1707766200-1707766200@nj-al-anon.org
SUMMARY:District 10 Virtual Meeting - Rescheduled for Feb 26\, 2024
DESCRIPTION:Please Note:\nDistrict 10 Virtual Meeting\, previously scheduled for February 12\, 2024 has been rescheduled for February 26\, 2024 at 7:30pm.\n  \nSee meeting info for February 26\, 2024. \n 
URL:https://nj-al-anon.org/event/district-10-virtual-meeting/
CATEGORIES:Al-Anon,Alateen,District Meeting,District Representative,Fellowship,Group Representative,Service,Virtual
END:VEVENT
BEGIN:VEVENT
DTSTART;TZID=America/New_York:20240203T110000
DTEND;TZID=America/New_York:20240203T150000
DTSTAMP:20260421T043100
CREATED:20231128T153515Z
LAST-MODIFIED:20240131T234626Z
UID:5718-1706958000-1706972400@nj-al-anon.org
SUMMARY:AWSC Meeting
DESCRIPTION:Area World Service Committee:  Attended by Assembly officers\, all District Representatives and Al-Anon Information Service Liaisons\, and the Area Coordinators of special services. \nAll Al-Anon and Alateen members are welcome.  Here\, the agenda will be set for the Assembly Meeting. \nJoin Zoom Meeting\nhttps://us02web.zoom.us/j/89951528857?pwd=ZkNVYmkxZWh1WDRzQldhL1NSNVV1UT09 \nMeeting ID: 899 5152 8857\nPasscode: 762118
URL:https://nj-al-anon.org/event/awsc-meeting-9/
CATEGORIES:Al-Anon,AWSC,District Representative,Fellowship,Group Representative,Service
END:VEVENT
END:VCALENDAR