BEGIN:VCALENDAR
VERSION:2.0
PRODID:-//New Jersey Al-Anon Family Groups - ECPv6.15.20//NONSGML v1.0//EN
CALSCALE:GREGORIAN
METHOD:PUBLISH
X-WR-CALNAME:New Jersey Al-Anon Family Groups
X-ORIGINAL-URL:https://nj-al-anon.org
X-WR-CALDESC:Events for New Jersey Al-Anon Family Groups
REFRESH-INTERVAL;VALUE=DURATION:PT1H
X-Robots-Tag:noindex
X-PUBLISHED-TTL:PT1H
BEGIN:VTIMEZONE
TZID:America/New_York
BEGIN:DAYLIGHT
TZOFFSETFROM:-0500
TZOFFSETTO:-0400
TZNAME:EDT
DTSTART:20230312T070000
END:DAYLIGHT
BEGIN:STANDARD
TZOFFSETFROM:-0400
TZOFFSETTO:-0500
TZNAME:EST
DTSTART:20231105T060000
END:STANDARD
BEGIN:DAYLIGHT
TZOFFSETFROM:-0500
TZOFFSETTO:-0400
TZNAME:EDT
DTSTART:20240310T070000
END:DAYLIGHT
BEGIN:STANDARD
TZOFFSETFROM:-0400
TZOFFSETTO:-0500
TZNAME:EST
DTSTART:20241103T060000
END:STANDARD
BEGIN:DAYLIGHT
TZOFFSETFROM:-0500
TZOFFSETTO:-0400
TZNAME:EDT
DTSTART:20250309T070000
END:DAYLIGHT
BEGIN:STANDARD
TZOFFSETFROM:-0400
TZOFFSETTO:-0500
TZNAME:EST
DTSTART:20251102T060000
END:STANDARD
BEGIN:DAYLIGHT
TZOFFSETFROM:-0500
TZOFFSETTO:-0400
TZNAME:EDT
DTSTART:20260308T070000
END:DAYLIGHT
BEGIN:STANDARD
TZOFFSETFROM:-0400
TZOFFSETTO:-0500
TZNAME:EST
DTSTART:20261101T060000
END:STANDARD
END:VTIMEZONE
BEGIN:VEVENT
DTSTART;TZID=America/New_York:20240506T184500
DTEND;TZID=America/New_York:20240506T184500
DTSTAMP:20260421T210637
CREATED:20240425T134850Z
LAST-MODIFIED:20240425T135516Z
UID:6105-1715021100-1715021100@nj-al-anon.org
SUMMARY:Medford Lakes AFG - Anniversary Meeting
DESCRIPTION:Medford Lakes AFG\nAnniversary Meeting!\n6:45 PM\, Doors Open – 7:00 PM\, Anniversary Meeting \n\nSpeakers\nFellowship\nRefreshments\n\nLocated in the Peabody Building \nSee Flyer for Details!
URL:https://nj-al-anon.org/event/medford-lakes-afg-anniversary-meeting/
LOCATION:Cathedral in the Woods – Peabody Building\, 100 Stokes Road\, Medford Lakes\, NJ\, 08055\, United States
CATEGORIES:Al-Anon,Anniversary Meeting,Fellowship,Speakers
ATTACH;FMTTYPE=image/jpeg:https://nj-al-anon.org/wp-content/uploads/2024/04/Medford-Lakes-anniv-05.06.24.jpg
END:VEVENT
BEGIN:VEVENT
DTSTART;TZID=America/New_York:20240518T094500
DTEND;TZID=America/New_York:20240518T094500
DTSTAMP:20260421T210637
CREATED:20240424T223006Z
LAST-MODIFIED:20240424T223033Z
UID:6101-1716025500-1716025500@nj-al-anon.org
SUMMARY:Saturday Morning AFG - 40th Anniversary Meeting
DESCRIPTION:Saturday Morning AFG \n40th Anniversary!\n\n9:45  Fellowship and Refreshments\n10:15 Speakers\n\nSee Flyer for Details! \n  \n 
URL:https://nj-al-anon.org/event/saturday-morning-afg-40th-anniversary-meeting/
LOCATION:Saint Gregory the Great Academy\, 4680 Nottingham Way\, Hamilton\, NJ\, 08690\, United States
CATEGORIES:A.A. Speaker,Al-Anon,Al-Anon Speaker,Anniversary Meeting,Fellowship,Speakers
ATTACH;FMTTYPE=application/pdf:https://nj-al-anon.org/wp-content/uploads/2024/04/SM-1.pdf
END:VEVENT
BEGIN:VEVENT
DTSTART;TZID=America/New_York:20240611T123000
DTEND;TZID=America/New_York:20240611T123000
DTSTAMP:20260421T210637
CREATED:20240327T210805Z
LAST-MODIFIED:20240401T191311Z
UID:6040-1718109000-1718109000@nj-al-anon.org
SUMMARY:Gloucester Twp AFG - 1st Anniversary Meeting
DESCRIPTION:Gloucester Township AFG \n1st Anniversary Meeting!\n\n12:30 PM – Fellowship and Treats\n1:00 PM – Al-Anon Speaker Meeting\n\nPlease enter leftmost street door. \nSee flyer for details.
URL:https://nj-al-anon.org/event/gloucester-twp-afg-1st-anniversary-meeting/
LOCATION:Chews United Methodist Church\, 319 North Black Horse Pike\, Glendora\, NJ\, 08029\, United States
CATEGORIES:Al-Anon,Al-Anon Speaker,Anniversary Meeting,Fellowship,Speaker meeting
ATTACH;FMTTYPE=application/pdf:https://nj-al-anon.org/wp-content/uploads/2024/03/GT-Anniv-Flyer-2024-1.pdf
END:VEVENT
BEGIN:VEVENT
DTSTART;TZID=America/New_York:20240618T183000
DTEND;TZID=America/New_York:20240618T201500
DTSTAMP:20260421T210637
CREATED:20240409T000424Z
LAST-MODIFIED:20240409T000432Z
UID:6096-1718735400-1718741700@nj-al-anon.org
SUMMARY:Key to Harmony AFG - 22nd Anniversary Meeting
DESCRIPTION:Key to Harmony AFG – 22 Anniversary Meeting!\n\n6:30 PM  Fellowship and Refreshments\n7:00 – 8:15 PM  Anniversary Meeting\n\nSee flyer for details!
URL:https://nj-al-anon.org/event/key-to-harmony-afg-22nd-anniversary-meeting/
LOCATION:United Methodist Church\, 104 Richwood Rd\, Richwood\, NJ\, 08074\, United States
CATEGORIES:Al-Anon,Anniversary Meeting,Fellowship
ATTACH;FMTTYPE=application/pdf:https://nj-al-anon.org/wp-content/uploads/2024/04/Key-to-Harmony-06.18-1.pdf
END:VEVENT
BEGIN:VEVENT
DTSTART;TZID=America/New_York:20240627T190000
DTEND;TZID=America/New_York:20240627T190000
DTSTAMP:20260421T210637
CREATED:20240510T201446Z
LAST-MODIFIED:20240510T201452Z
UID:6118-1719514800-1719514800@nj-al-anon.org
SUMMARY:Pitman AFG's 27th Anniversary
DESCRIPTION:Pitman AFG – 27th Anniversary!\n  \n7:00 PM\, Fellowship and Refreshments \n7:30 PM\, Speaker Meeting \n\nAl-Anon Speaker\nAA Speaker\n\nSee flyer for details!
URL:https://nj-al-anon.org/event/pitman-afgs-27th-anniversary/
LOCATION:The Rock Church\, 205 Esplanade Avenue\, Pitman\, NJ\, 08071\, United States
CATEGORIES:A.A. Speaker,Al-Anon,Al-Anon Speaker,Alateen,Anniversary Meeting,Fellowship,Speakers
ATTACH;FMTTYPE=application/pdf:https://nj-al-anon.org/wp-content/uploads/2024/05/Pit-2024-Anniversary-Flyer.pdf
END:VEVENT
BEGIN:VEVENT
DTSTART;TZID=America/New_York:20240628T200000
DTEND;TZID=America/New_York:20240628T200000
DTSTAMP:20260421T210637
CREATED:20240529T215233Z
LAST-MODIFIED:20240529T215240Z
UID:6142-1719604800-1719604800@nj-al-anon.org
SUMMARY:Somerville Friday Night Al-Anon Group - 49th Anniversary
DESCRIPTION:Somerville Friday Night Al-Anon Group\n49th Anniversary!\n\nSpeakers\nFood\nFellowship\n\nAll Invited! \nSee flyer for details!
URL:https://nj-al-anon.org/event/somerville-friday-night-al-anon-group-49th-anniversary/
LOCATION:Good Shepherd Lutheran Church\, 300 Union Avenue\, Somerville\, NJ\, 08876\, United States
CATEGORIES:Al-Anon,Anniversary Meeting,Fellowship,Speakers
ATTACH;FMTTYPE=application/pdf:https://nj-al-anon.org/wp-content/uploads/2024/05/somerville-copy.pdf
END:VEVENT
BEGIN:VEVENT
DTSTART;TZID=America/New_York:20240731T183000
DTEND;TZID=America/New_York:20240731T183000
DTSTAMP:20260421T210637
CREATED:20240627T220617Z
LAST-MODIFIED:20240627T220622Z
UID:6157-1722450600-1722450600@nj-al-anon.org
SUMMARY:Hope for Today - 1st Anniversary Meeting
DESCRIPTION:Hope for Today – First Anniversary Meeting!\nAA\, Al-Anon and Alateen Speakers \nAll Ages Welcome! \n\n6:30pm – Fellowship\n7:00pm – Speakers\n\nSee flyer for details!
URL:https://nj-al-anon.org/event/hope-for-today-1st-anniversary-meeting/
LOCATION:Zion Community Church\, 242 Kings Highway\, Clarksboro\, NJ\, 08020\, United States
CATEGORIES:A.A. Speaker,AA,Al-Anon,Al-Anon Speaker,Alateen,Alateen Speaker,Anniversary Meeting,Fellowship,Speakers
ATTACH;FMTTYPE=application/pdf:https://nj-al-anon.org/wp-content/uploads/2024/06/Hope-for-Today-flyer.pdf
END:VEVENT
BEGIN:VEVENT
DTSTART;TZID=America/New_York:20240926T183000
DTEND;TZID=America/New_York:20240926T183000
DTSTAMP:20260421T210637
CREATED:20240822T160555Z
LAST-MODIFIED:20240822T160601Z
UID:6180-1727375400-1727375400@nj-al-anon.org
SUMMARY:Palmyra Serenity AFG Anniversary
DESCRIPTION:Palmyra Serenity AFG Anniversary!\n\nFood\nFun\nFriends\nSpeakers\n\nSee flyer for details!
URL:https://nj-al-anon.org/event/palmyra-serenity-afg-anniversary/
LOCATION:Epworth United Methodist Church\, 501 Morgan Avenue\, Palmyra\, NJ\, 08065\, United States
CATEGORIES:Al-Anon,Anniversary Meeting,Fellowship,Speakers
ATTACH;FMTTYPE=application/pdf:https://nj-al-anon.org/wp-content/uploads/2024/08/Palmyra-09.26.24.pdf
END:VEVENT
BEGIN:VEVENT
DTSTART;TZID=America/New_York:20241015T183000
DTEND;TZID=America/New_York:20241015T183000
DTSTAMP:20260421T210637
CREATED:20240827T211402Z
LAST-MODIFIED:20240827T211407Z
UID:6184-1729017000-1729017000@nj-al-anon.org
SUMMARY:Mount Laurel Men's AFG - Anniversary Meeting
DESCRIPTION:Mount Laurel Men’s AFG Anniversary!\n\n6:30PM   Fellowship and Food\n7:30 PM  Speakers\n\nAll welcome\, including teens! \nSee flyer for details! \n 
URL:https://nj-al-anon.org/event/mount-laurel-mens-afg-anniversary-meeting/
LOCATION:New Covenant Presbyterian Church\, 240 Creek Road\, Mount Laurel\, NJ\, 08054\, United States
CATEGORIES:Al-Anon,Anniversary Meeting,Fellowship,Men's Al-Anon,Speakers
ATTACH;FMTTYPE=application/pdf:https://nj-al-anon.org/wp-content/uploads/2024/08/Mt-Laurel-Mens-AFG-2024.pdf
END:VEVENT
BEGIN:VEVENT
DTSTART;TZID=America/New_York:20241023T190000
DTEND;TZID=America/New_York:20241023T190000
DTSTAMP:20260421T210637
CREATED:20241002T224154Z
LAST-MODIFIED:20241002T224203Z
UID:6226-1729710000-1729710000@nj-al-anon.org
SUMMARY:Wednesday Night Iselin AFG - 55th Anniversary
DESCRIPTION:Wednesday Night Iselin – 55th Anniversary Celebrations!\n\nAl-Anon Speaker\nAA Speaker\nLight Refreshments\n\nSee flyer for details!
URL:https://nj-al-anon.org/event/wednesday-night-iselin-afg-55th-anniversary/
LOCATION:Oak Tree-Iselin Presbyterian Church\, 1295 Oak Tree Road\, Iselin\, NJ\, 08830\, United States
CATEGORIES:A.A. Speaker,Al-Anon,Al-Anon Speaker,Anniversary Meeting,Fellowship,Speakers
ATTACH;FMTTYPE=application/pdf:https://nj-al-anon.org/wp-content/uploads/2024/10/55th-Anniversary-on-yellow-paper.pdf
END:VEVENT
BEGIN:VEVENT
DTSTART;TZID=America/New_York:20241026T083000
DTEND;TZID=America/New_York:20241026T083000
DTSTAMP:20260421T210637
CREATED:20241016T114235Z
LAST-MODIFIED:20241016T114429Z
UID:6232-1729931400-1729931400@nj-al-anon.org
SUMMARY:Union Saturday Morning Women's Meeting - 13th Anniversary
DESCRIPTION:Union Saturday Morning Women’s 13th Anniversary Meeting\n\n8:30AM\, Fellowship\n9:AM\, Meeting\nAl-Anon and AA Speakers\n\nSee flyer for details!
URL:https://nj-al-anon.org/event/union-saturday-morning-womens-meeting-13th-anniversary/
LOCATION:Townley Presbyterian Church\, 829 Salem Road\, Union\, NJ\, 07083\, United States
CATEGORIES:A.A. Speaker,Al-Anon,Al-Anon Speaker,Anniversary Meeting,Fellowship,Speakers
ATTACH;FMTTYPE=application/pdf:https://nj-al-anon.org/wp-content/uploads/2024/10/ALA-Anniversary-Flyer-1.pdf
END:VEVENT
BEGIN:VEVENT
DTSTART;TZID=America/New_York:20241027T194500
DTEND;TZID=America/New_York:20241027T194500
DTSTAMP:20260421T210637
CREATED:20240917T001815Z
LAST-MODIFIED:20240917T001918Z
UID:6204-1730058300-1730058300@nj-al-anon.org
SUMMARY:Cherry Hill Sunday Night AFG - Anniversary
DESCRIPTION:Cherry Hill Sunday Night Anniversary!\n\n7:45  Refreshments and Fellowship\n8:15  Al-Anon and AA Speakers\n\nMeeting held in Parish Center. \nSee flyer for details!
URL:https://nj-al-anon.org/event/cherry-hill-sunday-night-afg-anniversary/
LOCATION:Christ Our Light School\, 402 Kings Highway North\, Cherry Hill\, NJ\, 08034\, United States
CATEGORIES:A.A. Speaker,Al-Anon,Al-Anon Speaker,Anniversary Meeting,Fellowship,Speakers
ATTACH;FMTTYPE=image/png:https://nj-al-anon.org/wp-content/uploads/2024/09/Sunday-Cherry-Hill-anniversary.png
END:VEVENT
BEGIN:VEVENT
DTSTART;TZID=America/New_York:20241116T110000
DTEND;TZID=America/New_York:20241116T110000
DTSTAMP:20260421T210637
CREATED:20241022T105349Z
LAST-MODIFIED:20241022T105412Z
UID:6248-1731754800-1731754800@nj-al-anon.org
SUMMARY:Saturday Morning AFG - Anniversary Meeting
DESCRIPTION:Saturday Morning AFG Anniversary Meeting\n\n11:00AM\, Fellowship and Food\n11:30AM Recovery Speakers\n\nFriends\, Family and Guests Welcome! \nSee Flyer for Details!
URL:https://nj-al-anon.org/event/saturday-morning-afg-anniversary-meeting/
LOCATION:Hope United Methodist Church\, 700 Cooper Road\, Voorhees\, NJ\, 08043\, United States
CATEGORIES:Al-Anon,Anniversary Meeting,Fellowship,Speakers
ATTACH;FMTTYPE=application/pdf:https://nj-al-anon.org/wp-content/uploads/2024/10/Sat-Morning-AFG-11.16.24.pdf
END:VEVENT
BEGIN:VEVENT
DTSTART;TZID=America/New_York:20241122T193000
DTEND;TZID=America/New_York:20241122T193000
DTSTAMP:20260421T210637
CREATED:20241030T004233Z
LAST-MODIFIED:20241030T004240Z
UID:6261-1732303800-1732303800@nj-al-anon.org
SUMMARY:Un Nuevo Despertar Hijos Adultos GFA (A New Awakening Adult Children AFG) - 1st Anniversary
DESCRIPTION:Un Nuevo Despertar Hijos Adultos GFA\n(A New Awakening Adult Children AFG) \nFirst Anniversary! \nSee flyer for details!
URL:https://nj-al-anon.org/event/un-nuevo-despertar-hijos-adultos-gfa-a-new-awakening-adult-children-afg-1st-anniversary/
LOCATION:Saint Paul Christian Education Building\, 171 Lincoln Street\, Montclair\, NJ\, 07042\, United States
CATEGORIES:Al-Anon,Anniversary Meeting,Bilingual,Fellowship,Spanish
ATTACH;FMTTYPE=application/pdf:https://nj-al-anon.org/wp-content/uploads/2024/10/Adult-Children-1.pdf
END:VEVENT
BEGIN:VEVENT
DTSTART;TZID=America/New_York:20250224T191500
DTEND;TZID=America/New_York:20250224T203000
DTSTAMP:20260421T210637
CREATED:20250205T143442Z
LAST-MODIFIED:20250205T144446Z
UID:6394-1740424500-1740429000@nj-al-anon.org
SUMMARY:North Brunswick Monday Night Courage to Change AFG 30th Anniversary Celebration
DESCRIPTION:North Brunswick Monday Night Courage to Change AFG \n30th Anniversary Celebration \n\nAA Speaker\nAl-Anon Speaker\nFellowship\nPotluck\n\n7:15 pm Fellowship; 7:30 pm Meeting \nPlease note: Meeting is in the Church Annex \nPlease see flyer for more information
URL:https://nj-al-anon.org/event/north-brunswick-monday-night-courage-to-change-afg-30th-anniversary-celebration/
LOCATION:Our Lady of Peace Church – Annex\, 1730 US-130\, North Brunswick\, NJ\, 08902\, United States
CATEGORIES:A.A. Speaker,Al-Anon,Al-Anon Speaker,Anniversary Meeting,Fellowship,Speakers
ATTACH;FMTTYPE=application/pdf:https://nj-al-anon.org/wp-content/uploads/2025/02/2025-Monday-Anniversary-Flyer.pdf
END:VEVENT
BEGIN:VEVENT
DTSTART;TZID=America/New_York:20250224T194500
DTEND;TZID=America/New_York:20250224T211500
DTSTAMP:20260421T210637
CREATED:20250119T005252Z
LAST-MODIFIED:20250119T005252Z
UID:6367-1740426300-1740431700@nj-al-anon.org
SUMMARY:Cranbury Stepping Stones AFG 57th Anniversary Celebration
DESCRIPTION:Cranbury Stepping Stones AFG \n57th Anniversary Celebration \n\nAl-Anon Speaker\nAA Speaker\nRefreshments\n\n7:45 pm Fellowship; 8:00 pm Speakers \nPlease note: Meeting is in the white fellowship hall building to the right of the Presbyterian Church. \nSee flyer for more information.
URL:https://nj-al-anon.org/event/cranbury-stepping-stones-afg-57th-anniversary-celebration/
LOCATION:Cranbury First Presbyterian Church\, 22 South Main Street\, Cranbury\, NJ\, 08512\, United States
CATEGORIES:A.A. Speaker,Al-Anon,Al-Anon Speaker,Anniversary Meeting,Fellowship,Speakers
ATTACH;FMTTYPE=application/pdf:https://nj-al-anon.org/wp-content/uploads/2025/01/Cranbury-Stepping-Stones-2025-Anniversary.pdf
END:VEVENT
BEGIN:VEVENT
DTSTART;TZID=America/New_York:20250308T100000
DTEND;TZID=America/New_York:20250308T110000
DTSTAMP:20260421T210637
CREATED:20250222T003311Z
LAST-MODIFIED:20250222T003311Z
UID:6438-1741428000-1741431600@nj-al-anon.org
SUMMARY:Saturday Morning Open Door Al-Anon 16th Anniversary Celebration
DESCRIPTION:Saturday Morning Open Door Al-Anon \n16th Anniversary Celebration \nAA & Al-Anon Speakers \nMeeting ID: 828 5467 7271\nPassword: 249966 \nClick here to log in \nPlease see flyer for more information
URL:https://nj-al-anon.org/event/saturday-morning-open-door-al-anon-16th-anniversary-celebration/
LOCATION:Zoom – see flyer for more information
CATEGORIES:AA Speaker,Al-Anon,Al-Anon Speaker,Anniversary Meeting,Fellowship
ATTACH;FMTTYPE=application/pdf:https://nj-al-anon.org/wp-content/uploads/2025/02/03-08-2025-10am-Saturday-Morning-Open-Door-Alanon-Meeting-16th-Anniversary.pdf
END:VEVENT
BEGIN:VEVENT
DTSTART;TZID=America/New_York:20250310T193000
DTEND;TZID=America/New_York:20250310T210000
DTSTAMP:20260421T210637
CREATED:20250202T193816Z
LAST-MODIFIED:20250202T193816Z
UID:6386-1741635000-1741640400@nj-al-anon.org
SUMMARY:Morristown AFG 13th Anniversary Speaker Meeting
DESCRIPTION:Morristown AFG \n13th Anniversary Speaker Meeting \n\nAl-Anon and AA speakers\nLight refreshments\n\nPlease enter through back door from parking lot. \nSee flyer for more information
URL:https://nj-al-anon.org/event/morristown-afg-13th-anniversary-speaker-meeting/
LOCATION:Assumption Church\, 91 Maple Avenue\, Morristown\, NJ\, 07960\, United States
CATEGORIES:A.A. Speaker,Al-Anon,Al-Anon Speaker,Anniversary Meeting,Fellowship
ATTACH;FMTTYPE=application/pdf:https://nj-al-anon.org/wp-content/uploads/2025/02/Morristown-Monday-730pm-Anniversary-Meeting-2025-flyer-draft-1-3.pdf
END:VEVENT
BEGIN:VEVENT
DTSTART;TZID=America/New_York:20250318T193000
DTEND;TZID=America/New_York:20250318T210000
DTSTAMP:20260421T210637
CREATED:20250309T220524Z
LAST-MODIFIED:20250309T220524Z
UID:6458-1742326200-1742331600@nj-al-anon.org
SUMMARY:Hamilton Township Tuesday Night AFG 27th Anniversary Meeting
DESCRIPTION:Hamilton Township Tuesday Night AFG \n27th Anniversary Meeting \n\n7:30 pm Refreshments/Fellowship\n8:00 pm Meeting – AA Speaker and Al-Anon Speaker\n\nFriends and family welcome! \nSee flyer for more information
URL:https://nj-al-anon.org/event/hamilton-township-tuesday-night-afg-27th-anniversary-meeting/
LOCATION:St Mark Lutheran Church Hamilton\, 350 White Horse Ave\, Hamilton\, NJ\, 08610\, United States
CATEGORIES:AA Speaker,Al-Anon,Al-Anon Speaker,Anniversary Meeting,Fellowship
ATTACH;FMTTYPE=image/png:https://nj-al-anon.org/wp-content/uploads/2025/03/Tues-Hamilton-27th-Anniversary-meeting-2025-1.png
END:VEVENT
BEGIN:VEVENT
DTSTART;TZID=America/New_York:20250403T190000
DTEND;TZID=America/New_York:20250403T203000
DTSTAMP:20260421T210637
CREATED:20250312T024128Z
LAST-MODIFIED:20250312T024128Z
UID:6470-1743706800-1743712200@nj-al-anon.org
SUMMARY:Scotch Plains Women's AFG 10th Anniversary Meeting
DESCRIPTION:Scotch Plains Women’s AFG \n10th Anniversary Meeting \n\n7:00 pm – Food & Fellowship\n8:00 pm – Start\n\nSee flyer for more information
URL:https://nj-al-anon.org/event/scotch-plains-womens-afg-10th-anniversary-meeting/
LOCATION:Temple Shalom\, 1925 Lake Avenue\, Scotch Plains\, NJ\, 07076\, United States
CATEGORIES:Al-Anon,Anniversary Meeting,Fellowship
ATTACH;FMTTYPE=image/jpeg:https://nj-al-anon.org/wp-content/uploads/2025/03/Scotch-Plains-Womens-AFG-10th-Anniversary-scaled.jpg
END:VEVENT
BEGIN:VEVENT
DTSTART;TZID=America/New_York:20250422T183000
DTEND;TZID=America/New_York:20250422T200000
DTSTAMP:20260421T210637
CREATED:20250309T235307Z
LAST-MODIFIED:20250309T235307Z
UID:6465-1745346600-1745352000@nj-al-anon.org
SUMMARY:Ewing Courage to Change AFG Anniversary Meeting
DESCRIPTION:Celebrating 32 years \n\n6:30 pm – Refreshments & Fellowship\n7:00 pm – Al-Anon\, Alateen\, & AA Speakers\n\nMeeting in person and on Zoom \n\nMeeting ID: 346 299 942\nPassword: 692401\n\nSee flyer for more information
URL:https://nj-al-anon.org/event/ewing-courage-to-change-afg-anniversary-meeting/
LOCATION:Trinity United Methodist Church\, 1985 Pennington Rd\, Ewing\, NJ\, 08618\, United States
CATEGORIES:AA Speaker,Al-Anon,Al-Anon Speaker,Anniversary Meeting,Fellowship
ATTACH;FMTTYPE=image/png:https://nj-al-anon.org/wp-content/uploads/2025/03/Ewing-AFG-Anniversary-Celebration-2025-1.png
END:VEVENT
BEGIN:VEVENT
DTSTART;TZID=America/New_York:20250424T123000
DTEND;TZID=America/New_York:20250424T140000
DTSTAMP:20260421T210637
CREATED:20250403T181132Z
LAST-MODIFIED:20250403T181132Z
UID:6531-1745497800-1745503200@nj-al-anon.org
SUMMARY:Westmont AFG Anniversary Celebration
DESCRIPTION:Anniversary Celebration for Westmont AFG \n\n12:30 pm – Food and Fellowship\n1:00 pm – Recovery Speakers\n\nSee flyer for more information
URL:https://nj-al-anon.org/event/westmont-afg-anniversary-celebration/
LOCATION:Starting Point Inc. of New Jersey\, 215 Highland Avenue\, Haddon Township\, NJ\, United States
CATEGORIES:Al-Anon,Anniversary Meeting,Fellowship,Speakers
ATTACH;FMTTYPE=image/png:https://nj-al-anon.org/wp-content/uploads/2025/04/Westmont-AFG-Anniversary-Celebration.png
END:VEVENT
BEGIN:VEVENT
DTSTART;TZID=America/New_York:20250501T183000
DTEND;TZID=America/New_York:20250501T200000
DTSTAMP:20260421T210637
CREATED:20250329T015401Z
LAST-MODIFIED:20250329T015401Z
UID:6502-1746124200-1746129600@nj-al-anon.org
SUMMARY:Serenity Seekers AFG 22nd Anniversary Celebration
DESCRIPTION:Celebrating 22 Years \n\n6:30 pm – Food & Fellowship\n7:00 pm – Al-Anon & AA Speakers\n\nSee flyer for more information
URL:https://nj-al-anon.org/event/serenity-seekers-afg-22nd-anniversary-celebration/
LOCATION:Grace Lutheran Church\, 11 East Dawes Avenue\, Somers Point\, 08244\, United States
CATEGORIES:AA Speaker,Al-Anon,Al-Anon Speaker,Anniversary Meeting,Fellowship
ATTACH;FMTTYPE=image/png:https://nj-al-anon.org/wp-content/uploads/2025/03/anniversary-flyer.png
END:VEVENT
BEGIN:VEVENT
DTSTART;TZID=America/New_York:20250501T191500
DTEND;TZID=America/New_York:20250501T203000
DTSTAMP:20260421T210637
CREATED:20250407T234331Z
LAST-MODIFIED:20250407T234331Z
UID:6536-1746126900-1746131400@nj-al-anon.org
SUMMARY:White Horse Thursday Nite AFG 43rd Anniversary
DESCRIPTION:White Horse Thursday Nite AFG 43rd Anniversary Meeting \n\nFellowship\nSpeakers\nRefreshments\n\nAll Welcome! \nSee flyer for more information
URL:https://nj-al-anon.org/event/white-horse-thursday-nite-afg-43rd-anniversary/
LOCATION:St Mark Lutheran Church\, 350 White Horse Avenue\, Hamilton\, NJ\, 08610\, United States
CATEGORIES:Al-Anon,Anniversary Meeting,Fellowship,Speakers
ATTACH;FMTTYPE=image/png:https://nj-al-anon.org/wp-content/uploads/2025/04/WHTN43_2025.png
END:VEVENT
BEGIN:VEVENT
DTSTART;TZID=America/New_York:20250518T100000
DTEND;TZID=America/New_York:20250518T110000
DTSTAMP:20260421T210637
CREATED:20250504T164530Z
LAST-MODIFIED:20250504T164530Z
UID:6578-1747562400-1747566000@nj-al-anon.org
SUMMARY:New Beginnings AFG 40th Anniversary Celebration - Hybrid
DESCRIPTION:Celebrating 40 Years! \n\nSpeakers – Al-Anon\, AA\, and Alateen\nRefreshments provided\n\nMeeting in person and on Zoom \n\nBayshore Medical Center\nZoom – Meeting Id: 839 2012 9278  Passcode: 536049\n\nSee flyer for more information
URL:https://nj-al-anon.org/event/new-beginnings-afg-40th-anniversary-celebration-hybrid/
LOCATION:Bayshore Medical Center – Conference Room A & B\, 727 North Beers Street\, Holmdel\, NJ\, 07733\, United States
CATEGORIES:AA Speaker,Al-Anon,Al-Anon Speaker,Alateen Speaker,Anniversary Meeting,Fellowship
ATTACH;FMTTYPE=image/png:https://nj-al-anon.org/wp-content/uploads/2025/05/40th-anniversary-meeting-flyer-with-zoom.png
END:VEVENT
BEGIN:VEVENT
DTSTART;TZID=America/New_York:20250531T094500
DTEND;TZID=America/New_York:20250531T111500
DTSTAMP:20260421T210637
CREATED:20250508T023608Z
LAST-MODIFIED:20250508T023608Z
UID:6613-1748684700-1748690100@nj-al-anon.org
SUMMARY:Saturday Morning AFG 41st Anniversary Meeting
DESCRIPTION:Celebrating 41 years! \n\n9:45 am – Fellowship & Refreshments\n10:15 am – Speakers\n\nSee flyer for more information
URL:https://nj-al-anon.org/event/saturday-morning-afg-41st-anniversary-meeting/
LOCATION:Saint Gregory the Great Academy\, 4680 Nottingham Way\, Hamilton\, NJ\, 08690\, United States
CATEGORIES:Al-Anon,Anniversary Meeting,Fellowship,Speakers
ATTACH;FMTTYPE=image/png:https://nj-al-anon.org/wp-content/uploads/2025/05/SM2025.png
END:VEVENT
BEGIN:VEVENT
DTSTART;TZID=America/New_York:20250602T184500
DTEND;TZID=America/New_York:20250602T203000
DTSTAMP:20260421T210637
CREATED:20250504T171608Z
LAST-MODIFIED:20250504T171608Z
UID:6587-1748889900-1748896200@nj-al-anon.org
SUMMARY:Medford Lakes AFG Anniversary Meeting
DESCRIPTION:Celebrating 44 Years! \nSpeakers\, food\, & fellowship \n\nDoors open 6:45 pm\n7:00 pm – Meeting followed by fellowship\n\nSee flyer for more information
URL:https://nj-al-anon.org/event/medford-lakes-afg-anniversary-meeting-2/
LOCATION:Cathedral in the Woods – Peabody Building\, 100 Stokes Road\, Medford Lakes\, NJ\, 08055\, United States
CATEGORIES:Al-Anon,Al-Anon Speaker,Anniversary Meeting,Fellowship
ATTACH;FMTTYPE=image/png:https://nj-al-anon.org/wp-content/uploads/2025/05/Medford-Lakes-AFG-Flyer.png
END:VEVENT
BEGIN:VEVENT
DTSTART;TZID=America/New_York:20250606T193000
DTEND;TZID=America/New_York:20250606T210000
DTSTAMP:20260421T210637
CREATED:20250512T124249Z
LAST-MODIFIED:20250512T124249Z
UID:6635-1749238200-1749243600@nj-al-anon.org
SUMMARY:Somerville Friday Night AFG 50th Anniversary
DESCRIPTION:Somerville Friday Night AFG 50th Anniversary Meeting \n\n7:30 pm – Food & Fellowship\n8:00 pm – Speakers\n\nEveryone is welcome! \nSee flyer for more information
URL:https://nj-al-anon.org/event/somerville-friday-night-afg-50th-anniversary/
LOCATION:Good Shepherd Lutheran Church\, 300 Union Avenue\, Somerville\, NJ\, 08876\, United States
CATEGORIES:Al-Anon,Anniversary Meeting,Fellowship,Speakers
ATTACH;FMTTYPE=image/png:https://nj-al-anon.org/wp-content/uploads/2025/05/Somerville-50th-Anniversary-Flyer.png
END:VEVENT
BEGIN:VEVENT
DTSTART;TZID=America/New_York:20250612T190000
DTEND;TZID=America/New_York:20250612T203000
DTSTAMP:20260421T210637
CREATED:20250531T002647Z
LAST-MODIFIED:20250531T002647Z
UID:6649-1749754800-1749760200@nj-al-anon.org
SUMMARY:The Pitman AFG 28th Anniversary Meeting
DESCRIPTION:The Pitman AFG is celebrating 28 years! \n\n7:00 PM – Fellowship & Refreshments\n7:30 PM  – Speaker Meeting\n\nSee flyer for more information
URL:https://nj-al-anon.org/event/the-pitman-afg-28th-anniversary-meeting/
LOCATION:Pitman United Methodist Church\, 758 N Broadway\, Pitman\, NJ\, 08071\, United States
CATEGORIES:Al-Anon,Al-Anon Speaker,Anniversary Meeting,Fellowship
ATTACH;FMTTYPE=image/png:https://nj-al-anon.org/wp-content/uploads/2025/05/Pitman-AFG-23rd-Anniversary-Flyer-scaled.png
END:VEVENT
BEGIN:VEVENT
DTSTART;TZID=America/New_York:20250617T183000
DTEND;TZID=America/New_York:20250617T201500
DTSTAMP:20260421T210637
CREATED:20250502T005154Z
LAST-MODIFIED:20250502T005154Z
UID:6573-1750185000-1750191300@nj-al-anon.org
SUMMARY:Key to Harmony AFG 23rd Anniversary Meeting
DESCRIPTION:Celebrating 23 years! \n\n6:30 pm – Fellowship & Refreshments\n7:00  pm – 8:15pm – Meeting\n\nSee flyer for more information
URL:https://nj-al-anon.org/event/key-to-harmony-afg-23rd-anniversary-meeting/
LOCATION:Richwood United Methodist Church – Fellowship Hall\, 111 Richwood Rd\, Richwood\, NJ\, 08074\, United States
CATEGORIES:Al-Anon,Anniversary Meeting,Fellowship
ATTACH;FMTTYPE=image/png:https://nj-al-anon.org/wp-content/uploads/2025/05/Al-anon-Blue-and-White-Sky-Photo-Church-Anniversary-Flyer.png
END:VEVENT
END:VCALENDAR