BEGIN:VCALENDAR
VERSION:2.0
PRODID:-//New Jersey Al-Anon Family Groups - ECPv6.15.20//NONSGML v1.0//EN
CALSCALE:GREGORIAN
METHOD:PUBLISH
X-ORIGINAL-URL:https://nj-al-anon.org
X-WR-CALDESC:Events for New Jersey Al-Anon Family Groups
REFRESH-INTERVAL;VALUE=DURATION:PT1H
X-Robots-Tag:noindex
X-PUBLISHED-TTL:PT1H
BEGIN:VTIMEZONE
TZID:America/New_York
BEGIN:DAYLIGHT
TZOFFSETFROM:-0500
TZOFFSETTO:-0400
TZNAME:EDT
DTSTART:20240310T070000
END:DAYLIGHT
BEGIN:STANDARD
TZOFFSETFROM:-0400
TZOFFSETTO:-0500
TZNAME:EST
DTSTART:20241103T060000
END:STANDARD
BEGIN:DAYLIGHT
TZOFFSETFROM:-0500
TZOFFSETTO:-0400
TZNAME:EDT
DTSTART:20250309T070000
END:DAYLIGHT
BEGIN:STANDARD
TZOFFSETFROM:-0400
TZOFFSETTO:-0500
TZNAME:EST
DTSTART:20251102T060000
END:STANDARD
BEGIN:DAYLIGHT
TZOFFSETFROM:-0500
TZOFFSETTO:-0400
TZNAME:EDT
DTSTART:20260308T070000
END:DAYLIGHT
BEGIN:STANDARD
TZOFFSETFROM:-0400
TZOFFSETTO:-0500
TZNAME:EST
DTSTART:20261101T060000
END:STANDARD
END:VTIMEZONE
BEGIN:VEVENT
DTSTART;TZID=America/New_York:20250224T191500
DTEND;TZID=America/New_York:20250224T203000
DTSTAMP:20260426T003906
CREATED:20250205T143442Z
LAST-MODIFIED:20250205T144446Z
UID:6394-1740424500-1740429000@nj-al-anon.org
SUMMARY:North Brunswick Monday Night Courage to Change AFG 30th Anniversary Celebration
DESCRIPTION:North Brunswick Monday Night Courage to Change AFG \n30th Anniversary Celebration \n\nAA Speaker\nAl-Anon Speaker\nFellowship\nPotluck\n\n7:15 pm Fellowship; 7:30 pm Meeting \nPlease note: Meeting is in the Church Annex \nPlease see flyer for more information
URL:https://nj-al-anon.org/event/north-brunswick-monday-night-courage-to-change-afg-30th-anniversary-celebration/
LOCATION:Our Lady of Peace Church – Annex\, 1730 US-130\, North Brunswick\, NJ\, 08902\, United States
CATEGORIES:A.A. Speaker,Al-Anon,Al-Anon Speaker,Anniversary Meeting,Fellowship,Speakers
ATTACH;FMTTYPE=application/pdf:https://nj-al-anon.org/wp-content/uploads/2025/02/2025-Monday-Anniversary-Flyer.pdf
END:VEVENT
BEGIN:VEVENT
DTSTART;TZID=America/New_York:20250224T194500
DTEND;TZID=America/New_York:20250224T211500
DTSTAMP:20260426T003906
CREATED:20250119T005252Z
LAST-MODIFIED:20250119T005252Z
UID:6367-1740426300-1740431700@nj-al-anon.org
SUMMARY:Cranbury Stepping Stones AFG 57th Anniversary Celebration
DESCRIPTION:Cranbury Stepping Stones AFG \n57th Anniversary Celebration \n\nAl-Anon Speaker\nAA Speaker\nRefreshments\n\n7:45 pm Fellowship; 8:00 pm Speakers \nPlease note: Meeting is in the white fellowship hall building to the right of the Presbyterian Church. \nSee flyer for more information.
URL:https://nj-al-anon.org/event/cranbury-stepping-stones-afg-57th-anniversary-celebration/
LOCATION:Cranbury First Presbyterian Church\, 22 South Main Street\, Cranbury\, NJ\, 08512\, United States
CATEGORIES:A.A. Speaker,Al-Anon,Al-Anon Speaker,Anniversary Meeting,Fellowship,Speakers
ATTACH;FMTTYPE=application/pdf:https://nj-al-anon.org/wp-content/uploads/2025/01/Cranbury-Stepping-Stones-2025-Anniversary.pdf
END:VEVENT
BEGIN:VEVENT
DTSTART;TZID=America/New_York:20250310T193000
DTEND;TZID=America/New_York:20250310T210000
DTSTAMP:20260426T003906
CREATED:20250202T193816Z
LAST-MODIFIED:20250202T193816Z
UID:6386-1741635000-1741640400@nj-al-anon.org
SUMMARY:Morristown AFG 13th Anniversary Speaker Meeting
DESCRIPTION:Morristown AFG \n13th Anniversary Speaker Meeting \n\nAl-Anon and AA speakers\nLight refreshments\n\nPlease enter through back door from parking lot. \nSee flyer for more information
URL:https://nj-al-anon.org/event/morristown-afg-13th-anniversary-speaker-meeting/
LOCATION:Assumption Church\, 91 Maple Avenue\, Morristown\, NJ\, 07960\, United States
CATEGORIES:A.A. Speaker,Al-Anon,Al-Anon Speaker,Anniversary Meeting,Fellowship
ATTACH;FMTTYPE=application/pdf:https://nj-al-anon.org/wp-content/uploads/2025/02/Morristown-Monday-730pm-Anniversary-Meeting-2025-flyer-draft-1-3.pdf
END:VEVENT
BEGIN:VEVENT
DTSTART;TZID=America/New_York:20250405T080000
DTEND;TZID=America/New_York:20250405T140000
DTSTAMP:20260426T003906
CREATED:20241024T212724Z
LAST-MODIFIED:20241024T212811Z
UID:6255-1743840000-1743861600@nj-al-anon.org
SUMMARY:Al-Anon District 2: Day of Sharing 2025 - Save the Date!
DESCRIPTION:Save the Date!\nAl-Anon District 2 invites you to: Day of Sharing 2025 \n\nSmall group topic sessions\nAl-Anon\, AA and Alateen speakers\nLight breakfast and refreshments\n\nMore to follow! \nSee flyer for details!
URL:https://nj-al-anon.org/event/al-anon-district-2-day-of-sharing-2025-save-the-date/
LOCATION:Resurrection Church\, 651 Millbrook Avenue\, Randolph\, NJ\, 07869\, United States
CATEGORIES:A.A. Speaker,Al-Anon,Al-Anon Speaker,Alateen,Alateen Speaker,Day of Sharing,Discussion Groups,Fellowship,Speakers
ATTACH;FMTTYPE=application/pdf:https://nj-al-anon.org/wp-content/uploads/2024/10/SAVE_THE_DATE-Day-of-Sharing-2025-FINAL-rev.pdf
END:VEVENT
END:VCALENDAR