BEGIN:VCALENDAR
VERSION:2.0
PRODID:-//New Jersey Al-Anon Family Groups - ECPv6.15.20//NONSGML v1.0//EN
CALSCALE:GREGORIAN
METHOD:PUBLISH
X-ORIGINAL-URL:https://nj-al-anon.org
X-WR-CALDESC:Events for New Jersey Al-Anon Family Groups
REFRESH-INTERVAL;VALUE=DURATION:PT1H
X-Robots-Tag:noindex
X-PUBLISHED-TTL:PT1H
BEGIN:VTIMEZONE
TZID:America/New_York
BEGIN:DAYLIGHT
TZOFFSETFROM:-0500
TZOFFSETTO:-0400
TZNAME:EDT
DTSTART:20250309T070000
END:DAYLIGHT
BEGIN:STANDARD
TZOFFSETFROM:-0400
TZOFFSETTO:-0500
TZNAME:EST
DTSTART:20251102T060000
END:STANDARD
BEGIN:DAYLIGHT
TZOFFSETFROM:-0500
TZOFFSETTO:-0400
TZNAME:EDT
DTSTART:20260308T070000
END:DAYLIGHT
BEGIN:STANDARD
TZOFFSETFROM:-0400
TZOFFSETTO:-0500
TZNAME:EST
DTSTART:20261101T060000
END:STANDARD
BEGIN:DAYLIGHT
TZOFFSETFROM:-0500
TZOFFSETTO:-0400
TZNAME:EDT
DTSTART:20270314T070000
END:DAYLIGHT
BEGIN:STANDARD
TZOFFSETFROM:-0400
TZOFFSETTO:-0500
TZNAME:EST
DTSTART:20271107T060000
END:STANDARD
END:VTIMEZONE
BEGIN:VEVENT
DTSTART;TZID=America/New_York:20260502T110000
DTEND;TZID=America/New_York:20260502T150000
DTSTAMP:20260422T054826
CREATED:20260114T231316Z
LAST-MODIFIED:20260408T211515Z
UID:6908-1777719600-1777734000@nj-al-anon.org
SUMMARY:NJ AWSC Meeting - Hybrid
DESCRIPTION:Area World Service Committee (AWSC): Attended by District Representatives\, Liaisons\, Al-Anon Reps to AA Conventions\, Coordinators\, Officers\, and Past Delegates.  Here the agenda will be set for the Assembly Meeting. \n\nPhysical Location – Stone Hill Church\, 1025 Bunn Drive\, Princeton\, NJ 08540\nZoom Meeting\nMeeting ID: 845 8161 8051\nPasscode: AWSC\nClick here to join Zoom meeting\n\n 
URL:https://nj-al-anon.org/event/nj-awsc-meeting-save-the-date/
LOCATION:NJ
CATEGORIES:Al-Anon,AWSC
END:VEVENT
END:VCALENDAR