BEGIN:VCALENDAR
VERSION:2.0
PRODID:-//New Jersey Al-Anon Family Groups - ECPv6.15.20//NONSGML v1.0//EN
CALSCALE:GREGORIAN
METHOD:PUBLISH
X-ORIGINAL-URL:https://nj-al-anon.org
X-WR-CALDESC:Events for New Jersey Al-Anon Family Groups
REFRESH-INTERVAL;VALUE=DURATION:PT1H
X-Robots-Tag:noindex
X-PUBLISHED-TTL:PT1H
BEGIN:VTIMEZONE
TZID:America/New_York
BEGIN:DAYLIGHT
TZOFFSETFROM:-0500
TZOFFSETTO:-0400
TZNAME:EDT
DTSTART:20250309T070000
END:DAYLIGHT
BEGIN:STANDARD
TZOFFSETFROM:-0400
TZOFFSETTO:-0500
TZNAME:EST
DTSTART:20251102T060000
END:STANDARD
BEGIN:DAYLIGHT
TZOFFSETFROM:-0500
TZOFFSETTO:-0400
TZNAME:EDT
DTSTART:20260308T070000
END:DAYLIGHT
BEGIN:STANDARD
TZOFFSETFROM:-0400
TZOFFSETTO:-0500
TZNAME:EST
DTSTART:20261101T060000
END:STANDARD
BEGIN:DAYLIGHT
TZOFFSETFROM:-0500
TZOFFSETTO:-0400
TZNAME:EDT
DTSTART:20270314T070000
END:DAYLIGHT
BEGIN:STANDARD
TZOFFSETFROM:-0400
TZOFFSETTO:-0500
TZNAME:EST
DTSTART:20271107T060000
END:STANDARD
END:VTIMEZONE
BEGIN:VEVENT
DTSTART;VALUE=DATE:20260425
DTEND;VALUE=DATE:20260426
DTSTAMP:20260422T054733
CREATED:20251121T223608Z
LAST-MODIFIED:20260131T180615Z
UID:6860-1777075200-1777161599@nj-al-anon.org
SUMMARY:Al-Anon’s 75th Anniversary Celebration
DESCRIPTION:You are invited to a special celebration for Al-Anon Family Groups’ 75th Anniversary!\n  \nWSO Open House\n12:00 -3:00 PM \n1600 Corporate Landing Parkway\nVirginia Beach\, Virginia \n  \n75th Anniversary Gala Banquet\n6:00 – 10:00 PM \nNewport News Marriott at City Center\nNewport News\, Virginia \nGala Banquet tickets available starting November 12\, 2025 \n$75 per person\, first-come\, first-served;  Seating is limited \nClick here for more information \n  \n 
URL:https://nj-al-anon.org/event/al-anons-75th-anniversary-celebration/
LOCATION:NJ
CATEGORIES:Al-Anon
ATTACH;FMTTYPE=image/png:https://nj-al-anon.org/wp-content/uploads/2025/11/75-Years-Anniversary-AD-FEB2026.png
END:VEVENT
BEGIN:VEVENT
DTSTART;TZID=America/New_York:20260425T110000
DTEND;TZID=America/New_York:20260425T160000
DTSTAMP:20260422T054733
CREATED:20260120T112120Z
LAST-MODIFIED:20260120T112120Z
UID:6921-1777114800-1777132800@nj-al-anon.org
SUMMARY:District 4 Day of Sharing
DESCRIPTION:All are invited to District 4 Day of Sharing \nTheme – Sowing the Seeds of Recovery \nEnjoy Two Sessions\, Speakers\, and Fellowship \nPlease see flyer for more information
URL:https://nj-al-anon.org/event/district-4-day-of-sharing/
LOCATION:Saint Michael’s School Cafeteria\, 40 Alden Street\, Cranford\, NJ\, United States
CATEGORIES:Al-Anon,Al-Anon Speaker,Day of Sharing,Fellowship
ATTACH;FMTTYPE=application/pdf:https://nj-al-anon.org/wp-content/uploads/2026/01/D4-Day-of-Sharing-Updated-Colors.pdf
END:VEVENT
END:VCALENDAR