BEGIN:VCALENDAR
VERSION:2.0
PRODID:-//New Jersey Al-Anon Family Groups - ECPv6.15.20//NONSGML v1.0//EN
CALSCALE:GREGORIAN
METHOD:PUBLISH
X-WR-CALNAME:New Jersey Al-Anon Family Groups
X-ORIGINAL-URL:https://nj-al-anon.org
X-WR-CALDESC:Events for New Jersey Al-Anon Family Groups
REFRESH-INTERVAL;VALUE=DURATION:PT1H
X-Robots-Tag:noindex
X-PUBLISHED-TTL:PT1H
BEGIN:VTIMEZONE
TZID:America/New_York
BEGIN:DAYLIGHT
TZOFFSETFROM:-0500
TZOFFSETTO:-0400
TZNAME:EDT
DTSTART:20250309T070000
END:DAYLIGHT
BEGIN:STANDARD
TZOFFSETFROM:-0400
TZOFFSETTO:-0500
TZNAME:EST
DTSTART:20251102T060000
END:STANDARD
BEGIN:DAYLIGHT
TZOFFSETFROM:-0500
TZOFFSETTO:-0400
TZNAME:EDT
DTSTART:20260308T070000
END:DAYLIGHT
BEGIN:STANDARD
TZOFFSETFROM:-0400
TZOFFSETTO:-0500
TZNAME:EST
DTSTART:20261101T060000
END:STANDARD
BEGIN:DAYLIGHT
TZOFFSETFROM:-0500
TZOFFSETTO:-0400
TZNAME:EDT
DTSTART:20270314T070000
END:DAYLIGHT
BEGIN:STANDARD
TZOFFSETFROM:-0400
TZOFFSETTO:-0500
TZNAME:EST
DTSTART:20271107T060000
END:STANDARD
END:VTIMEZONE
BEGIN:VEVENT
DTSTART;TZID=America/New_York:20260420T191500
DTEND;TZID=America/New_York:20260420T203000
DTSTAMP:20260420T013627
CREATED:20260313T232924Z
LAST-MODIFIED:20260313T232924Z
UID:7039-1776712500-1776717000@nj-al-anon.org
SUMMARY:Monday Night Courage to Change AFG Anniversary Meeting
DESCRIPTION:Celebrate & Share Experience\, Strength\, & Hope \nAll Al-Anon Friends and Families welcome! \nSee flyer for more information
URL:https://nj-al-anon.org/event/monday-night-courage-to-change-afg-anniversary-meeting/
LOCATION:Our Lady of Peace Church – Annex\, 1730 US-130\, North Brunswick\, NJ\, 08902\, United States
CATEGORIES:Al-Anon,Anniversary Meeting,Fellowship
ATTACH;FMTTYPE=application/pdf:https://nj-al-anon.org/wp-content/uploads/2026/03/5196044969284448305001.pdf
END:VEVENT
END:VCALENDAR