BEGIN:VCALENDAR
VERSION:2.0
PRODID:-//New Jersey Al-Anon Family Groups - ECPv6.15.20//NONSGML v1.0//EN
CALSCALE:GREGORIAN
METHOD:PUBLISH
X-ORIGINAL-URL:https://nj-al-anon.org
X-WR-CALDESC:Events for New Jersey Al-Anon Family Groups
REFRESH-INTERVAL;VALUE=DURATION:PT1H
X-Robots-Tag:noindex
X-PUBLISHED-TTL:PT1H
BEGIN:VTIMEZONE
TZID:America/New_York
BEGIN:DAYLIGHT
TZOFFSETFROM:-0500
TZOFFSETTO:-0400
TZNAME:EDT
DTSTART:20240310T070000
END:DAYLIGHT
BEGIN:STANDARD
TZOFFSETFROM:-0400
TZOFFSETTO:-0500
TZNAME:EST
DTSTART:20241103T060000
END:STANDARD
BEGIN:DAYLIGHT
TZOFFSETFROM:-0500
TZOFFSETTO:-0400
TZNAME:EDT
DTSTART:20250309T070000
END:DAYLIGHT
BEGIN:STANDARD
TZOFFSETFROM:-0400
TZOFFSETTO:-0500
TZNAME:EST
DTSTART:20251102T060000
END:STANDARD
BEGIN:DAYLIGHT
TZOFFSETFROM:-0500
TZOFFSETTO:-0400
TZNAME:EDT
DTSTART:20260308T070000
END:DAYLIGHT
BEGIN:STANDARD
TZOFFSETFROM:-0400
TZOFFSETTO:-0500
TZNAME:EST
DTSTART:20261101T060000
END:STANDARD
END:VTIMEZONE
BEGIN:VEVENT
DTSTART;TZID=America/New_York:20250925T180000
DTEND;TZID=America/New_York:20250925T200000
DTSTAMP:20260421T130039
CREATED:20250830T213603Z
LAST-MODIFIED:20250830T213603Z
UID:6728-1758823200-1758830400@nj-al-anon.org
SUMMARY:Palmyra Serenity AFG 25th Anniversary Meeting
DESCRIPTION:Celebrating 25 years! \n\n6:00 pm Fellowship\n7:00 pm Guest Speakers\n\nSee flyer for more information
URL:https://nj-al-anon.org/event/palmyra-serenity-afg-25th-anniversary-meeting/
LOCATION:Epworth United Methodist Church\, 501 Morgan Avenue\, Palmyra\, NJ\, 08065\, United States
CATEGORIES:Al-Anon,Al-Anon Speaker,Anniversary Meeting,Fellowship
ATTACH;FMTTYPE=application/pdf:https://nj-al-anon.org/wp-content/uploads/2025/08/Palmyra-Serenity-25-September-2025-v2-1.pdf
END:VEVENT
END:VCALENDAR