BEGIN:VCALENDAR
VERSION:2.0
PRODID:-//New Jersey Al-Anon Family Groups - ECPv6.15.20//NONSGML v1.0//EN
CALSCALE:GREGORIAN
METHOD:PUBLISH
X-WR-CALNAME:New Jersey Al-Anon Family Groups
X-ORIGINAL-URL:https://nj-al-anon.org
X-WR-CALDESC:Events for New Jersey Al-Anon Family Groups
REFRESH-INTERVAL;VALUE=DURATION:PT1H
X-Robots-Tag:noindex
X-PUBLISHED-TTL:PT1H
BEGIN:VTIMEZONE
TZID:America/New_York
BEGIN:DAYLIGHT
TZOFFSETFROM:-0500
TZOFFSETTO:-0400
TZNAME:EDT
DTSTART:20240310T070000
END:DAYLIGHT
BEGIN:STANDARD
TZOFFSETFROM:-0400
TZOFFSETTO:-0500
TZNAME:EST
DTSTART:20241103T060000
END:STANDARD
BEGIN:DAYLIGHT
TZOFFSETFROM:-0500
TZOFFSETTO:-0400
TZNAME:EDT
DTSTART:20250309T070000
END:DAYLIGHT
BEGIN:STANDARD
TZOFFSETFROM:-0400
TZOFFSETTO:-0500
TZNAME:EST
DTSTART:20251102T060000
END:STANDARD
BEGIN:DAYLIGHT
TZOFFSETFROM:-0500
TZOFFSETTO:-0400
TZNAME:EDT
DTSTART:20260308T070000
END:DAYLIGHT
BEGIN:STANDARD
TZOFFSETFROM:-0400
TZOFFSETTO:-0500
TZNAME:EST
DTSTART:20261101T060000
END:STANDARD
END:VTIMEZONE
BEGIN:VEVENT
DTSTART;TZID=America/New_York:20250612T190000
DTEND;TZID=America/New_York:20250612T203000
DTSTAMP:20260421T054834
CREATED:20250531T002647Z
LAST-MODIFIED:20250531T002647Z
UID:6649-1749754800-1749760200@nj-al-anon.org
SUMMARY:The Pitman AFG 28th Anniversary Meeting
DESCRIPTION:The Pitman AFG is celebrating 28 years! \n\n7:00 PM – Fellowship & Refreshments\n7:30 PM  – Speaker Meeting\n\nSee flyer for more information
URL:https://nj-al-anon.org/event/the-pitman-afg-28th-anniversary-meeting/
LOCATION:Pitman United Methodist Church\, 758 N Broadway\, Pitman\, NJ\, 08071\, United States
CATEGORIES:Al-Anon,Al-Anon Speaker,Anniversary Meeting,Fellowship
ATTACH;FMTTYPE=image/png:https://nj-al-anon.org/wp-content/uploads/2025/05/Pitman-AFG-23rd-Anniversary-Flyer-scaled.png
END:VEVENT
END:VCALENDAR