BEGIN:VCALENDAR
VERSION:2.0
PRODID:-//New Jersey Al-Anon Family Groups - ECPv6.15.20//NONSGML v1.0//EN
CALSCALE:GREGORIAN
METHOD:PUBLISH
X-ORIGINAL-URL:https://nj-al-anon.org
X-WR-CALDESC:Events for New Jersey Al-Anon Family Groups
REFRESH-INTERVAL;VALUE=DURATION:PT1H
X-Robots-Tag:noindex
X-PUBLISHED-TTL:PT1H
BEGIN:VTIMEZONE
TZID:America/New_York
BEGIN:DAYLIGHT
TZOFFSETFROM:-0500
TZOFFSETTO:-0400
TZNAME:EDT
DTSTART:20240310T070000
END:DAYLIGHT
BEGIN:STANDARD
TZOFFSETFROM:-0400
TZOFFSETTO:-0500
TZNAME:EST
DTSTART:20241103T060000
END:STANDARD
BEGIN:DAYLIGHT
TZOFFSETFROM:-0500
TZOFFSETTO:-0400
TZNAME:EDT
DTSTART:20250309T070000
END:DAYLIGHT
BEGIN:STANDARD
TZOFFSETFROM:-0400
TZOFFSETTO:-0500
TZNAME:EST
DTSTART:20251102T060000
END:STANDARD
BEGIN:DAYLIGHT
TZOFFSETFROM:-0500
TZOFFSETTO:-0400
TZNAME:EDT
DTSTART:20260308T070000
END:DAYLIGHT
BEGIN:STANDARD
TZOFFSETFROM:-0400
TZOFFSETTO:-0500
TZNAME:EST
DTSTART:20261101T060000
END:STANDARD
END:VTIMEZONE
BEGIN:VEVENT
DTSTART;TZID=America/New_York:20250515T190000
DTEND;TZID=America/New_York:20250515T203000
DTSTAMP:20260421T043056
CREATED:20250511T104042Z
LAST-MODIFIED:20250511T104042Z
UID:6620-1747335600-1747341000@nj-al-anon.org
SUMMARY:District 6 Al-Anon Virtual Writing Workshop
DESCRIPTION:Workshop – Understanding Al-Anon’s Service Structure and 7th Tradition \nWriters Wanted!  Workshop will feature writing guidelines\, a practice writing session\, and the sharings of other writers. \nMeeting ID: 839 2012 9278   Passcode: 536049 \nSee flyer for more information
URL:https://nj-al-anon.org/event/district-6-al-anon-virtual-writing-workshop/
LOCATION:Zoom
CATEGORIES:Al-Anon,Virtual,Workshop
ATTACH;FMTTYPE=image/png:https://nj-al-anon.org/wp-content/uploads/2025/05/WorkshopFlyer1.png
END:VEVENT
END:VCALENDAR