BEGIN:VCALENDAR
VERSION:2.0
PRODID:-//New Jersey Al-Anon Family Groups - ECPv6.15.20//NONSGML v1.0//EN
CALSCALE:GREGORIAN
METHOD:PUBLISH
X-WR-CALNAME:New Jersey Al-Anon Family Groups
X-ORIGINAL-URL:https://nj-al-anon.org
X-WR-CALDESC:Events for New Jersey Al-Anon Family Groups
REFRESH-INTERVAL;VALUE=DURATION:PT1H
X-Robots-Tag:noindex
X-PUBLISHED-TTL:PT1H
BEGIN:VTIMEZONE
TZID:America/New_York
BEGIN:DAYLIGHT
TZOFFSETFROM:-0500
TZOFFSETTO:-0400
TZNAME:EDT
DTSTART:20240310T070000
END:DAYLIGHT
BEGIN:STANDARD
TZOFFSETFROM:-0400
TZOFFSETTO:-0500
TZNAME:EST
DTSTART:20241103T060000
END:STANDARD
BEGIN:DAYLIGHT
TZOFFSETFROM:-0500
TZOFFSETTO:-0400
TZNAME:EDT
DTSTART:20250309T070000
END:DAYLIGHT
BEGIN:STANDARD
TZOFFSETFROM:-0400
TZOFFSETTO:-0500
TZNAME:EST
DTSTART:20251102T060000
END:STANDARD
BEGIN:DAYLIGHT
TZOFFSETFROM:-0500
TZOFFSETTO:-0400
TZNAME:EDT
DTSTART:20260308T070000
END:DAYLIGHT
BEGIN:STANDARD
TZOFFSETFROM:-0400
TZOFFSETTO:-0500
TZNAME:EST
DTSTART:20261101T060000
END:STANDARD
END:VTIMEZONE
BEGIN:VEVENT
DTSTART;TZID=America/New_York:20250301T100000
DTEND;TZID=America/New_York:20250301T150000
DTSTAMP:20260421T041703
CREATED:20250111T145718Z
LAST-MODIFIED:20250309T215308Z
UID:6349-1740823200-1740841200@nj-al-anon.org
SUMMARY:NJ Area Assembly Meeting - Virtual
DESCRIPTION:Assembly: The business meeting where Group Representatives (GRs) from around the state express their voice and vote on behalf of their Group. \nAll Al-Anon and Alateen members are welcome. Don’t forget to bring your Service Manual! \nClick here to Join Zoom Meeting \nMeeting ID: 871 6956 8340 \nPasscode: 368597 \nClick here for the Alagram Winter 2025 Newsletter
URL:https://nj-al-anon.org/event/nj-area-assembly-meeting-6/
LOCATION:Zoom – See Link in Description
CATEGORIES:Al-Anon,Area Assembly,Fellowship,Group Representative,Service,Virtual
END:VEVENT
END:VCALENDAR